BEGIN:VCALENDAR
VERSION:2.0
PRODID:-//Eventi in Toscana By Toscana Tascabile - ECPv6.15.12.2//NONSGML v1.0//EN
CALSCALE:GREGORIAN
METHOD:PUBLISH
X-WR-CALNAME:Eventi in Toscana By Toscana Tascabile
X-ORIGINAL-URL:https://www.eventiintoscana.it
X-WR-CALDESC:Eventi per Eventi in Toscana By Toscana Tascabile
REFRESH-INTERVAL;VALUE=DURATION:PT1H
X-Robots-Tag:noindex
X-PUBLISHED-TTL:PT1H
BEGIN:VTIMEZONE
TZID:Europe/Rome
BEGIN:DAYLIGHT
TZOFFSETFROM:+0100
TZOFFSETTO:+0200
TZNAME:CEST
DTSTART:20180325T010000
END:DAYLIGHT
BEGIN:STANDARD
TZOFFSETFROM:+0200
TZOFFSETTO:+0100
TZNAME:CET
DTSTART:20181028T010000
END:STANDARD
BEGIN:DAYLIGHT
TZOFFSETFROM:+0100
TZOFFSETTO:+0200
TZNAME:CEST
DTSTART:20190331T010000
END:DAYLIGHT
BEGIN:STANDARD
TZOFFSETFROM:+0200
TZOFFSETTO:+0100
TZNAME:CET
DTSTART:20191027T010000
END:STANDARD
BEGIN:DAYLIGHT
TZOFFSETFROM:+0100
TZOFFSETTO:+0200
TZNAME:CEST
DTSTART:20200329T010000
END:DAYLIGHT
BEGIN:STANDARD
TZOFFSETFROM:+0200
TZOFFSETTO:+0100
TZNAME:CET
DTSTART:20201025T010000
END:STANDARD
END:VTIMEZONE
BEGIN:VEVENT
DTSTART;TZID=Europe/Rome:20191013T090000
DTEND;TZID=Europe/Rome:20191013T200000
DTSTAMP:20260424T041930
CREATED:20191009T070442Z
LAST-MODIFIED:20191009T070442Z
UID:279824-1570957200-1570996800@www.eventiintoscana.it
SUMMARY:Passioni d'autunno - Vergaio (Prato)
DESCRIPTION:Domenica 13 Ottobre presso Piazza della Chiesa a Vergaio si tiene la Festa del Cioccolato e delle Castagne Passioni d’Autunno.\nIl Cioccolato d’Autore\, quello artigianale\, sarà il goloso protagonista della kermesse\, dalle ore 9 alle 20\, assieme alle Caldarroste del Monte Amiata\, primizia stagionale\, in abbinamento con il Vino delle Fattorie Vitivinicole di eccellenza. \nLa nota ed attesa manifestazione organizzata dalla ProLoco Comitato Feste Vergaio\, a ingresso libero\, conta ogni anno un numero crescente di espositori e di pubblico\, grazie anche alle novità che di anno in anno vanno ad arricchire il palinsesto dell’evento. \nImmancabile la mostra mercato\, ricca della presenza di vari settori merceologici\, con particolare attenzione alle peculiarità artigianali toscane\, mentre nella piazza principale si disporranno i migliori Maestri Cioccolatai nazionali\, non ultimi quelli della Toscana\, regione che si distingue da tempo proprio per la creatività\, l’artigianalità\, la ricerca e l’alta qualità nella produzione di cioccolato\, che presenteranno i loro prodotti più ricercati con degustazioni guidate e dimostrazioni. \nInnanzitutto lo spazio espositivo si espanderà anche lungo Via di Vergaio e parte di Via Tobbianese fino a Via di Reggiana\, in modo tale da accogliere oltre gli di estimatori del “Dolce Oro Nero”\, delle Castagne e del Vino buono\, anche espositori di vari settori merceologici\, con particolare attenzione alle peculiarità artigianali toscane. \nLa giornata\, come di consueto\, sarà animata da numerose attività rivolte ai giovani e ai meno giovani. \nLa mostra mercato “Passioni d’autunno”\, è un appuntamento da non perdere\, che vedrà protagonisti i migliori produttori artigianali nazionali. Non mancheranno certo i Maestri Cioccolatai della Toscana\, regione che si distingue da tempo proprio per la creatività\, l’artigianalità\, la ricerca e l’alta qualità nella produzione di cioccolato. \nI produttori artigiani di cioccolato occuperanno apposite tensostrutture e presenteranno i loro prodotti più ricercati con degustazioni guidate e dimostrazioni.
URL:https://www.eventiintoscana.it/evento/passioni-dautunno-vergaio-prato
LOCATION:Luogo Senza Nome\, Piazza della Chiesa\, Vergaio (Prato)
CATEGORIES:Prato,Rassegne e Sagre
ATTACH;FMTTYPE=image/jpeg:https://www.eventiintoscana.it/wp-content/uploads/2018/02/28193__cioccolato5.jpg
END:VEVENT
END:VCALENDAR