BEGIN:VCALENDAR
VERSION:2.0
PRODID:-//Eventi in Toscana By Toscana Tascabile - ECPv6.15.12.2//NONSGML v1.0//EN
CALSCALE:GREGORIAN
METHOD:PUBLISH
X-ORIGINAL-URL:https://www.eventiintoscana.it
X-WR-CALDESC:Eventi per Eventi in Toscana By Toscana Tascabile
REFRESH-INTERVAL;VALUE=DURATION:PT1H
X-Robots-Tag:noindex
X-PUBLISHED-TTL:PT1H
BEGIN:VTIMEZONE
TZID:Europe/Rome
BEGIN:DAYLIGHT
TZOFFSETFROM:+0100
TZOFFSETTO:+0200
TZNAME:CEST
DTSTART:20200329T010000
END:DAYLIGHT
BEGIN:STANDARD
TZOFFSETFROM:+0200
TZOFFSETTO:+0100
TZNAME:CET
DTSTART:20201025T010000
END:STANDARD
BEGIN:DAYLIGHT
TZOFFSETFROM:+0100
TZOFFSETTO:+0200
TZNAME:CEST
DTSTART:20210328T010000
END:DAYLIGHT
BEGIN:STANDARD
TZOFFSETFROM:+0200
TZOFFSETTO:+0100
TZNAME:CET
DTSTART:20211031T010000
END:STANDARD
BEGIN:DAYLIGHT
TZOFFSETFROM:+0100
TZOFFSETTO:+0200
TZNAME:CEST
DTSTART:20220327T010000
END:DAYLIGHT
BEGIN:STANDARD
TZOFFSETFROM:+0200
TZOFFSETTO:+0100
TZNAME:CET
DTSTART:20221030T010000
END:STANDARD
END:VTIMEZONE
BEGIN:VEVENT
DTSTART;TZID=Europe/Rome:20210515T110000
DTEND;TZID=Europe/Rome:20210530T200000
DTSTAMP:20260421T175130
CREATED:20210513T194353Z
LAST-MODIFIED:20210630T134115Z
UID:289702-1621076400-1622404800@www.eventiintoscana.it
SUMMARY:Passeggiate\, visite guidate e caccia al tesoro - Parco d'Arte Pazzagli\, Firenze
DESCRIPTION:Per tutte le domeniche di maggio passeggiate nel verde\,  visite guidate\, picnic\, caccia al tesoro\, promozioni per le famiglie\,  area giochi per bambini al Parco d’Arte Enzo Pazzagli di Firenze. \nNel Parco Pazzagli si potrà passare una bella giornata all’aperto\,  godere dei benefici del verde e del sole\, passeggiare nella natura circondati da sculture di Arte Contemporanea. \nIl Parco è ampio due ettari e mezzo\,  garantisce il distanziamento sociale. \nInoltre le famiglie con bambini potranno usufruire dell’area giochi e delle  promozioni a loro riservate. \nE giocare alla “Caccia al Tesoro” fra le sculture del Parco! \nLa Caccia al Tesoro si svolge in sicurezza. Ogni famiglia giocherà in modo indipendente\, nell’orario che preferisce con partenza ogni ora\, su prenotazione. \nAd ogni nucleo familiare sarà dato un indizio fotografico che li porterà di statua in statua (alla base di ogni statua c’è la fotografia della statua successiva da ricordare a memoria o fotografare per passare alla successiva.) \n\n\nSarà Anche possibile fare picnic con le proprie vivande e telo\,  oppure usufruire di tavoli e sedie messi a disposizione su prenotazione. \n\nIl Parco d’Arte Enzo Pazzagli è uno dei più importanti Parchi scultura della Toscana\, nel quale sono presenti oltre 250 opere del Maestro Enzo Pazzagli.\nIl Parco stesso è un’opera di Land Art\,  300 cipressi creano una delle sculture viventi più grandi al mondo intitolata “La Trinità”\, poichè formano tre visi. \nUn’opera che si può ammirare in tutta la sua grandezza (15000 metri quadrati) solo guardandola dall’alto o su Google Earth\, ma che comunque si apprezza anche camminando fra gli alberi. \n\nIl Parco si trova in Via Sant’Andrea a Rovezzano 5\, Firenze.\n\nORARIO DI MAGGIO\nIl Parco sarà aperto\nSabato e Domenica\nore 11 – 20\nIngresso su prenotazione.\n(In caso di pioggia il Parco resterà chiuso.Inviare un messaggio per avere conferma sull’apertura)\n\nVISITE GUIDATE \n\nSabato e domenica ore 12:00 e 17:00 (Durata 1 ora).  Su prenotazione. \nCONTRIBUTO DI INGRESSO \n\n\n\n\n\n\n– 5€ a persona.\n– 7€ a persona con visita guidata\n– Gratuito per bambini sotto 2 anni e persone diversamente abili.\n\nPROMOZIONE FAMIGLIA\n– 10 € tutta la famiglia (genitori con minori)\n– 15€ ingresso famiglia con Caccia al Tesoro e Visita Guidata  (genitori con minori)\n\nPer prenotare\ninviare un messaggio WhatsApp al 3477335332\no scrivere a info.ecorinascimento@gmail.com\n\nPer accedere al Parco è necessario iscriversi all’Associazione “EcoRinascimento” (per l’iscrizione e la tessera personale annuale basta versare un contributo simbolico di 1€ e compilare il modulo di iscrizione all’ingresso del Parco. Per i bambini sotto 2 anni la tessera è gratuita). Per velocizzare le procedure all’ingresso del Parco\, richiedi il modulo di iscrizione a info.ecorinascimento@gmail.com\, compilalo a casa e consegnalo agli addetti all’ingresso del Parco o rinvialo alla stessa e-mail.
URL:https://www.eventiintoscana.it/evento/passeggiate-visite-guidate-e-caccia-al-tesoro-parco-darte-pazzagli-firenze
CATEGORIES:Feste e Folklore,Firenze,Natura e Sport
ATTACH;FMTTYPE=image/jpeg:https://www.eventiintoscana.it/wp-content/uploads/2020/09/parco-darte-pazzagli-firenze.jpg
END:VEVENT
END:VCALENDAR