BEGIN:VCALENDAR
VERSION:2.0
PRODID:-//Eventi in Toscana By Toscana Tascabile - ECPv6.15.12.2//NONSGML v1.0//EN
CALSCALE:GREGORIAN
METHOD:PUBLISH
X-WR-CALNAME:Eventi in Toscana By Toscana Tascabile
X-ORIGINAL-URL:https://www.eventiintoscana.it
X-WR-CALDESC:Eventi per Eventi in Toscana By Toscana Tascabile
REFRESH-INTERVAL;VALUE=DURATION:PT1H
X-Robots-Tag:noindex
X-PUBLISHED-TTL:PT1H
BEGIN:VTIMEZONE
TZID:Europe/Rome
BEGIN:DAYLIGHT
TZOFFSETFROM:+0100
TZOFFSETTO:+0200
TZNAME:CEST
DTSTART:20160327T010000
END:DAYLIGHT
BEGIN:STANDARD
TZOFFSETFROM:+0200
TZOFFSETTO:+0100
TZNAME:CET
DTSTART:20161030T010000
END:STANDARD
BEGIN:DAYLIGHT
TZOFFSETFROM:+0100
TZOFFSETTO:+0200
TZNAME:CEST
DTSTART:20170326T010000
END:DAYLIGHT
BEGIN:STANDARD
TZOFFSETFROM:+0200
TZOFFSETTO:+0100
TZNAME:CET
DTSTART:20171029T010000
END:STANDARD
BEGIN:DAYLIGHT
TZOFFSETFROM:+0100
TZOFFSETTO:+0200
TZNAME:CEST
DTSTART:20180325T010000
END:DAYLIGHT
BEGIN:STANDARD
TZOFFSETFROM:+0200
TZOFFSETTO:+0100
TZNAME:CET
DTSTART:20181028T010000
END:STANDARD
END:VTIMEZONE
BEGIN:VEVENT
DTSTART;TZID=Europe/Rome:20170416T000000
DTEND;TZID=Europe/Rome:20170416T000000
DTSTAMP:20260419T193800
CREATED:20170326T091229Z
LAST-MODIFIED:20170418T081710Z
UID:238276-1492300800-1492300800@www.eventiintoscana.it
SUMMARY:Scoppio del carro - Piazza del Duomo\, Firenze
DESCRIPTION:Ogni anno Firenze celebra la Pasqua con il tradizionale Scoppio del Carro: appuntamento in piazza del Duomo a Firenze il 16 aprile\nIl Carro\, detto Brindellone è una torre alta 2-3 piani trainato da due buoi che passano in giro fino ad arrivare a Piazza del Duomo\, tra il Battistero e la cattedrale. \nOggi la cerimonia prevede alle 10 un prete che strofina tre pietre focaie le cui scintille accendono la candela di Pasqua che a sua volta dà fuoco ai carboni sul Carro. Questo\, ben fornito di fuochi d’artificio\, viene accompagnato in processione da un corteo e quando arriva davanti alla cattedrale si ferma e aspetta l’inizio della messa. \nVerso le 11 dall’altare\, l’arcivescovo accende un razzo\,la Colombina\, e questa a sua volta vola fuori dalla chiesa percorrendo un filo che va a colpire il Carro nella piazza\, dando vita ai fuochi d’artificio. Se il rituale funziona e la Colombina torna indietro senza intoppi\, si prospetta buona fortuna per la città.
URL:https://www.eventiintoscana.it/evento/scoppio-del-carro-piazza-del-duomo-firenze-firenze-2
LOCATION:Piazza del Duomo\, Firenze\, Toscana\, Italia
CATEGORIES:Firenze,Rassegne e Sagre
ATTACH;FMTTYPE=image/jpeg:https://www.eventiintoscana.it/wp-content/uploads/2017/03/20803__Scoppiodelcarro-1.jpg
END:VEVENT
END:VCALENDAR