BEGIN:VCALENDAR
VERSION:2.0
PRODID:-//Eventi in Toscana By Toscana Tascabile - ECPv6.15.12.2//NONSGML v1.0//EN
CALSCALE:GREGORIAN
METHOD:PUBLISH
X-WR-CALNAME:Eventi in Toscana By Toscana Tascabile
X-ORIGINAL-URL:https://www.eventiintoscana.it
X-WR-CALDESC:Eventi per Eventi in Toscana By Toscana Tascabile
REFRESH-INTERVAL;VALUE=DURATION:PT1H
X-Robots-Tag:noindex
X-PUBLISHED-TTL:PT1H
BEGIN:VTIMEZONE
TZID:Europe/Rome
BEGIN:DAYLIGHT
TZOFFSETFROM:+0100
TZOFFSETTO:+0200
TZNAME:CEST
DTSTART:20190331T010000
END:DAYLIGHT
BEGIN:STANDARD
TZOFFSETFROM:+0200
TZOFFSETTO:+0100
TZNAME:CET
DTSTART:20191027T010000
END:STANDARD
BEGIN:DAYLIGHT
TZOFFSETFROM:+0100
TZOFFSETTO:+0200
TZNAME:CEST
DTSTART:20200329T010000
END:DAYLIGHT
BEGIN:STANDARD
TZOFFSETFROM:+0200
TZOFFSETTO:+0100
TZNAME:CET
DTSTART:20201025T010000
END:STANDARD
BEGIN:DAYLIGHT
TZOFFSETFROM:+0100
TZOFFSETTO:+0200
TZNAME:CEST
DTSTART:20210328T010000
END:DAYLIGHT
BEGIN:STANDARD
TZOFFSETFROM:+0200
TZOFFSETTO:+0100
TZNAME:CET
DTSTART:20211031T010000
END:STANDARD
BEGIN:DAYLIGHT
TZOFFSETFROM:+0100
TZOFFSETTO:+0200
TZNAME:CEST
DTSTART:20220327T010000
END:DAYLIGHT
BEGIN:STANDARD
TZOFFSETFROM:+0200
TZOFFSETTO:+0100
TZNAME:CET
DTSTART:20221030T010000
END:STANDARD
END:VTIMEZONE
BEGIN:VEVENT
DTSTART;TZID=Europe/Rome:20200925T150000
DTEND;TZID=Europe/Rome:20210128T200000
DTSTAMP:20260421T193611
CREATED:20200925T152540Z
LAST-MODIFIED:20201029T103359Z
UID:287657-1601046000-1611864000@www.eventiintoscana.it
SUMMARY:Paradigma. ON-LINE - Museo Novecento\, Firenze
DESCRIPTION:Per la rassegna di mostre temporanee ‘Paradigma. Il tavolo dell’architetto’\, che vedono protagonisti celebri architetti\, collettivi e studi di architettura del panorama contemporaneo\, Laura Andreini cura una proposta nata online durante il lockdown in collaborazione con la rivista specializzata ‘Area’.\nDurante questo periodo è stato chiesto ad architetti di fama nazionale ed internazionale di creare da casa un video sul tema del tavolo dell’architetto per spiegare come il loro lavoro si sia adattato allo smart working. \nI contributi\, che sono stati condivisi settimanalmente sulle pagine ufficiali del Museo e della rivista vengono ora messi in mostra\, spostandosi dallo spazio virtuale della rete allo spazio fisico del museo. \nOrario: ven\, sab\, dom e lun 15-20.
URL:https://www.eventiintoscana.it/evento/paradigma-on-line-museo-novecento-firenze
LOCATION:Museo Novecento\, Piazza di Santa Maria Novella\, 10\, Firenze\, Toscana\, 50123\, Italia
CATEGORIES:Firenze,Mostre d'Arte
ATTACH;FMTTYPE=image/jpeg:https://www.eventiintoscana.it/wp-content/uploads/2020/01/41496__MuseoNovecento.jpg
END:VEVENT
END:VCALENDAR