BEGIN:VCALENDAR
VERSION:2.0
PRODID:-//Eventi in Toscana By Toscana Tascabile - ECPv6.15.12.2//NONSGML v1.0//EN
CALSCALE:GREGORIAN
METHOD:PUBLISH
X-ORIGINAL-URL:https://www.eventiintoscana.it
X-WR-CALDESC:Eventi per Eventi in Toscana By Toscana Tascabile
REFRESH-INTERVAL;VALUE=DURATION:PT1H
X-Robots-Tag:noindex
X-PUBLISHED-TTL:PT1H
BEGIN:VTIMEZONE
TZID:Europe/Rome
BEGIN:DAYLIGHT
TZOFFSETFROM:+0100
TZOFFSETTO:+0200
TZNAME:CEST
DTSTART:20180325T010000
END:DAYLIGHT
BEGIN:STANDARD
TZOFFSETFROM:+0200
TZOFFSETTO:+0100
TZNAME:CET
DTSTART:20181028T010000
END:STANDARD
BEGIN:DAYLIGHT
TZOFFSETFROM:+0100
TZOFFSETTO:+0200
TZNAME:CEST
DTSTART:20190331T010000
END:DAYLIGHT
BEGIN:STANDARD
TZOFFSETFROM:+0200
TZOFFSETTO:+0100
TZNAME:CET
DTSTART:20191027T010000
END:STANDARD
BEGIN:DAYLIGHT
TZOFFSETFROM:+0100
TZOFFSETTO:+0200
TZNAME:CEST
DTSTART:20200329T010000
END:DAYLIGHT
BEGIN:STANDARD
TZOFFSETFROM:+0200
TZOFFSETTO:+0100
TZNAME:CET
DTSTART:20201025T010000
END:STANDARD
END:VTIMEZONE
BEGIN:VEVENT
DTSTART;TZID=Europe/Rome:20190823T210000
DTEND;TZID=Europe/Rome:20190908T200000
DTSTAMP:20260419T203936
CREATED:20190823T141342Z
LAST-MODIFIED:20190823T141557Z
UID:278057-1566594000-1567972800@www.eventiintoscana.it
SUMMARY:Palio dei Lumi - Pieve Santo Stefano (Arezzo)
DESCRIPTION:Nelle giornate di venerdì 23 e domenica 25 agosto e domenica 8 settembre si tiene la 42esima edizione del Palio dei Lumi\, torneo di calcio in costume disputato tra i quattro Rioni storici di Pieve Santo Stefano in onore della venerata Madonna dei Lumi\, patrona del luogo.\nPrimo appuntamento venerdì 23 agosto\, quando a partire dalle ore 21:00 Pieve rievocherà l’Assedio dei Lanzichenecchi al suo Castello. A celebrazione delle eroiche gesta degli uomini del Vicario della Repubblica Fiorentina Antonio Castellani\, che nel 1527 difesero le mura fortificate di Pieve respingendo i ripetuti attacchi dell’esercito assediante\, il Corteo Storico sfilerà per Via Roma giungendo in Piazza Santo Stefano. \nQui\, alla presenza di oltre cento figuranti in costumi rinascimentali\, verranno sorteggiati gli abbinamenti delle squadre che si affronteranno nelle due partite eliminatorie del torneo. Ad accompagnare la serata le esibizioni di Musici e Sbandieratori e lo spettacolo del Gruppo Storico “Spadaccini di Assisi”. \nNel vivo della competizione si entrerà domenica 25 agosto\, quando l’Arena del Campo dei Lumi\, attigua all’omonimo Santuario\, ospiterà dalle 16:00 in avanti le semifinali del Calcio in Costume. \nI due Rioni vincitori si affronteranno quindi nella finale in programma per domenica 8 settembre\, quando alle 15:30 i Calcianti scenderanno nuovamente nel terreno sabbioso del Campo dei Lumi dandosi battaglia per la quarantaduesima medaglia\, valida per l’assegnazione del nono Palio in onore della Madonna. \nA seguire la premiazione in Piazza Plinio Pellegrini\, dove i Pievani tutti\, in festa\, accorreranno per rendere omaggio al Vincitore.
URL:https://www.eventiintoscana.it/evento/palio-dei-lumi-pieve-santo-stefano-arezzo
LOCATION:Luogo Senza Nome\, Pieve Santo Stefano (Arezzo)
CATEGORIES:arezzo,Rassegne e Sagre
ATTACH;FMTTYPE=image/jpeg:https://www.eventiintoscana.it/wp-content/uploads/2019/08/palio-dei-lumi-pieve-santo-stefano.jpg
END:VEVENT
END:VCALENDAR