BEGIN:VCALENDAR
VERSION:2.0
PRODID:-//Eventi in Toscana By Toscana Tascabile - ECPv6.15.12.2//NONSGML v1.0//EN
CALSCALE:GREGORIAN
METHOD:PUBLISH
X-ORIGINAL-URL:https://www.eventiintoscana.it
X-WR-CALDESC:Eventi per Eventi in Toscana By Toscana Tascabile
REFRESH-INTERVAL;VALUE=DURATION:PT1H
X-Robots-Tag:noindex
X-PUBLISHED-TTL:PT1H
BEGIN:VTIMEZONE
TZID:Europe/Rome
BEGIN:DAYLIGHT
TZOFFSETFROM:+0100
TZOFFSETTO:+0200
TZNAME:CEST
DTSTART:20160327T010000
END:DAYLIGHT
BEGIN:STANDARD
TZOFFSETFROM:+0200
TZOFFSETTO:+0100
TZNAME:CET
DTSTART:20161030T010000
END:STANDARD
BEGIN:DAYLIGHT
TZOFFSETFROM:+0100
TZOFFSETTO:+0200
TZNAME:CEST
DTSTART:20170326T010000
END:DAYLIGHT
BEGIN:STANDARD
TZOFFSETFROM:+0200
TZOFFSETTO:+0100
TZNAME:CET
DTSTART:20171029T010000
END:STANDARD
BEGIN:DAYLIGHT
TZOFFSETFROM:+0100
TZOFFSETTO:+0200
TZNAME:CEST
DTSTART:20180325T010000
END:DAYLIGHT
BEGIN:STANDARD
TZOFFSETFROM:+0200
TZOFFSETTO:+0100
TZNAME:CET
DTSTART:20181028T010000
END:STANDARD
END:VTIMEZONE
BEGIN:VEVENT
DTSTART;TZID=Europe/Rome:20171031T200000
DTEND;TZID=Europe/Rome:20171031T235500
DTSTAMP:20260421T190229
CREATED:20171023T112744Z
LAST-MODIFIED:20171023T112744Z
UID:252359-1509480000-1509494100@www.eventiintoscana.it
SUMMARY:Otel Halloween Party - Otel\, Firenze
DESCRIPTION:Ad Otel torna la notte più paurosa e divertente dell’anno! \nCena con musica live e tavolo riservato fino alle 22:30\, con menù fisso al costo di 35 euro a persona che comprende anche l’ingresso in discoteca. E’ necessaria la prenotazione. \nDalle ore 23:15 ingresso in discoteca con consumazione inclusa al costo di 15 euro a persona. Tavolo vip discoteca con ingresso alle 00\, con una bottiglia di superacolici ogni 6 persone oppure bottiglie di champagne\, al costo di 30 euro a persona.
URL:https://www.eventiintoscana.it/evento/otel-halloween-party-otel-firenze
LOCATION:Otel Ristotheatre\, Via Generale Carlo Alberto Dalla Chiesa\, 9\, Firenze\, Toscana\, 50136\, Italia
CATEGORIES:Firenze,Musica e festival
ATTACH;FMTTYPE=image/jpeg:https://www.eventiintoscana.it/wp-content/uploads/2017/10/otel.jpg
END:VEVENT
END:VCALENDAR