BEGIN:VCALENDAR
VERSION:2.0
PRODID:-//Eventi in Toscana By Toscana Tascabile - ECPv6.15.12.2//NONSGML v1.0//EN
CALSCALE:GREGORIAN
METHOD:PUBLISH
X-WR-CALNAME:Eventi in Toscana By Toscana Tascabile
X-ORIGINAL-URL:https://www.eventiintoscana.it
X-WR-CALDESC:Eventi per Eventi in Toscana By Toscana Tascabile
REFRESH-INTERVAL;VALUE=DURATION:PT1H
X-Robots-Tag:noindex
X-PUBLISHED-TTL:PT1H
BEGIN:VTIMEZONE
TZID:Europe/Rome
BEGIN:DAYLIGHT
TZOFFSETFROM:+0100
TZOFFSETTO:+0200
TZNAME:CEST
DTSTART:20180325T010000
END:DAYLIGHT
BEGIN:STANDARD
TZOFFSETFROM:+0200
TZOFFSETTO:+0100
TZNAME:CET
DTSTART:20181028T010000
END:STANDARD
BEGIN:DAYLIGHT
TZOFFSETFROM:+0100
TZOFFSETTO:+0200
TZNAME:CEST
DTSTART:20190331T010000
END:DAYLIGHT
BEGIN:STANDARD
TZOFFSETFROM:+0200
TZOFFSETTO:+0100
TZNAME:CET
DTSTART:20191027T010000
END:STANDARD
BEGIN:DAYLIGHT
TZOFFSETFROM:+0100
TZOFFSETTO:+0200
TZNAME:CEST
DTSTART:20200329T010000
END:DAYLIGHT
BEGIN:STANDARD
TZOFFSETFROM:+0200
TZOFFSETTO:+0100
TZNAME:CET
DTSTART:20201025T010000
END:STANDARD
END:VTIMEZONE
BEGIN:VEVENT
DTSTART;TZID=Europe/Rome:20191225T000000
DTEND;TZID=Europe/Rome:20191225T000000
DTSTAMP:20260422T075429
CREATED:20191209T163944Z
LAST-MODIFIED:20191209T163944Z
UID:282532-1577232000-1577232000@www.eventiintoscana.it
SUMMARY:Ostensione della Sacra Cintola - Duomo\, Prato
DESCRIPTION:Nel giorno di Natale\, 25 dicembre\, come ogni anno si tiene a Prato l’Ostensione della Sacra Cintola.\nLa Sacra Cintola\, conosciuta anche come Sacro Cingolo\, è la reliquia più preziosa della città. È una cintura di stoffa di pelo di cammello color verde\, intessuta di fili d’oro\, con delle piccole nappe terminali appartenuta a Maria. \nLa reliquia\, portata dalla Terrasanta da un giovane pratese nel 1141 dopo un avventuroso viaggio in mare\, fu consegnata alla sua morte in dono alla città. \nNei secoli la sacra reliquia è stata venerata da principi e imperatori\, santi\, vescovi e papi. Giovanni Paolo II la venerò il 19 marzo 1986 durante la sua visita a Prato. In occasione del VI centenario della traslazione\, la Sacra Cintola è stata venerata dal Presidente della Repubblica\, Oscar Luigi Scalfaro\, dai vescovi della Toscana riuniti in conferenza e da oltre trentamila fedeli. \nViene custodita nell’omonima cappella del Duomo e mostrata in pubblico cinque volte l’anno: Natale\, Pasqua\, I maggio\, 15 agosto e al termine del Corteggio Storico dell’8 settembre. \nOgni anno\, per i festeggiamenti dell’8 settembre\, i gruppi in costume attraversano le vie del centro città per raggiungere piazza Duomo\, dove si incrociano i valori laici e religiosi\, simbolicamente rappresentati dalle tre chiavi (due di proprietà del Comune ed una della Diocesi) che aprono lo scrigno contenente la preziosa reliquia. \nL’ostensione viene celebrata dal Vescovo dal pulpito esterno del Duomo: è il momento più simbolico e solenne della festa di Prato.
URL:https://www.eventiintoscana.it/evento/ostensione-della-sacra-cintola-duomo-prato
CATEGORIES:Feste e Folklore,Prato
ATTACH;FMTTYPE=image/jpeg:https://www.eventiintoscana.it/wp-content/uploads/2019/12/26123__ostensionedellasacracintola-1.jpg
END:VEVENT
END:VCALENDAR