BEGIN:VCALENDAR
VERSION:2.0
PRODID:-//Eventi in Toscana By Toscana Tascabile - ECPv6.15.12.2//NONSGML v1.0//EN
CALSCALE:GREGORIAN
METHOD:PUBLISH
X-WR-CALNAME:Eventi in Toscana By Toscana Tascabile
X-ORIGINAL-URL:https://www.eventiintoscana.it
X-WR-CALDESC:Eventi per Eventi in Toscana By Toscana Tascabile
REFRESH-INTERVAL;VALUE=DURATION:PT1H
X-Robots-Tag:noindex
X-PUBLISHED-TTL:PT1H
BEGIN:VTIMEZONE
TZID:Europe/Rome
BEGIN:DAYLIGHT
TZOFFSETFROM:+0100
TZOFFSETTO:+0200
TZNAME:CEST
DTSTART:20160327T010000
END:DAYLIGHT
BEGIN:STANDARD
TZOFFSETFROM:+0200
TZOFFSETTO:+0100
TZNAME:CET
DTSTART:20161030T010000
END:STANDARD
BEGIN:DAYLIGHT
TZOFFSETFROM:+0100
TZOFFSETTO:+0200
TZNAME:CEST
DTSTART:20170326T010000
END:DAYLIGHT
BEGIN:STANDARD
TZOFFSETFROM:+0200
TZOFFSETTO:+0100
TZNAME:CET
DTSTART:20171029T010000
END:STANDARD
BEGIN:DAYLIGHT
TZOFFSETFROM:+0100
TZOFFSETTO:+0200
TZNAME:CEST
DTSTART:20180325T010000
END:DAYLIGHT
BEGIN:STANDARD
TZOFFSETFROM:+0200
TZOFFSETTO:+0100
TZNAME:CET
DTSTART:20181028T010000
END:STANDARD
END:VTIMEZONE
BEGIN:VEVENT
DTSTART;TZID=Europe/Rome:20170718T211500
DTEND;TZID=Europe/Rome:20170718T230000
DTSTAMP:20260423T131503
CREATED:20170713T090840Z
LAST-MODIFIED:20170713T090840Z
UID:245630-1500412500-1500418800@www.eventiintoscana.it
SUMMARY:Opera lirica: Il Trovatore - Tenuta di Artimino\, Artimino (PO)
DESCRIPTION:Già alla V rappresentazione dell’opera lirica alla Villa La Ferdinanda di Artimino\, dopo i successi di La Traviata\, Tosca\, Turandot\, Rigoletto\, quest’anno OMEGA il 18 Luglio alle ore 21.15 porta in scena l’opera lirica completamente allestita\, Il Trovatore di G. Verdi.\nIl cast è veramente eccellente e spazia da grandi interpreti di fama internazionale con ll tenore Giorgio Casciarri\, nella parte di Manrico\, famoso sia in Italia che all’estero\, che ha cantato anche alla Scala di Milano\, Valdis Jansons nelle parti del Conte di Luna famoso baritono lettone\, con una bellissima voce\, e Monica Minarelli nella parte di Azucena\, con una splendida carriera alle spalle.\nAffiancheranno questi grandi interpreti\, i vincitori o partecipanti ai vari concorsi OMEGA\, che comunque hanno già anche loro una bella carriera alle spalle\, pur essendo molto giovani\, come l’interprete principale Selene Fiaschi nella parte di Leonora\, Beatrice Stella sarà Ines\, Alessandro Ceccarini\, figlio del famoso baritono Giancarlo Ceccarini nelle vesti di Ferrando e Nicola Vocaturo Ruiz. \nLa regia è affidata a Fabrizio Buricchi che ha curato la regia anche di La Traviata\, Tosca e Turandot\, con scenografie che hanno sempre sorpreso benevolmente il pubblico presente alle recite\, e che quest’anno\, con grande suo piacere\, sarà regista del Trovatore\, opera a lui molto gradita. \nL’orchestra ormai collaudata Nuova Europa\, sarà diretta dal suo direttore stabile Alan Freiles che ha al suo attivo centianai di rappresentazioni di opere liriche e concerti sinfonici\, team ormai garanzia di successo.. \nIl coro Labronica sarà diretto dal suo direttore stabile M.° Maurizio Preziosi\, direttore di coro all’avangardia a garanzia di qualità assicurata\, per un coro molto complesso quello del Trovatore\, e di non facile esecuzione. \nDirettore di produzione Tommaso Geri\, anch’egli ormai direttore di produzione di nuerosi eventi OMEGA e regista altri spettacoli da lui firmati. \nI costumi disegnati e fatti realizzare da Rosa Maria Freiles\, fanno parte dell’autogestione dell’Associazione OMEGA\, che stanno riscuotendo grande successo.
URL:https://www.eventiintoscana.it/evento/opera-lirica-trovatore-villa-la-ferdinanda-artimino-po
LOCATION:Tenuta di Artimino\, Via Papa Giovani XXIII\, Artimino\, Prato
CATEGORIES:Musica e festival
ATTACH;FMTTYPE=image/jpeg:https://www.eventiintoscana.it/wp-content/uploads/2017/07/il-trovatore_villa-la-ferdinanda-artimino-.jpg
END:VEVENT
END:VCALENDAR