BEGIN:VCALENDAR
VERSION:2.0
PRODID:-//Eventi in Toscana By Toscana Tascabile - ECPv6.15.12.2//NONSGML v1.0//EN
CALSCALE:GREGORIAN
METHOD:PUBLISH
X-ORIGINAL-URL:https://www.eventiintoscana.it
X-WR-CALDESC:Eventi per Eventi in Toscana By Toscana Tascabile
REFRESH-INTERVAL;VALUE=DURATION:PT1H
X-Robots-Tag:noindex
X-PUBLISHED-TTL:PT1H
BEGIN:VTIMEZONE
TZID:Europe/Rome
BEGIN:DAYLIGHT
TZOFFSETFROM:+0100
TZOFFSETTO:+0200
TZNAME:CEST
DTSTART:20180325T010000
END:DAYLIGHT
BEGIN:STANDARD
TZOFFSETFROM:+0200
TZOFFSETTO:+0100
TZNAME:CET
DTSTART:20181028T010000
END:STANDARD
BEGIN:DAYLIGHT
TZOFFSETFROM:+0100
TZOFFSETTO:+0200
TZNAME:CEST
DTSTART:20190331T010000
END:DAYLIGHT
BEGIN:STANDARD
TZOFFSETFROM:+0200
TZOFFSETTO:+0100
TZNAME:CET
DTSTART:20191027T010000
END:STANDARD
BEGIN:DAYLIGHT
TZOFFSETFROM:+0100
TZOFFSETTO:+0200
TZNAME:CEST
DTSTART:20200329T010000
END:DAYLIGHT
BEGIN:STANDARD
TZOFFSETFROM:+0200
TZOFFSETTO:+0100
TZNAME:CET
DTSTART:20201025T010000
END:STANDARD
END:VTIMEZONE
BEGIN:VEVENT
DTSTART;TZID=Europe/Rome:20190530T080000
DTEND;TZID=Europe/Rome:20190630T230000
DTSTAMP:20260423T004251
CREATED:20190613T075516Z
LAST-MODIFIED:20190613T075516Z
UID:276851-1559203200-1561935600@www.eventiintoscana.it
SUMMARY:Oltre il giardino - Giardino Buonamici\, Prato
DESCRIPTION:Da venerdì 31 maggio 2019 a domenica 30 giugno torna Oltre il giardino\, la rassegna estiva del Giardino Buonamici.\nTanti gli eventi proposti\, tutti ad ingresso libero\, di musica\, teatro\, presentazioni\, incontri e degustazioni dei prodotti del territorio. \nLa manifestazione è promossa da Provincia e Comune di Prato\, realizzata dalla Strada dei vini di Carmignano e dei sapori tipici pratesi attraverso CasottoaTipico. \nProgramma: \n31 maggio ore 18.00 • Cancello aperto per EatPratoNight Inaugurazione della manifestazione EatPrato \n1 giugno ore 18.00 • Eatprato Vini di Carmignano e gastronomia del territorio \n2 giugno ore 18.00 • Eatprato Vini di Carmignano e gastronomia del territorio \n4 giugno ore 21.30 • Corale San Francesco A cura di Comitato Cittadino Attività Musicali \n5 giugno ore 21.30 • PratoRace incontra lo sport A cura di Prato-Race-0574temPOdisPOrt \n6 giugno ore 21.30 • Serata The Dock Concerto della Scuola di Musica The Dock \n8 giugno ore 21.30 • Last Minute Party Boys Concerto live 11 giugno ore 21.30 • Gruppo Vocale Sesquialtera & Gruppo Vocale S. Maria a Colonica A cura di Comitato Cittadino Attività Musicali \n12 giugno ore 18.30 • Agenzia Enigmi A cura di Simone Frasca – con Libreria Gori 12 giugno ore 21.30 • Le avventure di Bribro: il mistero di Matilde. A cura di Comune di Prato \n13 giugno ore 21.30 • Vivere il Rock A cura di School Rock \n14 giugno ore 21.30 • Comaneci concerto live\, a cura di Santa Valvola Records \n15 giugno ore 21.30 • Mitici Gorgi concerto live\, a cura di NiCo \n16 giugno ore 21.30 • Satchmo\, oltre il jazz di Armstrong A cura di Stefano Zenni – con Libreria Gori \n18 giugno ore 21.30 • Concerto Cittadino E. Chiti A cura di Comitato Cittadino Attività Musicali \n19 giugno ore 21.30 • Chiacchiere sul Collezionismo a Prato A cura di Ass. Artemia \n20 giugno ore 19.00• 50 anni di Fratres A cura di Gruppo Donatori Sangue Fratres \n21 giugno ore 21.30 • Mancalquarto trio concerto live a cura di NiCo \n23 giugno ore 21.30 • Ultimo dell’anno col morto spettacolo in vernacolo\, con Compagnia di’ Buglione \n25 giugno ore 21.30 • Corale San Martino A cura di Comitato Cittadino Attività Musicali \n26 giugno ore 21.30 • Il gioco del burraco A cura di Il Ventaglio \n27 giugno ore 21.30 • Magnitudo 18 Concerto live \n28 giugno ore 21.30 • Red Shack Concerto live \n29 giugno ore 21.30 • Prato medievale sotterranea A cura di FareArte \n30 giugno ore 21.00 • Chiedi chi era Gaber spettacolo di teatro
URL:https://www.eventiintoscana.it/evento/oltre-giardino-giardino-buonamici-prato
LOCATION:Giardino Bounamici\, Via Cairoli 14\, Prato
CATEGORIES:Prato,Rassegne e Sagre
ATTACH;FMTTYPE=image/jpeg:https://www.eventiintoscana.it/wp-content/uploads/2019/06/oltre-il-giardino-prato.jpg
ORGANIZER;CN="Casotto Atipico":MAILTO: casottoatipico@gmail.com
END:VEVENT
END:VCALENDAR