BEGIN:VCALENDAR
VERSION:2.0
PRODID:-//Eventi in Toscana By Toscana Tascabile - ECPv6.15.12.2//NONSGML v1.0//EN
CALSCALE:GREGORIAN
METHOD:PUBLISH
X-WR-CALNAME:Eventi in Toscana By Toscana Tascabile
X-ORIGINAL-URL:https://www.eventiintoscana.it
X-WR-CALDESC:Eventi per Eventi in Toscana By Toscana Tascabile
REFRESH-INTERVAL;VALUE=DURATION:PT1H
X-Robots-Tag:noindex
X-PUBLISHED-TTL:PT1H
BEGIN:VTIMEZONE
TZID:Europe/Rome
BEGIN:DAYLIGHT
TZOFFSETFROM:+0100
TZOFFSETTO:+0200
TZNAME:CEST
DTSTART:20150329T010000
END:DAYLIGHT
BEGIN:STANDARD
TZOFFSETFROM:+0200
TZOFFSETTO:+0100
TZNAME:CET
DTSTART:20151025T010000
END:STANDARD
BEGIN:DAYLIGHT
TZOFFSETFROM:+0100
TZOFFSETTO:+0200
TZNAME:CEST
DTSTART:20160327T010000
END:DAYLIGHT
BEGIN:STANDARD
TZOFFSETFROM:+0200
TZOFFSETTO:+0100
TZNAME:CET
DTSTART:20161030T010000
END:STANDARD
BEGIN:DAYLIGHT
TZOFFSETFROM:+0100
TZOFFSETTO:+0200
TZNAME:CEST
DTSTART:20170326T010000
END:DAYLIGHT
BEGIN:STANDARD
TZOFFSETFROM:+0200
TZOFFSETTO:+0100
TZNAME:CET
DTSTART:20171029T010000
END:STANDARD
END:VTIMEZONE
BEGIN:VEVENT
DTSTART;TZID=Europe/Rome:20161117T080000
DTEND;TZID=Europe/Rome:20161130T170000
DTSTAMP:20260422T001216
CREATED:20161117T143605Z
LAST-MODIFIED:20161129T092609Z
UID:224974-1479369600-1480525200@www.eventiintoscana.it
SUMMARY:Novembre Grosso - Massa Marittima (Grosseto)
DESCRIPTION:Il Novembre Grosso è un festival che racchiude una serie di eventi variegati ed accattivanti\, creati con il fine di promuovere ed  esaltare la cultura\, l’arte e l’ambiente del territorio racchiuso fra le Colline Metallifere della Maremma Toscana. All’interno dell’affascinante centro storico della città di Massa Marittima\, vi potrà capitare di assistere a  concerti\, partecipare a laboratori di coniazione medievale \, visitare cunicoli che celano segreti sepolti nel tempo\, scoprire i segreti degli etruschi e seguire un turno di lavoro di minatori d’altri tempi. \nVenerdì 18 Novembre\, ore 21:30\nQuei vitelloni del lido Miramare\nSpettacolo teatro/canzone con la Compagnia Teatro dello Sbaglio\nMassa Marittima | Sala San Bernardino | Offerta minima Euro 7\,00\nIn collaborazione con: Terziere di Borgo\, Gruppo per la Promozione Artistica e Culturale IRIDE\, Associazione Musicale Accademia Omero Martini\, Paolo Mari e Cosi Momo \nSabato 19 Novembre\, ore 15:00\nI misteri di Massa: la Cripta e la Cattedrale\nMassa Marittima | Cattedrale di San Cerbone | Ingresso Euro 5\,00 \nDomenica 20 Novembre\, ore 15:30\nSapori d’Autunno\nDegustazioni di zonzelle\, dolci di castagna\, bruschetta e musica con il coro delle Donne di Magliano\nMassa Marittima | Chiostro di Sant’Agostino | Ingresso libero\nIn collaborazione con il Gruppo delle Brutte Persone \nVenerdì 25 Novembre\, ore 21:30\nOmaggio a Mina\nLe più belle canzoni di Mina reinterpretate in chiave acustica\nMassa Marittima | Sala San Bernardino | Offerta minima Euro 7\,00\nIn collaborazione con: Terziere di Borgo\, Gruppo per la Promozione Artistica e Culturale IRIDE\, Associazione Musicale Accademia Omero Martini Migrazioni \nSabato 26 Novembre\, ore 16:30\nMigrazioni\nPerformance di letture e musica\na cura di Cinzia Biondi e Giada Germani\nMassa Marittima | Museo Archeologico | Ingresso a offerta\nIn collaborazione con Sezione Arte Vita Teatro del Gruppo per la Promozione Artistica e Culturale IRIDE \nDomenica 27 Novembre\nore 11:00\nI misteri della Canonica di San Niccolò\nI Cavalieri raccontano\nMontieri | Canonica di San Niccolò | Ingresso Euro 5\,00\nIn collaborazione con OCCxAM\nore 15:00\nI misteri di Massa: il Palazzo Vescovile ed i suoi giardini\nMassa Marittima | Palazzo Vescovile | Ingresso Euro 5\,00\nore 18:00\nConcerto del Coro Santa Barbara\nMassa Marittima | Convento delle Clarisse | Sala Mariella Gennai | Ingresso a offerta\nIn collaborazione con Coro Santa Barbara \nMercoledì 30 Novembre\, ore 16:30\nPietro Leopoldo di Lorena e le riforme contro la pena di morte\nConferenza di Gianpiero Caglianone in occasione della Festa della Toscana\nMassa Marittima | Convento delle Clarisse | Sala Mariella Gennai | Ingresso libero\nA cura del Comune di Massa Marittima
URL:https://www.eventiintoscana.it/evento/novembre-grosso-massa-marittima-grosseto
LOCATION:Luogo Senza Nome\, Massa Marittima\, Grosseto\, Italia
CATEGORIES:Fiere e Mercatini,Grosseto
ATTACH;FMTTYPE=image/png:https://www.eventiintoscana.it/wp-content/uploads/2016/11/Schermata-2016-11-17-a-15.34.37.png
END:VEVENT
END:VCALENDAR