BEGIN:VCALENDAR
VERSION:2.0
PRODID:-//Eventi in Toscana By Toscana Tascabile - ECPv6.15.12.2//NONSGML v1.0//EN
CALSCALE:GREGORIAN
METHOD:PUBLISH
X-ORIGINAL-URL:https://www.eventiintoscana.it
X-WR-CALDESC:Eventi per Eventi in Toscana By Toscana Tascabile
REFRESH-INTERVAL;VALUE=DURATION:PT1H
X-Robots-Tag:noindex
X-PUBLISHED-TTL:PT1H
BEGIN:VTIMEZONE
TZID:Europe/Rome
BEGIN:DAYLIGHT
TZOFFSETFROM:+0100
TZOFFSETTO:+0200
TZNAME:CEST
DTSTART:20160327T010000
END:DAYLIGHT
BEGIN:STANDARD
TZOFFSETFROM:+0200
TZOFFSETTO:+0100
TZNAME:CET
DTSTART:20161030T010000
END:STANDARD
BEGIN:DAYLIGHT
TZOFFSETFROM:+0100
TZOFFSETTO:+0200
TZNAME:CEST
DTSTART:20170326T010000
END:DAYLIGHT
BEGIN:STANDARD
TZOFFSETFROM:+0200
TZOFFSETTO:+0100
TZNAME:CET
DTSTART:20171029T010000
END:STANDARD
BEGIN:DAYLIGHT
TZOFFSETFROM:+0100
TZOFFSETTO:+0200
TZNAME:CEST
DTSTART:20180325T010000
END:DAYLIGHT
BEGIN:STANDARD
TZOFFSETFROM:+0200
TZOFFSETTO:+0100
TZNAME:CET
DTSTART:20181028T010000
END:STANDARD
END:VTIMEZONE
BEGIN:VEVENT
DTSTART;TZID=Europe/Rome:20170301T190000
DTEND;TZID=Europe/Rome:20170301T230000
DTSTAMP:20260422T001210
CREATED:20170220T110130Z
LAST-MODIFIED:20170302T154450Z
UID:234721-1488394800-1488409200@www.eventiintoscana.it
SUMMARY:La notte dei rivolti - Cinigiano\, Grosseto
DESCRIPTION:A Cinigiano (GR) il 1° marzo torna La notte dei rivolti\nLa festa affonda le origini in una tradizione degli anni ’50: il 1° giorno di Quaresima i ‘festaioli’\, festeggiata tutta la notte la fine del Carnevale\, preparavano i ‘rivolti’ (pietanza povera fatta di farina e acqua). \nSi dividevano in squadre per cercare vino e merci da rivendere\, o piccole attività per guadagnare qualcosa; poi si ritrovavano in piazza per una ricca ‘pulenda’\, fino ad arrivare al momento del battesimo del maiale a baccalà. \nQuest’anno si festeggia il 1° marzo dalle 19; alle 19.30 apertura dei fiaschi\, alle 20 si cava la pulenda\, da gustare con cacio stagionato e pepe. In menù anche rosticciana e salsiccia alla brace. Piatto e forchetta si possono portare da casa!
URL:https://www.eventiintoscana.it/evento/la-notte-dei-rivolti-cinigiano-grosseto
LOCATION:Cinigiano\, Grosseto
CATEGORIES:Grosseto,Rassegne e Sagre
ATTACH;FMTTYPE=image/jpeg:https://www.eventiintoscana.it/wp-content/uploads/2017/02/notte-dei-rivolti-cinigiano.jpg
END:VEVENT
END:VCALENDAR