BEGIN:VCALENDAR
VERSION:2.0
PRODID:-//Eventi in Toscana By Toscana Tascabile - ECPv6.15.12.2//NONSGML v1.0//EN
CALSCALE:GREGORIAN
METHOD:PUBLISH
X-WR-CALNAME:Eventi in Toscana By Toscana Tascabile
X-ORIGINAL-URL:https://www.eventiintoscana.it
X-WR-CALDESC:Eventi per Eventi in Toscana By Toscana Tascabile
REFRESH-INTERVAL;VALUE=DURATION:PT1H
X-Robots-Tag:noindex
X-PUBLISHED-TTL:PT1H
BEGIN:VTIMEZONE
TZID:Europe/Rome
BEGIN:DAYLIGHT
TZOFFSETFROM:+0100
TZOFFSETTO:+0200
TZNAME:CEST
DTSTART:20180325T010000
END:DAYLIGHT
BEGIN:STANDARD
TZOFFSETFROM:+0200
TZOFFSETTO:+0100
TZNAME:CET
DTSTART:20181028T010000
END:STANDARD
BEGIN:DAYLIGHT
TZOFFSETFROM:+0100
TZOFFSETTO:+0200
TZNAME:CEST
DTSTART:20190331T010000
END:DAYLIGHT
BEGIN:STANDARD
TZOFFSETFROM:+0200
TZOFFSETTO:+0100
TZNAME:CET
DTSTART:20191027T010000
END:STANDARD
BEGIN:DAYLIGHT
TZOFFSETFROM:+0100
TZOFFSETTO:+0200
TZNAME:CEST
DTSTART:20200329T010000
END:DAYLIGHT
BEGIN:STANDARD
TZOFFSETFROM:+0200
TZOFFSETTO:+0100
TZNAME:CET
DTSTART:20201025T010000
END:STANDARD
END:VTIMEZONE
BEGIN:VEVENT
DTSTART;TZID=Europe/Rome:20191006T110000
DTEND;TZID=Europe/Rome:20191006T190000
DTSTAMP:20260423T052650
CREATED:20191001T141220Z
LAST-MODIFIED:20191001T141220Z
UID:279474-1570359600-1570388400@www.eventiintoscana.it
SUMMARY:Non solo vino - Piazza Matteotti\, Greve in Chianti (Firenze)
DESCRIPTION:Domenica 6 ottobre appuntamento in Piazza Matteotti\, a Greve in Chianti\, per l’edizione 2019 di Non solo vino.\nLa manifestazione celebra il Chianti Classico\, grande prodotto del territorio\, attraverso un mercato di prodotti tipici e degustazioni; vi saranno artigiani all’opera e un angolo dedicato alle ‘CittàSlow’\, con prodotti provenienti da diverse città italiane. \nDalle ore 11 alle 17 ‘Il paese dei balocchi’ prevede giochi dal passato per bambini di tutti i tempi; alle ore 16 spettacolo degli Sbandieratori dei Borghi e Sestieri Fiorentini.
URL:https://www.eventiintoscana.it/evento/non-solo-vino-piazza-matteotti-greve-chianti-firenze
LOCATION:Luogo Senza Nome\, Piazza Matteotti\, Greve in Chianti (Firenze)
CATEGORIES:Firenze,Rassegne e Sagre
ATTACH;FMTTYPE=image/jpeg:https://www.eventiintoscana.it/wp-content/uploads/2018/10/24246__vino3_650x300.jpg
END:VEVENT
END:VCALENDAR