BEGIN:VCALENDAR
VERSION:2.0
PRODID:-//Eventi in Toscana By Toscana Tascabile - ECPv6.15.12.2//NONSGML v1.0//EN
CALSCALE:GREGORIAN
METHOD:PUBLISH
X-ORIGINAL-URL:https://www.eventiintoscana.it
X-WR-CALDESC:Eventi per Eventi in Toscana By Toscana Tascabile
REFRESH-INTERVAL;VALUE=DURATION:PT1H
X-Robots-Tag:noindex
X-PUBLISHED-TTL:PT1H
BEGIN:VTIMEZONE
TZID:Europe/Rome
BEGIN:DAYLIGHT
TZOFFSETFROM:+0100
TZOFFSETTO:+0200
TZNAME:CEST
DTSTART:20180325T010000
END:DAYLIGHT
BEGIN:STANDARD
TZOFFSETFROM:+0200
TZOFFSETTO:+0100
TZNAME:CET
DTSTART:20181028T010000
END:STANDARD
BEGIN:DAYLIGHT
TZOFFSETFROM:+0100
TZOFFSETTO:+0200
TZNAME:CEST
DTSTART:20190331T010000
END:DAYLIGHT
BEGIN:STANDARD
TZOFFSETFROM:+0200
TZOFFSETTO:+0100
TZNAME:CET
DTSTART:20191027T010000
END:STANDARD
BEGIN:DAYLIGHT
TZOFFSETFROM:+0100
TZOFFSETTO:+0200
TZNAME:CEST
DTSTART:20200329T010000
END:DAYLIGHT
BEGIN:STANDARD
TZOFFSETFROM:+0200
TZOFFSETTO:+0100
TZNAME:CET
DTSTART:20201025T010000
END:STANDARD
BEGIN:DAYLIGHT
TZOFFSETFROM:+0100
TZOFFSETTO:+0200
TZNAME:CEST
DTSTART:20210328T010000
END:DAYLIGHT
BEGIN:STANDARD
TZOFFSETFROM:+0200
TZOFFSETTO:+0100
TZNAME:CET
DTSTART:20211031T010000
END:STANDARD
END:VTIMEZONE
BEGIN:VEVENT
DTSTART;TZID=Europe/Rome:20191210T100000
DTEND;TZID=Europe/Rome:20201231T173000
DTSTAMP:20260419T165617
CREATED:20191209T102132Z
LAST-MODIFIED:20201028T161913Z
UID:282495-1575972000-1609435800@www.eventiintoscana.it
SUMMARY:Natura collecta\, Natura exibita - Basilica di San Lorenzo\, Firenze
DESCRIPTION:È stato riaperto lo straordinario percorso espositivo ‘Natura collecta\, Natura exhibita’\, iniziativa nata in concomitanza con la chiusura temporanea per lavori del Museo ‘La Specola’. \nOltre 150 pezzi straordinari\, ognuno dei quali racconta una storia particolare\, una conoscenza nuova dell’uomo e della natura. E tutti insieme narrano un’altra storia\, quella del collezionismo scientifico dal tempo dei Medici ai giorni nostri.  \nSi va dalla Coppa in diaspro di Lorenzo il Magnifico ad una conchiglia di Nautilus montata su saliera (1550-1560)\, dalle famose cere anatomiche realizzate fra ’600 e ‘700 ad un ornamento in penne di Ara dalla popolazione Yanomami (Amazzonia XX secolo).  \n Il percorso permette di ricostruire\, da un lato\, in un luogo emblematico come San Lorenzo\, le vaste dimensioni della committenza medicea; dall’altro invita il visitatore alla scoperta delle meraviglie naturalistiche e scientifiche che i il Museo di Storia Naturale dell’Ateneo contribuisce a conservare.  \nIl percorso espositivo “Natura collecta\, Natura exhibita” è aperto nei giorni di venerdì e sabato con orario 10-17:30. \nNuovi giorni e orari di apertura dal 2 novembre: lunedì\, venerdì e sabato con orario 10:30-12:30. \nL’accesso è dalla biglietteria di San Lorenzo (piazza San Lorenzo 9 – Firenze). \nBiglietti \nIl costo del biglietto è di € 7: comprende l’accesso al percorso e la visita al Complesso di San Lorenzo. \nL’ingresso è gratuito per i bambini fino a 11 anni\, le persone con disabilità e eventuali accompagnatori\, i residenti nel Comune di Firenze\, le guide turistiche\, gli accompagnatori di gruppi\, gli studenti e i dipendenti del Sistema Museale di Ateneo. \nIl Sistema Museale organizza visite guidate al percorso espositivo\, su prenotazione\, dal lunedì al sabato. Dal 2 novembre le visite guidate saranno organizzate in giorni e orari da concordare. \nSul sito dell’Opera Medicea Laurenziana è inoltre possibile acquistare i biglietti.
URL:https://www.eventiintoscana.it/evento/natura-collecta-natura-exibita-basilica-di-san-lorenzo-firenze-firenze
LOCATION:Basilica di San Lorenzo\, Piazza di San Lorenzo\, 9\, Firenze\, Toscana\, 50123\, Italia
CATEGORIES:Firenze,Mostre d'Arte
ATTACH;FMTTYPE=image/jpeg:https://www.eventiintoscana.it/wp-content/uploads/2019/12/natura-collecta-natura-exhibita-Firenze.jpg
END:VEVENT
END:VCALENDAR