BEGIN:VCALENDAR
VERSION:2.0
PRODID:-//Eventi in Toscana By Toscana Tascabile - ECPv6.15.12.2//NONSGML v1.0//EN
CALSCALE:GREGORIAN
METHOD:PUBLISH
X-WR-CALNAME:Eventi in Toscana By Toscana Tascabile
X-ORIGINAL-URL:https://www.eventiintoscana.it
X-WR-CALDESC:Eventi per Eventi in Toscana By Toscana Tascabile
REFRESH-INTERVAL;VALUE=DURATION:PT1H
X-Robots-Tag:noindex
X-PUBLISHED-TTL:PT1H
BEGIN:VTIMEZONE
TZID:Europe/Rome
BEGIN:DAYLIGHT
TZOFFSETFROM:+0100
TZOFFSETTO:+0200
TZNAME:CEST
DTSTART:20180325T010000
END:DAYLIGHT
BEGIN:STANDARD
TZOFFSETFROM:+0200
TZOFFSETTO:+0100
TZNAME:CET
DTSTART:20181028T010000
END:STANDARD
BEGIN:DAYLIGHT
TZOFFSETFROM:+0100
TZOFFSETTO:+0200
TZNAME:CEST
DTSTART:20190331T010000
END:DAYLIGHT
BEGIN:STANDARD
TZOFFSETFROM:+0200
TZOFFSETTO:+0100
TZNAME:CET
DTSTART:20191027T010000
END:STANDARD
BEGIN:DAYLIGHT
TZOFFSETFROM:+0100
TZOFFSETTO:+0200
TZNAME:CEST
DTSTART:20200329T010000
END:DAYLIGHT
BEGIN:STANDARD
TZOFFSETFROM:+0200
TZOFFSETTO:+0100
TZNAME:CET
DTSTART:20201025T010000
END:STANDARD
END:VTIMEZONE
BEGIN:VEVENT
DTSTART;TZID=Europe/Rome:20191207T103000
DTEND;TZID=Europe/Rome:20191208T193000
DTSTAMP:20260419T233553
CREATED:20191120T171736Z
LAST-MODIFIED:20191120T171736Z
UID:281112-1575714600-1575833400@www.eventiintoscana.it
SUMMARY:Natale in Villa - Villa Le Piazzole\, Firenze
DESCRIPTION:Sabato 7 e domenica 8 dicembre il Natale arriva nell’elegante contesto di Villa le Piazzole al Poggio Imperiale : con Strana.mente events torna Natale in Villa\, mostra mercato di alto artigianato\, appuntamento fisso del Natale fiorentino giunta alla decima edizione.\nDa non perdere le 60 eccellenze dell’artigianato provenienti da tutta Italia. \nUn fine settimana che introduce al Natale per uno shopping di qualità: bijoux e gioielli\, abbigliamento selezionato e accessori\, kimono\, cappelli e borse\, profumi e cosmesi\, raffinate decorazioni per la casa\, complementi d’arredo e prodotti gastronomici di alta qualità. \nEventi collaterali accompagneranno lo svolgersi della manifestazione. Orario: 10.30-19.30. \nPer il connubio con l’arte e la cultura nella Cantina della Villa mostra “Legno e Fotografia” oggetti di artigianato e design a cura di Susanne Paetsch e visite guidate alle parti storiche della Villa a cura della Associazione Culturale Akropolis. \nAttività per i più piccoli \, decorazione arnie e creazione di candele con cera da telaio a cura dell’Apicoltura biologica Fiordafiore. Laboratori di cesteria a cura di Giovanni Ursi. \nSarà presente come ospite alla manifestazione l’Associazione Voa Voa! Onlus Amici di Sofia. \nLa formula Ingresso Libero e le zone relax presenti nella villa permetteranno ai visitatori di godere in tranquillità della manifestazione. \nNell’area teatro per tutta la durata dell’evento gli street trucks delizieranno il vostro palato dalla colazione al pranzo fino all’aperitivo serale.\n*** \n333 2521819 329 8056528 strana.mente@live.it
URL:https://www.eventiintoscana.it/evento/natale-in-villa-villa-le-piazzole-firenze
CATEGORIES:Fiere e Mercatini,Firenze
ATTACH;FMTTYPE=image/jpeg:https://www.eventiintoscana.it/wp-content/uploads/2019/11/Natale-in-Villa-Firenze.jpg
END:VEVENT
END:VCALENDAR