BEGIN:VCALENDAR
VERSION:2.0
PRODID:-//Eventi in Toscana By Toscana Tascabile - ECPv6.15.12.2//NONSGML v1.0//EN
CALSCALE:GREGORIAN
METHOD:PUBLISH
X-WR-CALNAME:Eventi in Toscana By Toscana Tascabile
X-ORIGINAL-URL:https://www.eventiintoscana.it
X-WR-CALDESC:Eventi per Eventi in Toscana By Toscana Tascabile
REFRESH-INTERVAL;VALUE=DURATION:PT1H
X-Robots-Tag:noindex
X-PUBLISHED-TTL:PT1H
BEGIN:VTIMEZONE
TZID:Europe/Rome
BEGIN:DAYLIGHT
TZOFFSETFROM:+0100
TZOFFSETTO:+0200
TZNAME:CEST
DTSTART:20160327T010000
END:DAYLIGHT
BEGIN:STANDARD
TZOFFSETFROM:+0200
TZOFFSETTO:+0100
TZNAME:CET
DTSTART:20161030T010000
END:STANDARD
BEGIN:DAYLIGHT
TZOFFSETFROM:+0100
TZOFFSETTO:+0200
TZNAME:CEST
DTSTART:20170326T010000
END:DAYLIGHT
BEGIN:STANDARD
TZOFFSETFROM:+0200
TZOFFSETTO:+0100
TZNAME:CET
DTSTART:20171029T010000
END:STANDARD
BEGIN:DAYLIGHT
TZOFFSETFROM:+0100
TZOFFSETTO:+0200
TZNAME:CEST
DTSTART:20180325T010000
END:DAYLIGHT
BEGIN:STANDARD
TZOFFSETFROM:+0200
TZOFFSETTO:+0100
TZNAME:CET
DTSTART:20181028T010000
END:STANDARD
BEGIN:DAYLIGHT
TZOFFSETFROM:+0100
TZOFFSETTO:+0200
TZNAME:CEST
DTSTART:20190331T010000
END:DAYLIGHT
BEGIN:STANDARD
TZOFFSETFROM:+0200
TZOFFSETTO:+0100
TZNAME:CET
DTSTART:20191027T010000
END:STANDARD
BEGIN:DAYLIGHT
TZOFFSETFROM:+0100
TZOFFSETTO:+0200
TZNAME:CEST
DTSTART:20200329T010000
END:DAYLIGHT
BEGIN:STANDARD
TZOFFSETFROM:+0200
TZOFFSETTO:+0100
TZNAME:CET
DTSTART:20201025T010000
END:STANDARD
BEGIN:DAYLIGHT
TZOFFSETFROM:+0100
TZOFFSETTO:+0200
TZNAME:CEST
DTSTART:20210328T010000
END:DAYLIGHT
BEGIN:STANDARD
TZOFFSETFROM:+0200
TZOFFSETTO:+0100
TZNAME:CET
DTSTART:20211031T010000
END:STANDARD
END:VTIMEZONE
BEGIN:VEVENT
DTSTART;TZID=Europe/Rome:20191207T100000
DTEND;TZID=Europe/Rome:20200106T200000
DTSTAMP:20260420T182004
CREATED:20191126T102229Z
LAST-MODIFIED:20210726T090718Z
UID:281176-1575712800-1578340800@www.eventiintoscana.it
SUMMARY:Natale a Sarteano. I Presepi nel Borgo - Sarteano (Siena)
DESCRIPTION:Da sabato 7 dicembre a lunedì 6 gennaio 2020 il Natale illumina Sarteano\, piccolo borgo in provincia di Siena fra la Valdichiana e la Val d’Orcia\, che diventa per il terzo anno consecutivo ‘il Paese dei Presepi’.\nCi saranno i Presepi storici delle Contrade della Giostra del Saracino e una perla ormai divenuta punto di riferimento nazionale per gli appassionati di natività: il Museo (privato) dei Presepi dal Mondo\, che quest’anno ha ottenuto un importantissimo riconoscimento spostando una parte della collezione a Siena per una mostra unica ai Magazzini del Sale. \nAncora\, ci sarà l’esposizione itinerante costituita da circa 80 opere d’arte ‘Viaggio tra i Presepi’ di Elena Turci\, collezionista di Reggio Emilia\, nella Sala Mostre Comunale e nelle vetrine di tanti commercianti che hanno collaborato all’allestimento di questo particolare percorso. \nNella centrale Sala Mostre sarà allestita anche ‘La femminilità nell’arte: un percorso tra la tela e il raku’ di Nadia Baglioni e Leonardo Pinzi\, esposizione di opere d’arte realizzate con varie tecniche per omaggiare la figura della donna\, la sua femminilità e l’aspetto intrinseco di generatrice di bellezza e speranza. \nA completare l’atmosfera natalizia spazio anche alla Pira della Vigilia in Piazza Bargagli\, la proiezione di Maria e Giuseppe con il bambinello sulla facciata della chiesa di San Francesco\, i Mercatini di Natale nei fine settimana\, i Tour del Centro Storico in Carrozza e\, dedicati ai bambini\, i Giri in Pony\, l’Ufficio di Babbo Natale\, i Laboratori di Mamma Natale e l’Officina degli Elfi\, e molto altro. \nE a Capodanno\, oltre al consueto spettacolo teatrale della Compagnia degli Arrischianti\, feste in Piazza e al Palazzetto dello Sport\, per venire incontro ai desideri di tutti e di tutte le età. \n*** \nInfo: Ufficio Turistico – Pro Loco Sarteano 0578/269204 – www.sarteanoliving.com – turismo@comune.sarteano.si.it \nSCARICA LA LOCANDINA
URL:https://www.eventiintoscana.it/evento/natale-a-sarteano-i-presepi-nel-borgo-sarteano-siena
CATEGORIES:Feste e Folklore,Siena
ATTACH;FMTTYPE=image/jpeg:https://www.eventiintoscana.it/wp-content/uploads/2019/11/Natale-a-Sarteano_740x345.jpg
END:VEVENT
BEGIN:VEVENT
DTSTART;VALUE=DATE:20181201
DTEND;VALUE=DATE:20190107
DTSTAMP:20260420T182004
CREATED:20181202T162439Z
LAST-MODIFIED:20190107T065737Z
UID:272958-1543622400-1546819199@www.eventiintoscana.it
SUMMARY:Natale a Pisa
DESCRIPTION:Il Natale a Pisa sarà ricchissimo di eventi: ci saranno concerti e spettacoli\, mostre e mercatini\, incontri e presentazioni di libri (tra cui anche l’ultimo di Giovanni Allevi). “Natale di Stelle”\, questo il nome del programma di eventi che animerà Pisa dall’1 dicembre fino all’Epifania. \n\nGli spettacoli\nMabo’ Band On the road  (sabato 8 dicembre\, piazza Vittorio Emanuele II\, Corso Italia e Borgo\, ore 16.30 -17.30 -18.30)\, è uno spettacolo di animazione che vanta oltre 2000 rappresentazioni effettuate nei festival di Germania\, Giappone\, Canada\, New Orleans\, Russia\, nelle grandi fiere internazionali di Berlino e nei festival di teatro di strada di tutto il mondo. Si tratta di improvvisazioni comico/musicali e movimento con la simpatia e il senso dell’humor che contraddistingue la band. \nFamiglia Mirabella (domenica 9 dicembre\, piazza Garibaldi\, ore 17) è conosciuta al grande pubblico in quanto vanta numerose presenze tv\, tra le quali 20 puntate di Colorado. Si tratta di un evento che si compone di energia\, giocoleria\, mimo\, equilibrismi\, danza\, teatro e musica. \nGrande Piano (sabato 15 dicembre\, largo Ciro Menotti\, dalle 16.30 alle 19.30) è uno strumento musicale che unisce musica\, danza\, didattica e gioco. Si ispira al Big Piano di Fao Schwarz di New York\, diverte il pubblico coinvolgendolo e rendendolo protagonista. \nAndreanne Thiboutot (domenica 16 dicembre\, piazza La Pera\, ore 17-18) è un artista canadese che propone un romantico e elegantissimo spettacolo di hula hoop. È stato protagonista di trasmissioni tv e di eventi molto importanti. \n\nLe attrazioni\nCarillon Vivente (sabato 22 e domenica 23 dicembre\, piazza Vittorio Emanuele II\, Corso Italia e Borgo\, ore 16.30 – 18.00) è una delle proposte artistiche più esclusive dell’ultimo decennio che ha caratterizzato eventi di grandissima importanza su scala mondiale. Si tratta di un pianoforte meccanico munito di ruote e motore che vaga sulle note musicali guidato da un settecentesco pianista mentre un’eterea ballerina balla sulle punte in tutù. Sarà presente ai festeggiamenti del capodanno di Bangkok 2018 \nSlitta itinerante dell’800 (lunedì 24 dicembre\, piazza Vittorio Emanuele II\, Corso Italia e Borgo\, dalle 17.00 alle 19.00) vede un eccentrico cocchiere in abiti vittoriani\, interpretato da una figura femminile\, che trasporterà\, su una slitta autentica dell’800\, Babbo Natale per le vie della città coinvolgendo grandi e piccini. \n\nIl Capodanno (piazza Garibaldi – Ponte di Mezzo)\nAdika Pongo è una band musicale fondata nel 1994 da Nicola Fabi che propone spettacoli di Disco Music con un repertorio che spazia dal soul Funcky al Pop e alla disco anni ‘ 70 e ‘ 80. \nEmanuela Aureli è imitatrice e artista italiana molto conosciuta dal pubblico per le tante apparizioni televisive con interventi e spettacoli di gag\, battute e tante famose imitazioni. \nMaria Elena Fabi\, presentatrice dello spettacolo che si terrà il 31 dicembre\, è una giornalista televisiva RAI e inviata del programma Uno Mattina. \n\nLa Befana\nMagia di colori (largo Ciro Menotti\, dalle 17.30 alle 19)\, evento suggestivo dove tre clown musicisti conducono il pubblico in un vortice di emozioni colorate. Si tratta dell’ultima produzione del trio di clown comico-musicisti più famoso d’Italia e non solo. È uno spettacolo rappresentato anche in diverse piazze d’Europa con grande successo. \nPer il programma dettagliato del Natale a Pisa\, andate qui. Per altri eventi come questo\, andate qui.
URL:https://www.eventiintoscana.it/evento/natale-a-pisa
LOCATION:Pisa\, Pisa\, Pisa\, Italia
CATEGORIES:Fiere e Mercatini,Pisa
ATTACH;FMTTYPE=image/jpeg:https://www.eventiintoscana.it/wp-content/uploads/2018/12/natale-a-pisa.jpg
ORGANIZER;CN="Comune di Pisa":MAILTO:urp@comune.pisa.it 
END:VEVENT
BEGIN:VEVENT
DTSTART;VALUE=DATE:20171208
DTEND;VALUE=DATE:20171211
DTSTAMP:20260420T182004
CREATED:20171108T161307Z
LAST-MODIFIED:20171113T143254Z
UID:253819-1512691200-1512950399@www.eventiintoscana.it
SUMMARY:Sapori di Natale - Fivizzano (Massa e Carrara)
DESCRIPTION:Dall’8 al 10 dicembre torna a Fivizzano\, puntuale come ogni anno\, nella splendida cornice di piazza Medicea\, Sapori di Natale.\nLa golosa kermesse proporrà stand gastronomici con prodotti tipici (cian\, pattone\, panigacci\, polenta incatenata\, cioccolato\, vin brulè e tanto altro)\, botteghe artigianali\, la Casa e il villaggio\, la carrozza e i cavalli di Babbo Natale (che scenderà dal campanile della Chiesa Prepositurale)\, gli elfi alla Biblioteca Civica\, la rassegna corale e il coro gospel\, la mostra dei presepi\, il concorso della vetrina più bella\, show cooking e tantissimo altro! La manifestazione è organizzata dall’Associazione Medicea in collaborazione con il Comune di Fivizzano\, l’Associazione Turistica Proloco di Fivizzano ed Enel Green Power.
URL:https://www.eventiintoscana.it/evento/sapori-natale-fivizzano-massa-carrara
LOCATION:Piazza Medicea\, Fivizzano\, Massa e Carrara\, 54013\, Italia
CATEGORIES:Fiere e Mercatini,Massa e Carrara
ATTACH;FMTTYPE=image/jpeg:https://www.eventiintoscana.it/wp-content/uploads/2017/11/sapori-di-natale-fivizano.jpg
END:VEVENT
END:VCALENDAR