BEGIN:VCALENDAR
VERSION:2.0
PRODID:-//Eventi in Toscana By Toscana Tascabile - ECPv6.15.12.2//NONSGML v1.0//EN
CALSCALE:GREGORIAN
METHOD:PUBLISH
X-WR-CALNAME:Eventi in Toscana By Toscana Tascabile
X-ORIGINAL-URL:https://www.eventiintoscana.it
X-WR-CALDESC:Eventi per Eventi in Toscana By Toscana Tascabile
REFRESH-INTERVAL;VALUE=DURATION:PT1H
X-Robots-Tag:noindex
X-PUBLISHED-TTL:PT1H
BEGIN:VTIMEZONE
TZID:Europe/Rome
BEGIN:DAYLIGHT
TZOFFSETFROM:+0100
TZOFFSETTO:+0200
TZNAME:CEST
DTSTART:20180325T010000
END:DAYLIGHT
BEGIN:STANDARD
TZOFFSETFROM:+0200
TZOFFSETTO:+0100
TZNAME:CET
DTSTART:20181028T010000
END:STANDARD
BEGIN:DAYLIGHT
TZOFFSETFROM:+0100
TZOFFSETTO:+0200
TZNAME:CEST
DTSTART:20190331T010000
END:DAYLIGHT
BEGIN:STANDARD
TZOFFSETFROM:+0200
TZOFFSETTO:+0100
TZNAME:CET
DTSTART:20191027T010000
END:STANDARD
BEGIN:DAYLIGHT
TZOFFSETFROM:+0100
TZOFFSETTO:+0200
TZNAME:CEST
DTSTART:20200329T010000
END:DAYLIGHT
BEGIN:STANDARD
TZOFFSETFROM:+0200
TZOFFSETTO:+0100
TZNAME:CET
DTSTART:20201025T010000
END:STANDARD
BEGIN:DAYLIGHT
TZOFFSETFROM:+0100
TZOFFSETTO:+0200
TZNAME:CEST
DTSTART:20210328T010000
END:DAYLIGHT
BEGIN:STANDARD
TZOFFSETFROM:+0200
TZOFFSETTO:+0100
TZNAME:CET
DTSTART:20211031T010000
END:STANDARD
END:VTIMEZONE
BEGIN:VEVENT
DTSTART;TZID=Europe/Rome:20191207T080000
DTEND;TZID=Europe/Rome:20200106T220000
DTSTAMP:20260422T012550
CREATED:20191209T172227Z
LAST-MODIFIED:20191209T172227Z
UID:282558-1575705600-1578348000@www.eventiintoscana.it
SUMMARY:Natale di Vernio - Vernio (Prato)
DESCRIPTION:Durante tutto il periodo delle feste\, il Comune di Vernio promuove una serie di eventi per celebrare il Natale:  dal Presepe vivente di Sant’Ippolito ai laboratori per famiglie\, dalle degustazioni con i prodotti del territorio allo Street Food.\nLa piazza di Sant’Ippolito il 22 dicembre farà da cornice al presepe vivente\, con la partecipazione del vescovo monsignor Giovanni Nerbini. \nVetrina anche per i prodotti del territorio con le degustazioni in programma il 15 e il 22 dicembre. E ci sarà anche lo Street Food a tema natalizio e gli spettacoli delle majorette e della banda di Luicciana. \nGli eventi natalizi sono promossi dal Comune di Vernio con la collaborazione della Biblioteca Petrarca\, della Fondazione CDSE\, del Centro commerciale naturale Vivere Vernio\, dei circoli Arci\, di Slow Food Prato. Ecco il programma dettagliato del fine settimana 7-8 dicembre. \nVia anche ai Mercatini di Natale\, a cura del Centro commerciale naturale Vivere Vernio. Nel centro di Mercatale e in via delle Rose dalle 9.30 alle 19.
URL:https://www.eventiintoscana.it/evento/natale-di-vernio-vernio-prato
CATEGORIES:Feste e Folklore,Prato
ATTACH;FMTTYPE=image/jpeg:https://www.eventiintoscana.it/wp-content/uploads/2019/12/Natale_unplash5.jpg
END:VEVENT
END:VCALENDAR