BEGIN:VCALENDAR
VERSION:2.0
PRODID:-//Eventi in Toscana By Toscana Tascabile - ECPv6.15.12.2//NONSGML v1.0//EN
CALSCALE:GREGORIAN
METHOD:PUBLISH
X-WR-CALNAME:Eventi in Toscana By Toscana Tascabile
X-ORIGINAL-URL:https://www.eventiintoscana.it
X-WR-CALDESC:Eventi per Eventi in Toscana By Toscana Tascabile
REFRESH-INTERVAL;VALUE=DURATION:PT1H
X-Robots-Tag:noindex
X-PUBLISHED-TTL:PT1H
BEGIN:VTIMEZONE
TZID:Europe/Rome
BEGIN:DAYLIGHT
TZOFFSETFROM:+0100
TZOFFSETTO:+0200
TZNAME:CEST
DTSTART:20190331T010000
END:DAYLIGHT
BEGIN:STANDARD
TZOFFSETFROM:+0200
TZOFFSETTO:+0100
TZNAME:CET
DTSTART:20191027T010000
END:STANDARD
BEGIN:DAYLIGHT
TZOFFSETFROM:+0100
TZOFFSETTO:+0200
TZNAME:CEST
DTSTART:20200329T010000
END:DAYLIGHT
BEGIN:STANDARD
TZOFFSETFROM:+0200
TZOFFSETTO:+0100
TZNAME:CET
DTSTART:20201025T010000
END:STANDARD
BEGIN:DAYLIGHT
TZOFFSETFROM:+0100
TZOFFSETTO:+0200
TZNAME:CEST
DTSTART:20210328T010000
END:DAYLIGHT
BEGIN:STANDARD
TZOFFSETFROM:+0200
TZOFFSETTO:+0100
TZNAME:CET
DTSTART:20211031T010000
END:STANDARD
BEGIN:DAYLIGHT
TZOFFSETFROM:+0100
TZOFFSETTO:+0200
TZNAME:CEST
DTSTART:20220327T010000
END:DAYLIGHT
BEGIN:STANDARD
TZOFFSETFROM:+0200
TZOFFSETTO:+0100
TZNAME:CET
DTSTART:20221030T010000
END:STANDARD
END:VTIMEZONE
BEGIN:VEVENT
DTSTART;VALUE=DATE:20201201
DTEND;VALUE=DATE:20210107
DTSTAMP:20260424T231001
CREATED:20201210T153139Z
LAST-MODIFIED:20201210T153139Z
UID:288265-1606780800-1609977599@www.eventiintoscana.it
SUMMARY:Natale di Siena 2020 - Siena
DESCRIPTION:Un Natale sobrio e intimo\, quello di Siena\, con l’obiettivo di regalare comunque un’atmosfera natalizia carica di speranza.\nQuesto il programma: \n\nluminarie e installazioni luminose:\n\ncome per le Festività del 2019\, nel Centro Storico e nelle principali piazze verranno accese luminarie ed installazioni luminose\, incrementate quest’anno dai braccialetti delle 17 Contrade: dal 13 dicembre al 6 gennaio saranno infatti installati ed accesi i braccialetti delle Contrade\, andando ad illuminare ancor di più alcune le vie della città fino alla fine delle festività natalizie. \n\nl’albero di Natale:\n\nNel Cortile del Podestà\, ci sarà l’accensione dell’Albero di Natale con gli addobbi a cura dei piccoli delle Contrade (in collaborazione con il Coordinamento del gruppo degli addetti ai piccoli delle Contrade). \n\npercorsi gastronomici:\n\nsono stati creati percorsi gastronomici tipicamente senesi a tema natalizio proposti dai ristoranti di Siena. Un sottofondo musicale\, nella via principale del Centro\, richiamerà canzoni natalizie realizzate grazie a progetti affidati alla Scuole e a varie associazioni musicali della città. \n\npercorsi musicali:\n\nDal 1 dicembre al 6 gennaio per le vie del centro storico sono stati programmati percorsi musicali in filodiffusione a cura delle Scuole\, Accademie\, Conservatori\, Cori e Associazioni musicali senesi\, quali l’Accademia Musicale Chigiana\, l’Accademia Nazionale del Jazz “Siena Jazz”\, il Conservatorio Musicale “Rinaldo Franci”\, l’Orchestra a Plettro Senese “Aldo Bocci”\, il Coro dei Polifonici Senesi\, il Coro dei Madrigalisti Senesi\, l’Associazione Musicale “Music Ensemble”\, Banda “Città del Palio” e l’Unione Corale Senese. \n\nTrenino:\n\nFino a gennaio\, tutti i giorni con orari cadenzati\, è previsto il passaggio del trenino di Natale per le vie del centro. Quest’anno un ulteriore trenino eseguirà un percorso nella zona commerciale di Massetana Romana\, con l’obiettivo di raggiungere una sinergia sempre maggiore tra il centro storico e i quartieri limitrofi; tale progetto sarà realizzato in autonomia dai commercianti della zona in questione. \n\nArtigianato locale:\n\nSe la situazione lo consentirà\, in Piazza Matteotti sarà realizzato dall’Associazione Crea e Dimostra un “Villaggio dell’Ingegno” dove verranno esposte opere uniche di artigianato locale. \n\nMusei di Contrada:\n\nIn base alle disposizioni governative meno restrittive ed un allentamento dei divieti\, si potrà andare alla scoperta dei Musei di Contrada con visite libere nel cuore di ogni rione ammirando l’esposizione delle Monture della Passeggiata Storica\, dei Costumi antichi\, di importanti opere d’arte e significativi oggetti di storia contradaiola e paliesca; nell’occasione sarà possibile visitare anche la Sala delle Vittorie\, con l’esposizione dei Pali vinti da ciascuna Contrada – La visita si avvarrà della spiegazione di un addetto della Contrada.
URL:https://www.eventiintoscana.it/evento/natale-di-siena-2020-siena
CATEGORIES:Feste e Folklore,Siena
ATTACH;FMTTYPE=image/jpeg:https://www.eventiintoscana.it/wp-content/uploads/2020/12/natale-a-siena.jpg
END:VEVENT
END:VCALENDAR