BEGIN:VCALENDAR
VERSION:2.0
PRODID:-//Eventi in Toscana By Toscana Tascabile - ECPv6.15.12.2//NONSGML v1.0//EN
CALSCALE:GREGORIAN
METHOD:PUBLISH
X-WR-CALNAME:Eventi in Toscana By Toscana Tascabile
X-ORIGINAL-URL:https://www.eventiintoscana.it
X-WR-CALDESC:Eventi per Eventi in Toscana By Toscana Tascabile
REFRESH-INTERVAL;VALUE=DURATION:PT1H
X-Robots-Tag:noindex
X-PUBLISHED-TTL:PT1H
BEGIN:VTIMEZONE
TZID:Europe/Rome
BEGIN:DAYLIGHT
TZOFFSETFROM:+0100
TZOFFSETTO:+0200
TZNAME:CEST
DTSTART:20180325T010000
END:DAYLIGHT
BEGIN:STANDARD
TZOFFSETFROM:+0200
TZOFFSETTO:+0100
TZNAME:CET
DTSTART:20181028T010000
END:STANDARD
BEGIN:DAYLIGHT
TZOFFSETFROM:+0100
TZOFFSETTO:+0200
TZNAME:CEST
DTSTART:20190331T010000
END:DAYLIGHT
BEGIN:STANDARD
TZOFFSETFROM:+0200
TZOFFSETTO:+0100
TZNAME:CET
DTSTART:20191027T010000
END:STANDARD
BEGIN:DAYLIGHT
TZOFFSETFROM:+0100
TZOFFSETTO:+0200
TZNAME:CEST
DTSTART:20200329T010000
END:DAYLIGHT
BEGIN:STANDARD
TZOFFSETFROM:+0200
TZOFFSETTO:+0100
TZNAME:CET
DTSTART:20201025T010000
END:STANDARD
END:VTIMEZONE
BEGIN:VEVENT
DTSTART;TZID=Europe/Rome:20191019T080000
DTEND;TZID=Europe/Rome:20191020T170000
DTSTAMP:20260419T182104
CREATED:20191016T170032Z
LAST-MODIFIED:20191016T170032Z
UID:279917-1571472000-1571590800@www.eventiintoscana.it
SUMMARY:NASA Space Apps Challenge - Centro Congressi Le Benedettine\, Pisa
DESCRIPTION:NASA Space Apps Challenge\, prima edizione all’università di Pisa\, è un Hackathon che si svolgerà dal 19 al 20 ottobre presso il Centro Congressi “Le Benedettine”\, 30 ore continuative dove i partecipanti svilupperanno e progetteranno soluzioni a problematiche e sfide proposte da NASA che potrebbero essere utilizzate per risolvere problemi nel nostro pianeta o per missioni spaziali future.\nOltre ai premi per le due migliori squadre locali\, NASA prevede di premiare le migliori squadre nel mondo ospitandole ad uno dei prossimi lanci presso il centro NASA di Cape Carnival negli Stati Uniti. \nPer maggiori informazioni e materiale il link al sito ufficiale:\n2019.spaceappschallenge.org/locations/pisa-italy/ \ne le pagine social:\nhttps://www.facebook.com/spaceappspisa/\nhttps://www.instagram.com/spaceappspisa/\nhttps://www.instagram.com/spaceappspis
URL:https://www.eventiintoscana.it/evento/nasa-space-apps-challenge-centro-congressi-le-benedettine-pisa
LOCATION:Centro Congressi Le Benedettine\,  Piazza S. Paolo a Ripa D'Arno\, 16\, Pisa
CATEGORIES:Mostra d'Arte,Pisa
ATTACH;FMTTYPE=image/jpeg:https://www.eventiintoscana.it/wp-content/uploads/2019/10/nasa-space-apps-challenge-pisa.jpg
END:VEVENT
END:VCALENDAR