BEGIN:VCALENDAR
VERSION:2.0
PRODID:-//Eventi in Toscana By Toscana Tascabile - ECPv6.15.12.2//NONSGML v1.0//EN
CALSCALE:GREGORIAN
METHOD:PUBLISH
X-WR-CALNAME:Eventi in Toscana By Toscana Tascabile
X-ORIGINAL-URL:https://www.eventiintoscana.it
X-WR-CALDESC:Eventi per Eventi in Toscana By Toscana Tascabile
REFRESH-INTERVAL;VALUE=DURATION:PT1H
X-Robots-Tag:noindex
X-PUBLISHED-TTL:PT1H
BEGIN:VTIMEZONE
TZID:Europe/Rome
BEGIN:DAYLIGHT
TZOFFSETFROM:+0100
TZOFFSETTO:+0200
TZNAME:CEST
DTSTART:20150329T010000
END:DAYLIGHT
BEGIN:STANDARD
TZOFFSETFROM:+0200
TZOFFSETTO:+0100
TZNAME:CET
DTSTART:20151025T010000
END:STANDARD
BEGIN:DAYLIGHT
TZOFFSETFROM:+0100
TZOFFSETTO:+0200
TZNAME:CEST
DTSTART:20160327T010000
END:DAYLIGHT
BEGIN:STANDARD
TZOFFSETFROM:+0200
TZOFFSETTO:+0100
TZNAME:CET
DTSTART:20161030T010000
END:STANDARD
BEGIN:DAYLIGHT
TZOFFSETFROM:+0100
TZOFFSETTO:+0200
TZNAME:CEST
DTSTART:20170326T010000
END:DAYLIGHT
BEGIN:STANDARD
TZOFFSETFROM:+0200
TZOFFSETTO:+0100
TZNAME:CET
DTSTART:20171029T010000
END:STANDARD
END:VTIMEZONE
BEGIN:VEVENT
DTSTART;TZID=Europe/Rome:20161231T220000
DTEND;TZID=Europe/Rome:20161231T220000
DTSTAMP:20260422T054621
CREATED:20161127T223819Z
LAST-MODIFIED:20170102T143553Z
UID:227038-1483221600-1483221600@www.eventiintoscana.it
SUMMARY:Roy Paci Aretuska Allstars - Piazza San Francesco\, Prato
DESCRIPTION:Il 31 dicembre a Prato si festeggia in Piazza San Francesco grazie al Concerto della notte di Capodanno con l’esplosiva band capitanata da Roy Paci. Ingresso libero! \n  \nCredits foto: I\, Sailko
URL:https://www.eventiintoscana.it/evento/roy-paci-aretuska-allstars-piazza-san-francesco-prato-prato
LOCATION:Piazza San Francesco\, Prato\, Toscana\, 59100\, Italia
CATEGORIES:Prato
ATTACH;FMTTYPE=image/jpeg:https://www.eventiintoscana.it/wp-content/uploads/2016/11/piazza-san-francesco-prato.jpg
END:VEVENT
END:VCALENDAR