BEGIN:VCALENDAR
VERSION:2.0
PRODID:-//Eventi in Toscana By Toscana Tascabile - ECPv6.15.12.2//NONSGML v1.0//EN
CALSCALE:GREGORIAN
METHOD:PUBLISH
X-ORIGINAL-URL:https://www.eventiintoscana.it
X-WR-CALDESC:Eventi per Eventi in Toscana By Toscana Tascabile
REFRESH-INTERVAL;VALUE=DURATION:PT1H
X-Robots-Tag:noindex
X-PUBLISHED-TTL:PT1H
BEGIN:VTIMEZONE
TZID:Europe/Rome
BEGIN:DAYLIGHT
TZOFFSETFROM:+0100
TZOFFSETTO:+0200
TZNAME:CEST
DTSTART:20160327T010000
END:DAYLIGHT
BEGIN:STANDARD
TZOFFSETFROM:+0200
TZOFFSETTO:+0100
TZNAME:CET
DTSTART:20161030T010000
END:STANDARD
BEGIN:DAYLIGHT
TZOFFSETFROM:+0100
TZOFFSETTO:+0200
TZNAME:CEST
DTSTART:20170326T010000
END:DAYLIGHT
BEGIN:STANDARD
TZOFFSETFROM:+0200
TZOFFSETTO:+0100
TZNAME:CET
DTSTART:20171029T010000
END:STANDARD
BEGIN:DAYLIGHT
TZOFFSETFROM:+0100
TZOFFSETTO:+0200
TZNAME:CEST
DTSTART:20180325T010000
END:DAYLIGHT
BEGIN:STANDARD
TZOFFSETFROM:+0200
TZOFFSETTO:+0100
TZNAME:CET
DTSTART:20181028T010000
END:STANDARD
END:VTIMEZONE
BEGIN:VEVENT
DTSTART;TZID=Europe/Rome:20170812T220000
DTEND;TZID=Europe/Rome:20170812T220000
DTSTAMP:20260421T160936
CREATED:20170721T103127Z
LAST-MODIFIED:20170721T103127Z
UID:245969-1502575200-1502575200@www.eventiintoscana.it
SUMMARY:Sealand Music Festival - Porto Santo Stefano (GR)
DESCRIPTION:3ª edizione per il Sealand Music Festival: appuntamento il 12 agosto a partire dalle ore 22 in loc. Le Piane (Porto Santo Stefano\, GR)\nPer il terzo anno consecutivo Nettuno è tornato\, con lui un’ ondata di musica\, divertimento e spettacolo. \nSulla cresta dell’onda\, in consolle super special guests: NARI E MILANI – MAURIZIO GUBELLINI. \nIngresso con consumazione inclusa € 5\,00 \n*** \nSERVIZIO NAVETTA gratuito tutta la notte:\n– Porto Santo Stefano:\ndalla MARINELLA ogni 30 minuti a partire dalle ore 21.30\n– Porto Ercole (tba). \nSERVIZIO NAVETTA tutta la notte TICKET 5€:\n– Campeggi (tba).\n– Albinia (tba).\n– Orbetello (tba).\n(Per prenotazioni\, ticket e orari Tel. 389.4611391 – Alessio)
URL:https://www.eventiintoscana.it/evento/sealand-music-festival-monte-argentario-gr
LOCATION:Luogo Senza Nome\, località Le Piane\, 58019 Porto Santo Stefano
CATEGORIES:Grosseto,Musica e festival
ATTACH;FMTTYPE=image/png:https://www.eventiintoscana.it/wp-content/uploads/2017/07/Sealand_MonteArgentario.png
END:VEVENT
END:VCALENDAR