BEGIN:VCALENDAR
VERSION:2.0
PRODID:-//Eventi in Toscana By Toscana Tascabile - ECPv6.15.12.2//NONSGML v1.0//EN
CALSCALE:GREGORIAN
METHOD:PUBLISH
X-ORIGINAL-URL:https://www.eventiintoscana.it
X-WR-CALDESC:Eventi per Eventi in Toscana By Toscana Tascabile
REFRESH-INTERVAL;VALUE=DURATION:PT1H
X-Robots-Tag:noindex
X-PUBLISHED-TTL:PT1H
BEGIN:VTIMEZONE
TZID:Europe/Rome
BEGIN:DAYLIGHT
TZOFFSETFROM:+0100
TZOFFSETTO:+0200
TZNAME:CEST
DTSTART:20160327T010000
END:DAYLIGHT
BEGIN:STANDARD
TZOFFSETFROM:+0200
TZOFFSETTO:+0100
TZNAME:CET
DTSTART:20161030T010000
END:STANDARD
BEGIN:DAYLIGHT
TZOFFSETFROM:+0100
TZOFFSETTO:+0200
TZNAME:CEST
DTSTART:20170326T010000
END:DAYLIGHT
BEGIN:STANDARD
TZOFFSETFROM:+0200
TZOFFSETTO:+0100
TZNAME:CET
DTSTART:20171029T010000
END:STANDARD
BEGIN:DAYLIGHT
TZOFFSETFROM:+0100
TZOFFSETTO:+0200
TZNAME:CEST
DTSTART:20180325T010000
END:DAYLIGHT
BEGIN:STANDARD
TZOFFSETFROM:+0200
TZOFFSETTO:+0100
TZNAME:CET
DTSTART:20181028T010000
END:STANDARD
END:VTIMEZONE
BEGIN:VEVENT
DTSTART;TZID=Europe/Rome:20170519T000000
DTEND;TZID=Europe/Rome:20170521T000000
DTSTAMP:20260419T193939
CREATED:20170419T093139Z
LAST-MODIFIED:20170522T080522Z
UID:239550-1495152000-1495324800@www.eventiintoscana.it
SUMMARY:Firenze dei Bambini - Firenze
DESCRIPTION:Il 19\, 20 e 21 maggio 2017 a Firenze arriva il Festival dei bambini\, dedicato ai più piccoli e alle loro famiglie: laboratori\, percorsi\, spettacoli e iniziative per tutte le età per scoprire\, imparare\, esplorare e divertirsi con la musica\, la tecnologia\, l’arte e tanto altro ancora.\nLa ‘città come casa’ sarà il filo rosso dell’evento\, durante il quale prenderanno vita tante piccole città tematiche pronte ad accogliere bambini e ragazzi curiosi di scoprire\, imparare\, esplorare e divertirsi con la musica\, la tecnologia\, l’arte e tanto altro ancora.  \nL’evento\, promosso dal Comune di Firenze e organizzato da MUS.E\, vedrà coinvolti numerosi spazi cittadini: Palazzo Vecchio\, la Biblioteca delle Oblate\, l’Opera di Firenze\, il Complesso delle Murate\, il Parco delle Cascine\, l’Istituto degli Innocenti\, il quartiere di San Niccolò. \nLa giornata di venerdì 19 maggio vedrà coinvolte direttamente le scuole del territorio fiorentino\, con una full-immersion di laboratori e attività\, mentre le giornate di sabato 20 e domenica 21 saranno dedicate ai bambini e ai ragazzi e alle loro famiglie con laboratori\, percorsi\, spettacoli e iniziative per tutte le età e per tutti i gusti che consentiranno di vivere la città in modo nuovo e di scoprirne le meraviglie. \nIl Festival sarà inaugurato pubblicamente venerdì 19 maggio alle ore 18.00 alla Cavea dell’Opera di Firenze: tutti i bambini sono invitati a prendere parte a un coro ‘da record’\, partecipando ad una spettacolare coreografia (a cura di Venti Lucenti). \nAggiornamenti sul sito www.firenzebambini.it e su www.musefirenze.it
URL:https://www.eventiintoscana.it/evento/firenze-dei-bambini-firenze-centro-firenze-firenze
LOCATION:Firenze centro\, - Firenze centro\, Firenze\, Toscana\, 50123\, IT
CATEGORIES:Firenze,Musica e festival
ATTACH;FMTTYPE=image/jpeg:https://www.eventiintoscana.it/wp-content/uploads/2017/04/21371__firenzebambini.jpg
END:VEVENT
END:VCALENDAR