BEGIN:VCALENDAR
VERSION:2.0
PRODID:-//Eventi in Toscana By Toscana Tascabile - ECPv6.15.12.2//NONSGML v1.0//EN
CALSCALE:GREGORIAN
METHOD:PUBLISH
X-WR-CALNAME:Eventi in Toscana By Toscana Tascabile
X-ORIGINAL-URL:https://www.eventiintoscana.it
X-WR-CALDESC:Eventi per Eventi in Toscana By Toscana Tascabile
REFRESH-INTERVAL;VALUE=DURATION:PT1H
X-Robots-Tag:noindex
X-PUBLISHED-TTL:PT1H
BEGIN:VTIMEZONE
TZID:Europe/Rome
BEGIN:DAYLIGHT
TZOFFSETFROM:+0100
TZOFFSETTO:+0200
TZNAME:CEST
DTSTART:20180325T010000
END:DAYLIGHT
BEGIN:STANDARD
TZOFFSETFROM:+0200
TZOFFSETTO:+0100
TZNAME:CET
DTSTART:20181028T010000
END:STANDARD
BEGIN:DAYLIGHT
TZOFFSETFROM:+0100
TZOFFSETTO:+0200
TZNAME:CEST
DTSTART:20190331T010000
END:DAYLIGHT
BEGIN:STANDARD
TZOFFSETFROM:+0200
TZOFFSETTO:+0100
TZNAME:CET
DTSTART:20191027T010000
END:STANDARD
BEGIN:DAYLIGHT
TZOFFSETFROM:+0100
TZOFFSETTO:+0200
TZNAME:CEST
DTSTART:20200329T010000
END:DAYLIGHT
BEGIN:STANDARD
TZOFFSETFROM:+0200
TZOFFSETTO:+0100
TZNAME:CET
DTSTART:20201025T010000
END:STANDARD
BEGIN:DAYLIGHT
TZOFFSETFROM:+0100
TZOFFSETTO:+0200
TZNAME:CEST
DTSTART:20210328T010000
END:DAYLIGHT
BEGIN:STANDARD
TZOFFSETFROM:+0200
TZOFFSETTO:+0100
TZNAME:CET
DTSTART:20211031T010000
END:STANDARD
END:VTIMEZONE
BEGIN:VEVENT
DTSTART;TZID=Europe/Rome:20200904T100000
DTEND;TZID=Europe/Rome:20200906T190000
DTSTAMP:20260422T003310
CREATED:20200327T103706Z
LAST-MODIFIED:20200827T141224Z
UID:286325-1599213600-1599418800@www.eventiintoscana.it
SUMMARY:---annullato--- Murabilia - Mura Urbane\, Lucca
DESCRIPTION:L’evento\, inizialmente previsto dal 4 al 6 settembre\, è stato rinviato al 3-5 settembre 2021\n\nMurabilia\, Mostra Mercato del Giardinaggio di qualità\, giunge alla sua 20ª edizione e si tiene sulle Mura Urbane di Lucca da venerdì 4 a domenica 6 settembre 2020.\n\n\nMurabilia è una delle più importanti manifestazioni italiane dedicate a fiori\, piante e giardinaggio. Si svolge ogni anno nel primo weekend di settembre nell’irripetibile scenario delle mura di Lucca sui baluardi San Regolo\, La Libertà\, nell’Orto botanico e nei sotterranei delle mura. \nSono presenti circa 250 espositori vivaisti specializzati italiani e stranieri con un’offerta che spazia in tutti i settori del mondo vegetale con piante particolari o di nuova introduzione\, antiche e nuove cultivar\, attrezzature e arredi. \nLuogo di incontro per gli appassionati e professionisti del settore con i grandi nomi del giardinaggio internazionale\, offre ai visitatori un notevole programma culturale\, botanico e orticolo\, con mostre tematiche\, convegni\, novità editoriali\, laboratori aperti a tutti. \n*** \nInfo: 366 4228615 – murabilia@murabilia.it
URL:https://www.eventiintoscana.it/evento/murabilia-mura-urbane-lucca-2
CATEGORIES:Fiere e Mercatini,Lucca
ATTACH;FMTTYPE=image/jpeg:https://www.eventiintoscana.it/wp-content/uploads/2020/03/giardinaggio_giardino_piante_pianta_fiori_fiore_pixabay.jpg
END:VEVENT
BEGIN:VEVENT
DTSTART;TZID=Europe/Rome:20190906T093000
DTEND;TZID=Europe/Rome:20190908T193000
DTSTAMP:20260422T003310
CREATED:20190905T103223Z
LAST-MODIFIED:20190905T103223Z
UID:278728-1567762200-1567971000@www.eventiintoscana.it
SUMMARY:Murabilia - Mura Urbane\, Lucca
DESCRIPTION:Da venerdì 6 a domenica 8 settembre 19° edizione sulle Mura Urbane di Lucca di Murabilia\, la mostra mercato di piante e fiori che porta in città il meglio del giardinaggio internazionale.  \nPer gli amanti di piante\, giardini\, vita all’aria aperta e atmosfere naturali è pronto un menu assolutamente speciale\, con la complicità del tema di questa diciannovesima edizione\, Sguardi a Oriente: Giappone.  Non può essere diversamente\, visto che il Giappone\, i suoi giardini\, la sua flora e il suo culto della natura offrono ricette originali e straordinarie per accontentare tutti i palati. \nIl programma completo sul sito ufficiale della manifestazione \nOrario:\nvenerdì dalle ore 12 alle ore 19.30\nsabato e domenica dalle ore 9.30 alle ore 19.30\nla vendita dei biglietti termina alle ore 18.30 di ciascun giorno \nBiglietti:\n– Intero € 8\,00\n– Ridotto € 6\,00 over 65\, minori tra gli 8 e i 14 anni\, diversamente abili e accompagnatori.\n– Gratuito per i minori di 8 anni\n– Abbonamento per due giorni € 14\,00\n– Abbonamento per tre giorni € 21\,00\n– Acquisto cumulativo 20 ingressi € 160\,00 più due biglietti omaggio
URL:https://www.eventiintoscana.it/evento/murabilia-mura-urbane-lucca
LOCATION:Mura Urbane\, Lucca
CATEGORIES:Fiere e Mercatini,Lucca
ATTACH;FMTTYPE=image/jpeg:https://www.eventiintoscana.it/wp-content/uploads/2019/09/murabilia-lucca.jpg
ORGANIZER;CN="Lucca Crea srl%2C":MAILTO:murabilia@murabilia.com
END:VEVENT
END:VCALENDAR