BEGIN:VCALENDAR
VERSION:2.0
PRODID:-//Eventi in Toscana By Toscana Tascabile - ECPv6.15.12.2//NONSGML v1.0//EN
CALSCALE:GREGORIAN
METHOD:PUBLISH
X-WR-CALNAME:Eventi in Toscana By Toscana Tascabile
X-ORIGINAL-URL:https://www.eventiintoscana.it
X-WR-CALDESC:Eventi per Eventi in Toscana By Toscana Tascabile
REFRESH-INTERVAL;VALUE=DURATION:PT1H
X-Robots-Tag:noindex
X-PUBLISHED-TTL:PT1H
BEGIN:VTIMEZONE
TZID:Europe/Rome
BEGIN:DAYLIGHT
TZOFFSETFROM:+0100
TZOFFSETTO:+0200
TZNAME:CEST
DTSTART:20190331T010000
END:DAYLIGHT
BEGIN:STANDARD
TZOFFSETFROM:+0200
TZOFFSETTO:+0100
TZNAME:CET
DTSTART:20191027T010000
END:STANDARD
BEGIN:DAYLIGHT
TZOFFSETFROM:+0100
TZOFFSETTO:+0200
TZNAME:CEST
DTSTART:20200329T010000
END:DAYLIGHT
BEGIN:STANDARD
TZOFFSETFROM:+0200
TZOFFSETTO:+0100
TZNAME:CET
DTSTART:20201025T010000
END:STANDARD
BEGIN:DAYLIGHT
TZOFFSETFROM:+0100
TZOFFSETTO:+0200
TZNAME:CEST
DTSTART:20210328T010000
END:DAYLIGHT
BEGIN:STANDARD
TZOFFSETFROM:+0200
TZOFFSETTO:+0100
TZNAME:CET
DTSTART:20211031T010000
END:STANDARD
END:VTIMEZONE
BEGIN:VEVENT
DTSTART;TZID=Europe/Rome:20200119T093000
DTEND;TZID=Europe/Rome:20200119T150000
DTSTAMP:20260423T054127
CREATED:20200113T171552Z
LAST-MODIFIED:20200113T171552Z
UID:283964-1579426200-1579446000@www.eventiintoscana.it
SUMMARY:Mugello GP Run - Autodromo del Mugello\, Scarperia e San Piero (Firenze)
DESCRIPTION:Domenica 19 gennaio all’Autodromo del Mugello si corre l’8ª edizione del Mugello Gp Run .\nGara podistica competitiva (Km 10\,490) e non competitiva (Km 5\,245)\, internazionale\, individuale maschile e femminile\, misurata e autorizzata UISP.
URL:https://www.eventiintoscana.it/evento/mugello-gp-run-autodromo-del-mugello-scarperia-e-san-piero-firenze
CATEGORIES:Firenze,Natura e Sport
ATTACH;FMTTYPE=image/jpeg:https://www.eventiintoscana.it/wp-content/uploads/2020/01/corsa_Correre_podismo_pixabay.jpg
END:VEVENT
END:VCALENDAR