BEGIN:VCALENDAR
VERSION:2.0
PRODID:-//Eventi in Toscana By Toscana Tascabile - ECPv6.15.12.2//NONSGML v1.0//EN
CALSCALE:GREGORIAN
METHOD:PUBLISH
X-ORIGINAL-URL:https://www.eventiintoscana.it
X-WR-CALDESC:Eventi per Eventi in Toscana By Toscana Tascabile
REFRESH-INTERVAL;VALUE=DURATION:PT1H
X-Robots-Tag:noindex
X-PUBLISHED-TTL:PT1H
BEGIN:VTIMEZONE
TZID:Europe/Rome
BEGIN:DAYLIGHT
TZOFFSETFROM:+0100
TZOFFSETTO:+0200
TZNAME:CEST
DTSTART:20180325T010000
END:DAYLIGHT
BEGIN:STANDARD
TZOFFSETFROM:+0200
TZOFFSETTO:+0100
TZNAME:CET
DTSTART:20181028T010000
END:STANDARD
BEGIN:DAYLIGHT
TZOFFSETFROM:+0100
TZOFFSETTO:+0200
TZNAME:CEST
DTSTART:20190331T010000
END:DAYLIGHT
BEGIN:STANDARD
TZOFFSETFROM:+0200
TZOFFSETTO:+0100
TZNAME:CET
DTSTART:20191027T010000
END:STANDARD
BEGIN:DAYLIGHT
TZOFFSETFROM:+0100
TZOFFSETTO:+0200
TZNAME:CEST
DTSTART:20200329T010000
END:DAYLIGHT
BEGIN:STANDARD
TZOFFSETFROM:+0200
TZOFFSETTO:+0100
TZNAME:CET
DTSTART:20201025T010000
END:STANDARD
END:VTIMEZONE
BEGIN:VEVENT
DTSTART;TZID=Europe/Rome:20190424T103000
DTEND;TZID=Europe/Rome:20190501T223000
DTSTAMP:20260420T142337
CREATED:20180408T164350Z
LAST-MODIFIED:20190409T090840Z
UID:264665-1556101800-1556749800@www.eventiintoscana.it
SUMMARY:MIDA 2019.Mostra internazionale dell'artigianato - Fortezza da Basso\, Firenze
DESCRIPTION:Dal 24 aprile al 1° maggio torna a Firenze\, all’interno della Fortezza da Basso\, la Mostra Internazionale dell’Artigianato.\nDue mostre nella Mostra; il grande ritorno di eccellenze dell’artigianato italiano; un focus sulle produzioni fiorentine e toscane. Sono questi alcuni degli ingredienti principali dell’83esima Mostra Internazionale dell’Artigianato di Firenze\, MIDA 2019\, completamente rinnovata nella veste e nei contenuti\, che andrà in scena dal 24 aprile al primo maggio nei 55mila metri quadrati della Fortezza da Basso. \nTante le novità per un’edizione che si preannuncia emozionante\, con un ventaglio di nuovi progetti ad alto contenuto culturale. A partire dall’omaggio a Firenze e alla Toscana\, al centro di due grandi mostre allestite in Fortezza: Firenze su misura: Wunderkammer e Le sette meraviglie della Toscana. \nFirenze su misura è la mostra promossa da Fondazione CR Firenze e curata da OMA – Osservatorio Mestieri d’Arte e Gruppo Editoriale con l’allestimento di EligoStudio. Ispirandosi ai solidi platonici di Leonardo\, verranno realizzate sei stanze delle meraviglie che raccoglieranno opere iconiche di 60 maestri che lavorano a Firenze\, suddivisi in sei categorie e racconteranno\, con l’aiuto di video-documentari e lavorazioni in diretta\, l’eccellenza del genio fiorentino0. In omaggio anche a Leonardo da Vinci\, nel 500esimo anniversario della morte. Alabastro\, ceramica\, coltelleria\, bronzo\, marmo\, oro e tabacco: sono alcune eccellenze del ‘saper fare’ toscano\, al centro della mostra. \nLe sette meraviglie della Toscana\, l’evento curato da Once che porterà nei suggestivi spazi della Polveriera un ‘distillato’ di bellezza artigiana con una selezione di creazioni uniche dei più qualificati maestri del territorio. \nIl fascino di paesi lontani e poco conosciuti approda a MIDA 2019 con\, tra le altre\, una proposta che arriva dal paese più giovane al mondo\, con il 60% della popolazione sotto i 30 anni: l’Iran\, l’antica Persia. Tanti giovani artisti porteranno in Fortezza la forza magnetica e l’entusiasmo delle loro creazioni innovative. Così Firenze\, candidata a Città Creativa UNESCO 2019\, diventa punto di incontro fra culture\, con Due mondi da esplorare. \nDel mestiere di Leonardo: immaginare\, progettare e realizzare il futuro è la proposta di Fondazione Architetti Firenze e Fondazione Giovanni Michelucci nel ricordo del genio di da Vinci. Obiettivo: raccontare il tema centrale del progetto\, attraverso tre appuntamenti che si terranno nelle giornate del 25\, 27 e 29 aprile\, che prevedono incontri\, tavole rotonde e laboratori. Al centro dell’attenzione il legame tra disegno e fare\, fra design e artigianato\, tra braccio e mente\, con designer e artigiani alla ricerca di nuovi processi creativi. Sul fronte dei giovani\, I nuovissimi sarà la sezione riservata ai maker e all’artigianato digitale con attività aperte a tutti per conoscere da vicino l’artigianato di ultima generazione e la sue relazioni con le nuove tecnologie. \n— segui l’evento sulla pagina Facebook degli organizzatori— \n 
URL:https://www.eventiintoscana.it/evento/82a-mostra-internazionale-dellartigianato-fortezza-basso-firenze
LOCATION:Fortezza da Basso\, viale strozzi\, 1\, Firenze
CATEGORIES:Fiere e Mercatini,Firenze
ATTACH;FMTTYPE=image/jpeg:https://www.eventiintoscana.it/wp-content/uploads/2018/04/mostra-internazionale-artigianato-firenze-2019.jpg
ORGANIZER;CN="Firenze Fiera":MAILTO:info@firenzefiera.it
END:VEVENT
BEGIN:VEVENT
DTSTART;TZID=Europe/Rome:20190424T100000
DTEND;TZID=Europe/Rome:20190501T230000
DTSTAMP:20260420T142337
CREATED:20190420T091436Z
LAST-MODIFIED:20190420T091436Z
UID:275186-1556100000-1556751600@www.eventiintoscana.it
SUMMARY:Gusto in Fortezza - Fortezza da Basso\, Firenze
DESCRIPTION:Con Gusto in Fortezza artigianato e gusto vanno a braccetto nell’edizione 2019 della Mostra Internazionale dell’Artigianato di Firenze (24 aprile-1 maggio): grazie all’impegno di Confcommercio Firenze nasce infatti la kermesse pensata per esaltare l’identità e la tradizione culinaria toscana.\nOltre 20 le postazioni food realizzate da Confcommercio: nella Food Court  (orario: dalle 10 alle 22.30; ingresso gratuito dalle 20) arriva lo streetfood di qualità con piatti della tradizione regionale italiana realizzati nelle caratteristiche api car\, i food truck\, che proporranno cibi ricercati e di grande livello. \nNella corte del Glicine invece la tradizione della cucina toscana con gli chef del nostro territorio impegnati a reinterpretare per il grande pubblico le ricette più famose. Si alterneranno cuochi\, maestri macellai\, sommelier\, barman e i migliori chef dell’Unione Regionale Cuochi della Toscana. \nPiatti: tra le curiosità proposte il fagotto del Chianti con pane cotto a pietra e carne di maiale a km 0\, il Birrabus\, il caratteristico scuolabus con 30 spine che riproduce il contesto di una classe di una scuola elementare\, l’hamburger di cinta senese\, il panino con la guancia brasata\, la pasta fresca in stile fiorentino. \nEvento Facebook: www.facebook.com/events/622950634812780/ \nInformazioni e contatti: Confcommercio Firenze (Gian Luca Rosai – 331 646 6780)
URL:https://www.eventiintoscana.it/evento/gusto-in-fortezza
LOCATION:Fortezza da Basso\, viale strozzi\, 1\, Firenze
CATEGORIES:Fiere e Mercatini,Firenze
ATTACH;FMTTYPE=image/jpeg:https://www.eventiintoscana.it/wp-content/uploads/2019/04/gusto-in-fortezza_650x300.jpg
END:VEVENT
END:VCALENDAR