BEGIN:VCALENDAR
VERSION:2.0
PRODID:-//Eventi in Toscana By Toscana Tascabile - ECPv6.15.12.2//NONSGML v1.0//EN
CALSCALE:GREGORIAN
METHOD:PUBLISH
X-ORIGINAL-URL:https://www.eventiintoscana.it
X-WR-CALDESC:Eventi per Eventi in Toscana By Toscana Tascabile
REFRESH-INTERVAL;VALUE=DURATION:PT1H
X-Robots-Tag:noindex
X-PUBLISHED-TTL:PT1H
BEGIN:VTIMEZONE
TZID:Europe/Rome
BEGIN:DAYLIGHT
TZOFFSETFROM:+0100
TZOFFSETTO:+0200
TZNAME:CEST
DTSTART:20220327T010000
END:DAYLIGHT
BEGIN:STANDARD
TZOFFSETFROM:+0200
TZOFFSETTO:+0100
TZNAME:CET
DTSTART:20221030T010000
END:STANDARD
BEGIN:DAYLIGHT
TZOFFSETFROM:+0100
TZOFFSETTO:+0200
TZNAME:CEST
DTSTART:20230326T010000
END:DAYLIGHT
BEGIN:STANDARD
TZOFFSETFROM:+0200
TZOFFSETTO:+0100
TZNAME:CET
DTSTART:20231029T010000
END:STANDARD
BEGIN:DAYLIGHT
TZOFFSETFROM:+0100
TZOFFSETTO:+0200
TZNAME:CEST
DTSTART:20240331T010000
END:DAYLIGHT
BEGIN:STANDARD
TZOFFSETFROM:+0200
TZOFFSETTO:+0100
TZNAME:CET
DTSTART:20241027T010000
END:STANDARD
END:VTIMEZONE
BEGIN:VEVENT
DTSTART;TZID=Europe/Rome:20230901T170000
DTEND;TZID=Europe/Rome:20230903T235500
DTSTAMP:20260420T204020
CREATED:20190911T103029Z
LAST-MODIFIED:20230829T084351Z
UID:278928-1693587600-1693785300@www.eventiintoscana.it
SUMMARY:Montecatini Beer Fest. Birriamo alla Salute! - Montecatini Terme (Pistoia)
DESCRIPTION:Da venerdì 1 a domenica 3 settembre 2023 torna a Montecatini Terme una nuova edizione di Montecatini Beer Fest. Birriamo alla Salute. \nIl Montecatini Beer Fest si svolgerà presso l’area dello storico mercatino della salute in via Grocco\, organizzato dall’associazione Grocco-La Salute. \nL’evento prevede la somministrazione di birre nazionali e internazionali servite presso sei punti sparsi su tutta l’area. Inoltre sarà possibile  mangiare presso stand di street food e in tutti i bar e ristoranti presenti nella zona che per l’occasione si organizzeranno con prodotti di accompagnamento alla bevanda\, con l’intento di far vivere all’utente un’esperienza di divertimento e di aggregazione in una delle aree più belle della città. \nLa scelta dei marchi è pensata per rispondere all’utenza cosmopolita presente a Montecatini nel periodo di svolgimento. Ci saranno birre Italiane assortite per gusto e nazioni\, Italiane craft\, americane\, inglesi craft\, e ancora belghe tedesche e franco-olandesi. \nDurante la manifestazione si svolgeranno eventi collaterali come “Queen At The Races – Tribute Band” venerdì sera. \nIngresso gratuito \nOrari\nVenerdì dalle 17:00 alle 24:00 \nSabat0 e domenica dalle 11:00 alle 24:00 \n\nInfo \nPagina Facebook Street Food Fest
URL:https://www.eventiintoscana.it/evento/montecatini-beer-fest-birriamo-alla-salute-montecatini-terme-pistoia
LOCATION:Grocco La Salute\, Montecatini Terme (Pistoia)
CATEGORIES:Pistoia,Rassegne e Sagre
ATTACH;FMTTYPE=image/jpeg:https://www.eventiintoscana.it/wp-content/uploads/2019/09/beer-fest-montecatini-.jpg
END:VEVENT
END:VCALENDAR