BEGIN:VCALENDAR
VERSION:2.0
PRODID:-//Eventi in Toscana By Toscana Tascabile - ECPv6.15.12.2//NONSGML v1.0//EN
CALSCALE:GREGORIAN
METHOD:PUBLISH
X-WR-CALNAME:Eventi in Toscana By Toscana Tascabile
X-ORIGINAL-URL:https://www.eventiintoscana.it
X-WR-CALDESC:Eventi per Eventi in Toscana By Toscana Tascabile
REFRESH-INTERVAL;VALUE=DURATION:PT1H
X-Robots-Tag:noindex
X-PUBLISHED-TTL:PT1H
BEGIN:VTIMEZONE
TZID:Europe/Rome
BEGIN:DAYLIGHT
TZOFFSETFROM:+0100
TZOFFSETTO:+0200
TZNAME:CEST
DTSTART:20190331T010000
END:DAYLIGHT
BEGIN:STANDARD
TZOFFSETFROM:+0200
TZOFFSETTO:+0100
TZNAME:CET
DTSTART:20191027T010000
END:STANDARD
BEGIN:DAYLIGHT
TZOFFSETFROM:+0100
TZOFFSETTO:+0200
TZNAME:CEST
DTSTART:20200329T010000
END:DAYLIGHT
BEGIN:STANDARD
TZOFFSETFROM:+0200
TZOFFSETTO:+0100
TZNAME:CET
DTSTART:20201025T010000
END:STANDARD
BEGIN:DAYLIGHT
TZOFFSETFROM:+0100
TZOFFSETTO:+0200
TZNAME:CEST
DTSTART:20210328T010000
END:DAYLIGHT
BEGIN:STANDARD
TZOFFSETFROM:+0200
TZOFFSETTO:+0100
TZNAME:CET
DTSTART:20211031T010000
END:STANDARD
END:VTIMEZONE
BEGIN:VEVENT
DTSTART;TZID=Europe/Rome:20200919T190000
DTEND;TZID=Europe/Rome:20200925T233000
DTSTAMP:20260420T113810
CREATED:20200803T080607Z
LAST-MODIFIED:20200927T074731Z
UID:287016-1600542000-1601076600@www.eventiintoscana.it
SUMMARY:Aperitivo nel giardino dell' antica distilleria - Ass. Culturale Il Giardino Segreto\, loc. Alberi\, Montaione (Firenze) 
DESCRIPTION:L’Associazione culturale ‘Il Giardino segreto’ organizza\, per tutti i sabato e le domeniche dei mesi di agosto e settembre\, un aperitivo nel Giardino dell’antica distilleria.\n\nIn occasione dell’aperitivo viene proposto un prosecco di un’azienda vinicola locale e antipasti internazionali\, sia europei che orientali\, dal classico crostino toscano ai bliny con caviale e salmone e molto altro.\n\nL’aperitivo ha inizio alle ore 19 \, il costo è di € 13.\n\nIl Giardino è immerso in un luogo storico di Alberi\, dove è possibile rispettare in pieno relax il distanziamento e la sicurezza. Il posto è inoltre facilmente accessibile a persone con difficoltà motorie.\n***\n\nInfo e prenotazioni (entro giovedi mattina) :\n\n335/341969 (messaggio whatsapp) o 0571/677150 o email : ilgiardinosegretomontaione@gmail.com\n\nLuogo : Ass.Culturale ” Il Giardino Segreto” via alberi 67 Montaione ( Firenze )
URL:https://www.eventiintoscana.it/evento/aperitivo-nel-giardino-dell-antica-distilleria-ass-culturale-il-giardino-segreto-loc-alberi-di-montaione-montaione-firenze
CATEGORIES:Firenze,Rassegne e Sagre
ATTACH;FMTTYPE=image/jpeg:https://www.eventiintoscana.it/wp-content/uploads/2020/08/aperitivo-al-giardino-segreto.jpg
END:VEVENT
END:VCALENDAR