BEGIN:VCALENDAR
VERSION:2.0
PRODID:-//Eventi in Toscana By Toscana Tascabile - ECPv6.15.12.2//NONSGML v1.0//EN
CALSCALE:GREGORIAN
METHOD:PUBLISH
X-WR-CALNAME:Eventi in Toscana By Toscana Tascabile
X-ORIGINAL-URL:https://www.eventiintoscana.it
X-WR-CALDESC:Eventi per Eventi in Toscana By Toscana Tascabile
REFRESH-INTERVAL;VALUE=DURATION:PT1H
X-Robots-Tag:noindex
X-PUBLISHED-TTL:PT1H
BEGIN:VTIMEZONE
TZID:Europe/Rome
BEGIN:DAYLIGHT
TZOFFSETFROM:+0100
TZOFFSETTO:+0200
TZNAME:CEST
DTSTART:20190331T010000
END:DAYLIGHT
BEGIN:STANDARD
TZOFFSETFROM:+0200
TZOFFSETTO:+0100
TZNAME:CET
DTSTART:20191027T010000
END:STANDARD
BEGIN:DAYLIGHT
TZOFFSETFROM:+0100
TZOFFSETTO:+0200
TZNAME:CEST
DTSTART:20200329T010000
END:DAYLIGHT
BEGIN:STANDARD
TZOFFSETFROM:+0200
TZOFFSETTO:+0100
TZNAME:CET
DTSTART:20201025T010000
END:STANDARD
BEGIN:DAYLIGHT
TZOFFSETFROM:+0100
TZOFFSETTO:+0200
TZNAME:CEST
DTSTART:20210328T010000
END:DAYLIGHT
BEGIN:STANDARD
TZOFFSETFROM:+0200
TZOFFSETTO:+0100
TZNAME:CET
DTSTART:20211031T010000
END:STANDARD
BEGIN:DAYLIGHT
TZOFFSETFROM:+0100
TZOFFSETTO:+0200
TZNAME:CEST
DTSTART:20220327T010000
END:DAYLIGHT
BEGIN:STANDARD
TZOFFSETFROM:+0200
TZOFFSETTO:+0100
TZNAME:CET
DTSTART:20221030T010000
END:STANDARD
END:VTIMEZONE
BEGIN:VEVENT
DTSTART;TZID=Europe/Rome:20210718T090000
DTEND;TZID=Europe/Rome:20210718T190000
DTSTAMP:20260424T032706
CREATED:20210501T152020Z
LAST-MODIFIED:20210713T141448Z
UID:289360-1626598800-1626634800@www.eventiintoscana.it
SUMMARY:Curiosando - Piazza Giusti e Piazza del Popolo\, Monsummano Terme (Pistoia)
DESCRIPTION:Domenica 18 luglio\, dalle 9 alle 19\, in piazza Giusti ed in piazza del Popolo e nel centro storico di Monsummano Terme si tiene Curiosando\, il mercatino dell’antiquariato\, artigianato anche etnico\, collezionismo e vintage.\nSaranno una cinquantina le bancarelle che si estenderanno nelle due piazze\, esponendo tante cose strane e curiose per la felicità di tutti i collezionisti o semplici visitatori che giungeranno a Monsummano Terme anche da fuori regione. \nMobili e soprammobili\, tanta oggettistica di ogni tipo e di ogni genere\, libri\, fumetti\, riviste\, monete e francobolli\, orologi\, quadri\, collezionismo in tutte le forme e molto altro ancora daranno vita ad un attesissimo appuntamento e porteranno in città il pubblico delle grandi occasioni. \nConfermato anche il mercatino vintage \, molto ricercato sopratutto da coloro che amano l’abbigliamento degli anni passati ed il modo di vivere di allora. \nNaturalmente saranno attivati tutti i servizi necessari per far rispettare le attuali leggi e normative contro il diffondersi del virus\, con l’allestimento di diversi punti di igienizzazione\, l’invito di indossare la mascherina e non creare assembramenti\, \nCURIOSANDO è prodotta dall’Associazione Culturale Pinocchio 3000 in collaborazione con l’Assessorato alle Attività produttive del Comune di Monsummano Terme. \nInfo 0572 1913547.
URL:https://www.eventiintoscana.it/evento/curiosando-piazza-giusti-e-piazza-del-popolo-monsummano-terme-pistoia
CATEGORIES:Fiere e Mercatini,Pistoia
ATTACH;FMTTYPE=image/jpeg:https://www.eventiintoscana.it/wp-content/uploads/2021/05/Curiosando-Monsummano-T.me_.jpg
END:VEVENT
BEGIN:VEVENT
DTSTART;VALUE=DATE:20200531
DTEND;VALUE=DATE:20201102
DTSTAMP:20260424T032706
CREATED:20200925T152504Z
LAST-MODIFIED:20201028T163215Z
UID:287645-1590883200-1604275199@www.eventiintoscana.it
SUMMARY:L’altra metà del cielo. Anna Scotti e le artiste della collezione - Mac\,n. Museo di arte contemporanea  e del Novecento\, Villa Renatico Martini\, Monsummano Terme (Pistoia)
DESCRIPTION:Villa Renatico Martini proroga questa mostra con cui ha riaperto al pubblico\, tutta dedicata all’arte ‘al femminile’: un gruppo di opere che appartengono alla collezione del museo e che sono state donate in questi quasi trent’anni di attività.\nUn omaggio alla capacità delle donne di risolvere – come in questa pandemia – problematiche impreviste\, e di farlo con ottimismo e prontezza. \nAl centro dell’evento vengono mostrate\, per la prima volta\, le opere della pittrice Anna Scotti (Firenze 1917-1999) che ha guardato con particolare attenzione il mondo che la circondava esprimendosi sia con segni perfettamente aderenti alla realtà\, sia con immagini astratte che esternano una profonda sensibilità e carica emotiva. \nLe 25 artiste presentate\, fra cui Ketty La Rocca\, hanno personalità e cronologie molto diverse\, ma ciò che le accomuna è la loro voglia di esprimersi e comunicare attraverso il loro retaggio culturale e intellettuale. \nNel percorso espositivo sono ancora visibili al pubblico le quattro grandi opere di Mimmo Paladino che erano presenti in occasione della 11ª Biennale d’incisione\, chiusa prematuramente a causa della pandemia. \nL’ingresso è gratuito ma con prenotazione obbligatoria. \nOrario: lun\, giov e ven 16-19\, merc 9.30-12.30\, sab e dom 9.30-12.30 e 16-19\, chiuso martedì.
URL:https://www.eventiintoscana.it/evento/laltra-meta-del-cielo-anna-scotti-e-le-artiste-della-collezione-%e2%80%a0-macn-museo-di-arte-contemporanea-e-del-novecento-villa-renatico-martini-monsummano-terme-pistoia
LOCATION:Mac\,n – Museo di arte contemporanea  e del Novecento\, Villa Renatico Martini\, Via Gragnano 349\, Monsummano Terme\, Toscana\, Italia
CATEGORIES:Mostre d'Arte,Pistoia
ATTACH;FMTTYPE=image/jpeg:https://www.eventiintoscana.it/wp-content/uploads/2020/09/laltra-metà-del-cielo.-Anna-Scottio.jpg
END:VEVENT
END:VCALENDAR