BEGIN:VCALENDAR
VERSION:2.0
PRODID:-//Eventi in Toscana By Toscana Tascabile - ECPv6.15.12.2//NONSGML v1.0//EN
CALSCALE:GREGORIAN
METHOD:PUBLISH
X-WR-CALNAME:Eventi in Toscana By Toscana Tascabile
X-ORIGINAL-URL:https://www.eventiintoscana.it
X-WR-CALDESC:Eventi per Eventi in Toscana By Toscana Tascabile
REFRESH-INTERVAL;VALUE=DURATION:PT1H
X-Robots-Tag:noindex
X-PUBLISHED-TTL:PT1H
BEGIN:VTIMEZONE
TZID:Europe/Rome
BEGIN:DAYLIGHT
TZOFFSETFROM:+0100
TZOFFSETTO:+0200
TZNAME:CEST
DTSTART:20180325T010000
END:DAYLIGHT
BEGIN:STANDARD
TZOFFSETFROM:+0200
TZOFFSETTO:+0100
TZNAME:CET
DTSTART:20181028T010000
END:STANDARD
BEGIN:DAYLIGHT
TZOFFSETFROM:+0100
TZOFFSETTO:+0200
TZNAME:CEST
DTSTART:20190331T010000
END:DAYLIGHT
BEGIN:STANDARD
TZOFFSETFROM:+0200
TZOFFSETTO:+0100
TZNAME:CET
DTSTART:20191027T010000
END:STANDARD
BEGIN:DAYLIGHT
TZOFFSETFROM:+0100
TZOFFSETTO:+0200
TZNAME:CEST
DTSTART:20200329T010000
END:DAYLIGHT
BEGIN:STANDARD
TZOFFSETFROM:+0200
TZOFFSETTO:+0100
TZNAME:CET
DTSTART:20201025T010000
END:STANDARD
END:VTIMEZONE
BEGIN:VEVENT
DTSTART;TZID=Europe/Rome:20191025T090000
DTEND;TZID=Europe/Rome:20191027T230000
DTSTAMP:20260422T204553
CREATED:20191008T164007Z
LAST-MODIFIED:20210702T075351Z
UID:279798-1571994000-1572217200@www.eventiintoscana.it
SUMMARY:Mercato Europeo - Viale Ximenes\, Grosseto
DESCRIPTION:Da venerdì 25 a domenica 27 ottobre si tiene a Grosseto il Mercato Europeo.\nAppuntamento in Via Ximenes e Via dei Lavatoi dalle 9 alle 24.
URL:https://www.eventiintoscana.it/evento/mercato-europeo-viale-ximenes-grosseto
LOCATION:Luogo Senza Nome\, Via Ximenes\, Grosseto
CATEGORIES:Fiere e Mercatini,Grosseto
ATTACH;FMTTYPE=image/jpeg:https://www.eventiintoscana.it/wp-content/uploads/2019/10/mercato-europeo.jpg
END:VEVENT
END:VCALENDAR