BEGIN:VCALENDAR
VERSION:2.0
PRODID:-//Eventi in Toscana By Toscana Tascabile - ECPv6.15.12.2//NONSGML v1.0//EN
CALSCALE:GREGORIAN
METHOD:PUBLISH
X-ORIGINAL-URL:https://www.eventiintoscana.it
X-WR-CALDESC:Eventi per Eventi in Toscana By Toscana Tascabile
REFRESH-INTERVAL;VALUE=DURATION:PT1H
X-Robots-Tag:noindex
X-PUBLISHED-TTL:PT1H
BEGIN:VTIMEZONE
TZID:Europe/Rome
BEGIN:DAYLIGHT
TZOFFSETFROM:+0100
TZOFFSETTO:+0200
TZNAME:CEST
DTSTART:20180325T010000
END:DAYLIGHT
BEGIN:STANDARD
TZOFFSETFROM:+0200
TZOFFSETTO:+0100
TZNAME:CET
DTSTART:20181028T010000
END:STANDARD
BEGIN:DAYLIGHT
TZOFFSETFROM:+0100
TZOFFSETTO:+0200
TZNAME:CEST
DTSTART:20190331T010000
END:DAYLIGHT
BEGIN:STANDARD
TZOFFSETFROM:+0200
TZOFFSETTO:+0100
TZNAME:CET
DTSTART:20191027T010000
END:STANDARD
BEGIN:DAYLIGHT
TZOFFSETFROM:+0100
TZOFFSETTO:+0200
TZNAME:CEST
DTSTART:20200329T010000
END:DAYLIGHT
BEGIN:STANDARD
TZOFFSETFROM:+0200
TZOFFSETTO:+0100
TZNAME:CET
DTSTART:20201025T010000
END:STANDARD
END:VTIMEZONE
BEGIN:VEVENT
DTSTART;TZID=Europe/Rome:20190418T100000
DTEND;TZID=Europe/Rome:20190428T230000
DTSTAMP:20260422T193900
CREATED:20190407T222138Z
LAST-MODIFIED:20190428T193324Z
UID:249199-1555581600-1556492400@www.eventiintoscana.it
SUMMARY:Mercato francese Belle Epoque - Piazza della Santissima Annunziata\, Firenze
DESCRIPTION:Da giovedì 18 a domenica 28 aprile ritorna a Firenze\, in Piazza della Santissima Annunziata\,  il Mercatino Francese Belle Époque.\nLe casette in legno dai colori pastello con le scritte in stile liberty\, le luci\, le insegne e gli spazi dedicati a specialità gastronomiche francesi\, daranno vita ad un piccolo quartiere parigino in cui si respira un’atmosfera molto particolare. Nelle vetrine dei negozi troviamo pane appena sfornato e croissant\, biscotti e cioccolatini\, miele e marmellate\, formaggi e salumeria\, spezie e vini\, ostriche e champagne per le piccole e grandi occasioni e tanti prodotti freschi. Orario: tutti i giorni 10-23 \nI prodotti\nSaranno presenti prodotti sia alimentari\, sia non alimentari\, tutti espressione di diverse regioni francesi. Quelli legati all’enogastronomia rappresentano il cuore del villaggio. \nOltre 80 i tipi di formaggio presenti\, dal Mont d’Or\, con la tipica confezione di legno\, al Rocamadour del Midi Pyrénées\, dal Camembert della Normandia\, al Brie della Ile de France. Anche i vini sono presentati in oltre 30 varianti\, dallo Champagne al Bordeaux fino al Sidro. I salumi hanno particolari tipi di produzione che abbinano spezie ed erbe aromatiche. L’offerta dei biscotti Bretoni può contare su oltre 20 varietà diverse di ripieno: dal cocco al sesamo\, dal cioccolato al limone. Una grande tavolozza di colori è rappresentata dallo stand delle spezie\, le quali provengono\, nella maggior parte dei casi\, dalle ex colonie francesi. A conclusione dello spazio enogastronomico non poteva mancare la baguette\, calda\, appena sfornata. I forni della Boulangerie preparano anche croissant e pasticceria da forno. \nI prodotti artigianali arrivano dalla Provenza e dalla Costa Azzurra: tovaglie\, saponi\, lavanda\, essenze ed oggettistica provenzale. Da Parigi arrivano profumi e un’ampia gamma di accessori moda. Tutti i prodotti sono accuratamente selezionati per garantire il massimo standard di qualità. \nLa ristorazione\nNon poteva mancare\, in questa proposta legata alla Francia\, un angolo dedicato alla sua gastronomia regionale. Differente a seconda delle caratteristiche legate ai territori\, dalla presenza di coste o montagne\, confinanti con altri paesi europei oppure influenzate da tradizioni che si perdono nel tempo\, la cucina si declina in numerose proposte: tartiflette\, cassoulet\, chocroute e tanto altro. Uno spazio è dedicato alla degustazione dei vini e\, proprio per completare questo panorama tutto francese\, si potranno degustare ostriche e champagne.
URL:https://www.eventiintoscana.it/evento/mercato-francese-belle-epoque-piazza-della-santissima-annunziata-firenze-firenze-3
LOCATION:Piazza Santissima Annunziata\, Firenze\, Firenze\, Italia
CATEGORIES:Fiere e Mercatini,Firenze
ATTACH;FMTTYPE=image/jpeg:https://www.eventiintoscana.it/wp-content/uploads/2017/09/mercatino-francese-belle-epoque-firenze_650x300.jpg
END:VEVENT
END:VCALENDAR