BEGIN:VCALENDAR
VERSION:2.0
PRODID:-//Eventi in Toscana By Toscana Tascabile - ECPv6.15.12.2//NONSGML v1.0//EN
CALSCALE:GREGORIAN
METHOD:PUBLISH
X-WR-CALNAME:Eventi in Toscana By Toscana Tascabile
X-ORIGINAL-URL:https://www.eventiintoscana.it
X-WR-CALDESC:Eventi per Eventi in Toscana By Toscana Tascabile
REFRESH-INTERVAL;VALUE=DURATION:PT1H
X-Robots-Tag:noindex
X-PUBLISHED-TTL:PT1H
BEGIN:VTIMEZONE
TZID:Europe/Rome
BEGIN:DAYLIGHT
TZOFFSETFROM:+0100
TZOFFSETTO:+0200
TZNAME:CEST
DTSTART:20150329T010000
END:DAYLIGHT
BEGIN:STANDARD
TZOFFSETFROM:+0200
TZOFFSETTO:+0100
TZNAME:CET
DTSTART:20151025T010000
END:STANDARD
BEGIN:DAYLIGHT
TZOFFSETFROM:+0100
TZOFFSETTO:+0200
TZNAME:CEST
DTSTART:20160327T010000
END:DAYLIGHT
BEGIN:STANDARD
TZOFFSETFROM:+0200
TZOFFSETTO:+0100
TZNAME:CET
DTSTART:20161030T010000
END:STANDARD
BEGIN:DAYLIGHT
TZOFFSETFROM:+0100
TZOFFSETTO:+0200
TZNAME:CEST
DTSTART:20170326T010000
END:DAYLIGHT
BEGIN:STANDARD
TZOFFSETFROM:+0200
TZOFFSETTO:+0100
TZNAME:CET
DTSTART:20171029T010000
END:STANDARD
END:VTIMEZONE
BEGIN:VEVENT
DTSTART;VALUE=DATE:20161231
DTEND;VALUE=DATE:20170101
DTSTAMP:20260421T035141
CREATED:20161201T145054Z
LAST-MODIFIED:20170102T143345Z
UID:227672-1483142400-1483228799@www.eventiintoscana.it
SUMMARY:Concertone di Capodanno 2017 a Firenze: Marco Mengoni
DESCRIPTION:Il concertone di Capodanno con cui Firenze saluta l’arrivo del 2017 si terrà\, come già sappiamo\, a Piazzale Michelangelo. Da oggi è noto anche il nome dell’artista che si esibirà sul palco: Marco Mengoni con la sua band. \nI luoghi degli altri eventi \nAltri eventi si terranno in piazza Signoria\, piazza San Lorenzo\, piazza del Carmine e\, novità di quest’anno\, in piazza dell’Isolotto e in piazza Bartali (a Gavinana). \n \nContinua a seguirci per rimanere aggiornato su tutti gli appuntamenti del Capodanno 2017! \nTutti i villaggi e i mercatini di Natale nel nostro SPECIALE NATALE 2016! \nCredits foto Marco Mengoni: \nAlbin Olsson\nLicenza: CC BY-SA 3.0
URL:https://www.eventiintoscana.it/evento/227672
LOCATION:Piazzale Michelangelo\, Piazzale Michelangelo\, Firenze\, Italia
CATEGORIES:Firenze
ATTACH;FMTTYPE=image/jpeg:https://www.eventiintoscana.it/wp-content/uploads/2016/12/mengoni_650x300.jpg
END:VEVENT
END:VCALENDAR