BEGIN:VCALENDAR
VERSION:2.0
PRODID:-//Eventi in Toscana By Toscana Tascabile - ECPv6.15.12.2//NONSGML v1.0//EN
CALSCALE:GREGORIAN
METHOD:PUBLISH
X-ORIGINAL-URL:https://www.eventiintoscana.it
X-WR-CALDESC:Eventi per Eventi in Toscana By Toscana Tascabile
REFRESH-INTERVAL;VALUE=DURATION:PT1H
X-Robots-Tag:noindex
X-PUBLISHED-TTL:PT1H
BEGIN:VTIMEZONE
TZID:Europe/Rome
BEGIN:DAYLIGHT
TZOFFSETFROM:+0100
TZOFFSETTO:+0200
TZNAME:CEST
DTSTART:20180325T010000
END:DAYLIGHT
BEGIN:STANDARD
TZOFFSETFROM:+0200
TZOFFSETTO:+0100
TZNAME:CET
DTSTART:20181028T010000
END:STANDARD
BEGIN:DAYLIGHT
TZOFFSETFROM:+0100
TZOFFSETTO:+0200
TZNAME:CEST
DTSTART:20190331T010000
END:DAYLIGHT
BEGIN:STANDARD
TZOFFSETFROM:+0200
TZOFFSETTO:+0100
TZNAME:CET
DTSTART:20191027T010000
END:STANDARD
BEGIN:DAYLIGHT
TZOFFSETFROM:+0100
TZOFFSETTO:+0200
TZNAME:CEST
DTSTART:20200329T010000
END:DAYLIGHT
BEGIN:STANDARD
TZOFFSETFROM:+0200
TZOFFSETTO:+0100
TZNAME:CET
DTSTART:20201025T010000
END:STANDARD
END:VTIMEZONE
BEGIN:VEVENT
DTSTART;TZID=Europe/Rome:20190413T000000
DTEND;TZID=Europe/Rome:20190414T000000
DTSTAMP:20260423T034448
CREATED:20190326T101838Z
LAST-MODIFIED:20190414T174812Z
UID:238373-1555113600-1555200000@www.eventiintoscana.it
SUMMARY:Ludicomix - Centro storico\, Empoli (Firenze)
DESCRIPTION:Sabato 13 e domenica 14 appuntamento con Ludicomix\, una manifestazione che\, fin dalla prima edizione\, si è proposta di offrire al proprio pubblico uno spaccato il più trasversale possibile del mondo del fumetto e del cosplay\, con laboratori\, sfilate e flash mob\, un partecipatissimo cosplay contest.\n–> Questo il programma completo della due giorni di Ludicomix \nIl costo del biglietto intero è di € 8.00\nIl costo del biglietto ridotto è di € 6.00\nI minori di 8 anni (nati nel periodo 2012 – 2019) hanno diritto all’ingresso gratuito \n 
URL:https://www.eventiintoscana.it/evento/ludicomix-bricks-kids-centro-storico-empoli-firenze
LOCATION:Centro storico\, Empoli\, Toscana\, Italia
CATEGORIES:Fiere e Mercatini,Firenze
ATTACH;FMTTYPE=image/jpeg:https://www.eventiintoscana.it/wp-content/uploads/2017/03/ludicomix-empoli.jpg
ORGANIZER;CN="Ass. Ludicomix":MAILTO:info@ludicomix.it
END:VEVENT
END:VCALENDAR