BEGIN:VCALENDAR
VERSION:2.0
PRODID:-//Eventi in Toscana By Toscana Tascabile - ECPv6.15.12.2//NONSGML v1.0//EN
CALSCALE:GREGORIAN
METHOD:PUBLISH
X-WR-CALNAME:Eventi in Toscana By Toscana Tascabile
X-ORIGINAL-URL:https://www.eventiintoscana.it
X-WR-CALDESC:Eventi per Eventi in Toscana By Toscana Tascabile
REFRESH-INTERVAL;VALUE=DURATION:PT1H
X-Robots-Tag:noindex
X-PUBLISHED-TTL:PT1H
BEGIN:VTIMEZONE
TZID:Europe/Rome
BEGIN:DAYLIGHT
TZOFFSETFROM:+0100
TZOFFSETTO:+0200
TZNAME:CEST
DTSTART:20190331T010000
END:DAYLIGHT
BEGIN:STANDARD
TZOFFSETFROM:+0200
TZOFFSETTO:+0100
TZNAME:CET
DTSTART:20191027T010000
END:STANDARD
BEGIN:DAYLIGHT
TZOFFSETFROM:+0100
TZOFFSETTO:+0200
TZNAME:CEST
DTSTART:20200329T010000
END:DAYLIGHT
BEGIN:STANDARD
TZOFFSETFROM:+0200
TZOFFSETTO:+0100
TZNAME:CET
DTSTART:20201025T010000
END:STANDARD
BEGIN:DAYLIGHT
TZOFFSETFROM:+0100
TZOFFSETTO:+0200
TZNAME:CEST
DTSTART:20210328T010000
END:DAYLIGHT
BEGIN:STANDARD
TZOFFSETFROM:+0200
TZOFFSETTO:+0100
TZNAME:CET
DTSTART:20211031T010000
END:STANDARD
END:VTIMEZONE
BEGIN:VEVENT
DTSTART;TZID=Europe/Rome:20200926T180000
DTEND;TZID=Europe/Rome:20200926T200000
DTSTAMP:20260422T210828
CREATED:20200910T112317Z
LAST-MODIFIED:20200910T112317Z
UID:287368-1601143200-1601150400@www.eventiintoscana.it
SUMMARY:LuccArtigiana 2020: l'artigianato lucchese docg approda sul web
DESCRIPTION:Un’edizione particolare\, quella 2020 di LuccArtigiana\, la grande fiera dell’artigianato lucchese: quest’anno si trasforma infatti in un percorso virtuale dell’artigianato docg\, che verrà presentato ufficialmente sabato 26 settembre.\nLuccArtigiana\, la vetrina dell’artigianato lucchese che si è tenuta gli scorsi anni al Real Collegio di Lucca e che è promossa da Fondazione Banca del Monte di Lucca in collaborazione con CNA e Confartigianato\, quest’anno ‘sposta’ la propria attività sul web\, grazie alla creazione di un sito internet che rappresenta una vetrina istituzionale per gli artigiani aderenti. \nLa Fondazione Banca del Monte di Lucca ed il suo ente strumentale Fondazione Lucca Sviluppo hanno infatti deciso di investire le risorse con cui avrebbero organizzato la quinta edizione della mostra-mercato per creare uno strumento\, un sito internet\, che viene messo a disposizione\, gratuitamente\, di tutti gli artigiani che vogliono aderire. \nAppuntamento il 26 settembre alle 18 al Real Collegio per la presentazione del sito alla presenza di tutti i protagonisti e delle associazioni di categoria che sostengono la manifestazione\, oltre che a Comune di Lucca\, Camera di Commerico\, Confartigianato\, CNA Lucca e l’Osservatorio mestieri d’arte di Firenze che la patrocina. \nDa quel giorno sarà online il sito dedicato a Lucca Artigiana www.luccaartigiana.it \, in un’ottica di integrazione e di ampliamento\, anno dopo anno\, con la partecipazione di sempre nuove realtà artigianali della provincia che aderiranno. \nIl lavoro di raccolta del materiale e di racconto delle aziende sinora aderenti è tutto lucchese: Paolo Marchetti al videorecording e regia\, Ilaria Ferrari art director\, Lara Fiorillo per le interviste\, Edge websolutions per la realizzazione del sito. \nLe 15 ditte che hanno aderito all’iniziativa sono: Rossoramina\, Borgo Solaio\, Siriano Pierini\, DiSegno Bar del Colore\, Maria Pacini Fazzi Editore\, Nadia Caselli\, L’Argante\, Giulio Galelli\, Annalisa Cipriani Casa della Sposa\, La Bottega di Nello\, Ossidiana\, Arte Cornici Aiosa\, Paino Mobili\, La Perla\, La Pietra di Matraia di Mugnani. \n“Nell’incertezza di come sarebbe potuta andare una quinta edizione dal vivo – spiega l’ideatore della manifestazione e membro del CDA della Fondazione\, Umberto Chiesa – abbiamo preferito offrire agli artigiani lucchesi uno spazio vero anche se virtuale\, offrendo strumenti che forse da soli sono poco raggiungibili\, o per difficoltà strutturali o per scarsa familiarità”. \n“Siamo molto contenti che una delle iniziative con cui riprendiamo le nostre attività – aggiunge il presidente della Fondazione BML\, Oriano Landucci – sia questa\, anche perché questa soluzione individuata di comune accordo con tutti i soggetti coinvolti porta benefici su un periodo ben più lungo di una fiera\, restando come punto di esposizione e conoscenza della vasta e bella realtà del nostro artigianato lucchese”.
URL:https://www.eventiintoscana.it/evento/luccartigiana-2020-lartigianato-lucchese-docg-approda-sul-web
CATEGORIES:Fiere e Mercatini,Lucca
ATTACH;FMTTYPE=image/jpeg:https://www.eventiintoscana.it/wp-content/uploads/2020/09/luccartigiana-2020.jpg
END:VEVENT
END:VCALENDAR