BEGIN:VCALENDAR
VERSION:2.0
PRODID:-//Eventi in Toscana By Toscana Tascabile - ECPv6.15.12.2//NONSGML v1.0//EN
CALSCALE:GREGORIAN
METHOD:PUBLISH
X-WR-CALNAME:Eventi in Toscana By Toscana Tascabile
X-ORIGINAL-URL:https://www.eventiintoscana.it
X-WR-CALDESC:Eventi per Eventi in Toscana By Toscana Tascabile
REFRESH-INTERVAL;VALUE=DURATION:PT1H
X-Robots-Tag:noindex
X-PUBLISHED-TTL:PT1H
BEGIN:VTIMEZONE
TZID:Europe/Rome
BEGIN:DAYLIGHT
TZOFFSETFROM:+0100
TZOFFSETTO:+0200
TZNAME:CEST
DTSTART:20180325T010000
END:DAYLIGHT
BEGIN:STANDARD
TZOFFSETFROM:+0200
TZOFFSETTO:+0100
TZNAME:CET
DTSTART:20181028T010000
END:STANDARD
BEGIN:DAYLIGHT
TZOFFSETFROM:+0100
TZOFFSETTO:+0200
TZNAME:CEST
DTSTART:20190331T010000
END:DAYLIGHT
BEGIN:STANDARD
TZOFFSETFROM:+0200
TZOFFSETTO:+0100
TZNAME:CET
DTSTART:20191027T010000
END:STANDARD
BEGIN:DAYLIGHT
TZOFFSETFROM:+0100
TZOFFSETTO:+0200
TZNAME:CEST
DTSTART:20200329T010000
END:DAYLIGHT
BEGIN:STANDARD
TZOFFSETFROM:+0200
TZOFFSETTO:+0100
TZNAME:CET
DTSTART:20201025T010000
END:STANDARD
BEGIN:DAYLIGHT
TZOFFSETFROM:+0100
TZOFFSETTO:+0200
TZNAME:CEST
DTSTART:20210328T010000
END:DAYLIGHT
BEGIN:STANDARD
TZOFFSETFROM:+0200
TZOFFSETTO:+0100
TZNAME:CET
DTSTART:20211031T010000
END:STANDARD
END:VTIMEZONE
BEGIN:VEVENT
DTSTART;TZID=Europe/Rome:20201024T100000
DTEND;TZID=Europe/Rome:20201025T190000
DTSTAMP:20260423T213957
CREATED:20201015T162327Z
LAST-MODIFIED:20210702T073901Z
UID:287982-1603533600-1603652400@www.eventiintoscana.it
SUMMARY:Mostra autunnale della camelia sasanqua - Borgo delle Camelie (Capannori\, Lucca)
DESCRIPTION:Sabato 24 e domenica 25 ottobre appuntamento al Borgo delle Camelie per la Mostra autunnale della camelia sasanqua.\n\n\n\n\n\n\nMODIFICHE AL PROGRAMMA IN BASE AL NUOVO DPCM: \n\nSabato 24 e domenica 25 ottobre al Camellietum di S.Andrea di Compito sarà possibile visitare la ‘Mostra della camelia autunnale e profumata Sasanqua’. Nell’occasione sabato 24 ottobre alle ore 10.00 sarà aperta la nuova area didattica del Camelieto.\nSia sabato che domenica dalle ore 10 alle ore 18 è in programma una visita libera all’area della Camelia Sasanqua e a tutto il Camelieto. Sempre nell’area del Camelieto si svolgerà inoltre una ex tempore di fotografia a cura del circolo fotografico di Scandicci intitolata ‘La camelia autunnale nella natura circostante’.\n\nLe opere saranno esposte e premiate in occasione della XXXII Mostra Antiche Camelie della Lucchesia.\nAlle 11\, 14 e 15.30 sarà possibile partecipare ad un percorso naturalistico con guida botanica sul sentiero di Collelungo fino al Belvedere e al Camelieto (costo 5 euro\, per info e prenotazioni: 389 0521145) e ad un laboratorio a cielo aperto ‘Acqua e vita\, la sbalorditiva vita dei ruscelli’ rivolto a ragazzi e adulti\, a cura dello studio di biologia ‘Studiolo’ (costo 5 euro\, per info e prenotazioni: 347 3166283).\nDomenica 25 ottobre nell’ambito della manifestazione si svolgerà la piantumazione di alcune essenze arboree\, primo passo di un progetto più ampio che vedrà nel mese di novembre la messa a dimora di diverse specie autoctone nel camelieto. Sempre domenica alle ore 10.00 è in programma un’escursione al lago della Gherardesca con ritrovo all’ingresso del Camelieto (costo 5 euro comprensivo di accompagnamento.\nPer info e prenotazioni: 347 3166283).\nLa visita alla mostra e al camelieto e tutte le attività collaterali si svolgeranno all’aria aperta nel rispetto del numero massimo di persone consentito e dei dispositivi di sicurezza obbligatori per legge.
URL:https://www.eventiintoscana.it/evento/mostra-autunnale-della-camelia-sasanqua-borgo-delle-camelie-capannori-lucca
CATEGORIES:Fiere e Mercatini,Lucca
ATTACH;FMTTYPE=image/jpeg:https://www.eventiintoscana.it/wp-content/uploads/2020/10/camelie-della-lucchesia_ph.eventiintoscana.it_.jpg
END:VEVENT
BEGIN:VEVENT
DTSTART;TZID=Europe/Rome:20200922T100000
DTEND;TZID=Europe/Rome:20200922T180000
DTSTAMP:20260423T213957
CREATED:20200922T152125Z
LAST-MODIFIED:20200922T152125Z
UID:287566-1600768800-1600797600@www.eventiintoscana.it
SUMMARY:Le Rinascenze. Arte in Villa - Villa Reale\, Marlia (Capannori\, Lucca)
DESCRIPTION:Sabato 26 e domenica 27 settembre si tiene alla Villa Reale di Marlia il festival Le Rinascenze. Arte in Villa.\nLe Rinascenze è una festa d’arte con performance\, mostre e spettacoli ininterrotti\, che si alterneranno nelle due giornate animando il parco in ogni angolo. \nSaranno presenti aree dedicate per mostre e laboratori ma anche improvvisazioni e colpi di scena lungo i vari percorsi che lasceranno lo spettatore affascinato e incuriosito. \nIl tutto nel bellissimo scenario della villa e del parco di Villa Reale. \nOrari: \nSabato 26 settembre dalle ore 13:00 alle ore 18:00\nDomenica 27 settembre dalle ore 10:00 alle ore 18:00\nInfo: 331 391 6988
URL:https://www.eventiintoscana.it/evento/le-rinascenze-arte-in-villa-villa-reale-marlia-capannori-lucca
CATEGORIES:Feste e Folklore,Lucca,Teatro
ATTACH;FMTTYPE=image/jpeg:https://www.eventiintoscana.it/wp-content/uploads/2020/09/le-rinascenze-arte-in-villa-marlia-Lucca.jpg
END:VEVENT
BEGIN:VEVENT
DTSTART;TZID=Europe/Rome:20200530T100000
DTEND;TZID=Europe/Rome:20200531T190000
DTSTAMP:20260423T213957
CREATED:20200327T101551Z
LAST-MODIFIED:20200327T101551Z
UID:286230-1590832800-1590951600@www.eventiintoscana.it
SUMMARY:Le Rinascenze. Arte in Villa - Villa Reale di Marlia\, Marlia (Capannori\, Lucca)
DESCRIPTION:La terza edizione de Le Rinascenze – Arte in Villa 2020\, festival d’arte e cultura che si tiene presso la prestigiosa Villa Reale di Marlia\, è prevista dagli organizzatori  per sabato 30 e domenica 31 maggio 2020.\nQuest’anno tra le tante novità ci saranno nuovi spazi inediti e ristrutturati presso la prestigiosa Villa Reale di Marlia\, medesima location che ha portato tanta fortuna a questo evento eccezionale che vede al centro della sua natura: arte e persone. \nLe Rinascenze è  ideato e organizzato da Kreativa d’arte e dintorni\, scuola lucchese impegnata nella diffusione dell’arte oltre la didattica.
URL:https://www.eventiintoscana.it/evento/le-rinascenze-arte-in-villa-villa-reale-di-marlia-marlia-capannori-lucca
CATEGORIES:Lucca,Mostre d'Arte
ATTACH;FMTTYPE=image/jpeg:https://www.eventiintoscana.it/wp-content/uploads/2020/03/le-rinascenze-arte-in-villa.jpg
END:VEVENT
BEGIN:VEVENT
DTSTART;TZID=Europe/Rome:20200314T100000
DTEND;TZID=Europe/Rome:20200329T180000
DTSTAMP:20260423T213957
CREATED:20200226T095513Z
LAST-MODIFIED:20200323T110518Z
UID:285642-1584180000-1585504800@www.eventiintoscana.it
SUMMARY:---annullata--- XXXI Mostra Antiche Camelie della Lucchesia - S. Andrea e Pieve di Compito (Capannori\, Lucca)
DESCRIPTION:— A seguito delle recenti disposizioni la Mostra Antiche Camelie della Lucchesia è stata annullata. Fino al 15 marzo l’accesso al Camelieto è interdetto ai pullman e ai gruppi numerosi ma rimane regolarmente aperto e visitabile per i singoli\, a offerta libera. Nuove disposizioni saranno tempestivamente comunicate dopo il 15 marzo. Per informazioni 0583977188 e info@camelielucchesia.it —\n\nLa XXXI Mostra Antiche Camelie della Lucchesia si tiene nei fine settimanadel 14-15\, 21-22 e 28-29 marzo 2020 nel Borgo delle Camelie (i paesi di S. Andrea e Pieve di Compito\, nel comune di Capannori)\, incastonato tra le colline della Lucchesia.\nA marzo i giardini\, le antiche dimore\, i cortili si riempiono di piante di camelie in fiore. L’evento viene celebrato con la Mostra Antiche Camelie della Lucchesia\, quest’anno giunta alla trentunesima edizione\, organizzata e promossa dalla Cooperativa Centro Culturale Compitese di concerto con l’amministrazione comunale.  \nL’evento si aprirà il 14-15 marzo\, per poi proseguire nei weekend successivi fino al 28-29\, e consentirà ai visitatori di scoprire tutte le curiosità\, le bontà e le bellezze di questo luogo dove l’affascinante fiore di origine orientale ha trovato il proprio habitat naturale: dalla mostra scientifica delle camelie\, con specie uniche e antiche\, fino alla piantagione di tè\, la sola in Italia.  \nFiore all’occhiello dell’intera manifestazione sarà\, come di consueto\, il Camellietum Compitese\, parco che si estende per quasi 10mila metri quadrati e che accoglie al suo interno circa mille cultivar di camelie. Da poco insignito del prestigioso titolo di “Garden of Excellence”\, si è appena arricchito di due nuovi settori\, uno dedicato alle camelie autunnali Sasanqua e uno alle camelie Higo.  \nCome sempre sarà possibile visitare anche le tre ville storiche del Borgo – Orsi\, Borrini\, Torregrossa – che ospiteranno mostre e degustazioni e permetteranno ai visitatori di addentrarsi nei loro giardini di camelie secolari e rare. \nNumerose le iniziative legate al Giappone e all’oriente in genere\, patria di origine della camelia.  \nVilla Orsi si trasformerà in un piccolo angolo di Sol Levante\, grazie alla cerimonia del tè in costume e alla vendita di oggetti di artigianato giapponese\, mentre nel padiglione della mostra scientifica\, presso il Centro Culturale Compitese\, sarà possibile assistere alla lavorazione del tè con i maestri provenienti da Shizuoka\, alla cerimonia del tè coreana\, a dimostrazioni di arti marziali e partecipare a numerosi laboratori tematici.  \nTra i più interessanti\, quello di Kintsugi\, l’antica arte del restauro con l’oro\, e quello di meditazione Zen. Sarà inoltre allestito uno stand espositivo sul metodo di pittura giapponese Sumi-e con possibilità di cimentarsi in questa attività.  \nSpazio anche alla gastronomia d’eccellenza\, grazie alla presenza di numerose Cooperative di Comunità provenienti da tutta la Toscana che per l’occasione faranno scoprire ai visitatori prelibatezze come i pici di Monticchiello (Siena)\, il tortello di Corezzo (Arezzo) e i ceciarelli maremmani.  \nLa mostra Antiche Camelie della Lucchesia riserverà molte sorprese anche agli amanti dell’arte. Oltre alla visita ai punti storici di interesse del Borgo\, come la Chiesa di S. Andrea e l’antica torre di segnalazione\, sulla sommità della quale si ammira il paesaggio delle Apuane e della città di Lucca\, sarà possibile curiosare tra mostre di pittura e fotografia dislocate in tutto il paese.  \nIn occasione dell’evento sarà aperta anche Villa Reale. Ad appena 15 km dal Borgo delle Camelie\, la residenza storica della frazione di Marlia promette grandi emozioni: camelie duecentenarie\, teatri di verzura\, giardini di ogni foggia e opere architettoniche di notevole rilievo storico e artistico e\, novità di quest’anno\, la possibilità di visitare gli appartamenti ottocenteschi di Elisa Bonaparte Baciocchi\, frutto di un’incredibile opera di restauro. \nOrari: ore 10 alle ore 18. Per l’intera durata della manifestazione sarà disponibile un servizio navetta gratuito per raggiungere il Borgo delle Camelie\, con partenza dal parcheggio del Frantoio Sociale del Compitese (Via di Tiglio\, 609).  \nUna volta raggiunto il Borgo la visita si effettua a piedi\, seguendo il percorso tra i vari punti di interesse.  \nCosti: Il biglietto intero avrà il costo di 7 euro. Aggiungendo solo pochi euro sarà possibile acquistare un biglietto cumulativo\, comprensivo di ingresso alla Mostra e al parco di Villa Reale\, quest’ultimo facilmente raggiungibile con mezzo proprio. Potranno accedere gratuitamente i ragazzi sotto i 12 anni e persone diversamente abili con accompagnatore.\n \n*** \nInfo: \nCentro Culturale Compitese al numero 0583 977188\, visitare il sito web www.camelielucchesia.it o scrivere all’indirizzo mail info@camelielucchesia.it. \nGuarda le foto: \n\n			\n				\n			\n			\n				\n			\n			\n				\n			\n			\n				\n			\n			\n				\n			\n			\n				\n			\n		\n\n 
URL:https://www.eventiintoscana.it/evento/xxxi-mostra-antiche-camelie-della-lucchesia-s-andrea-e-pieve-di-compito-capannori-lucca
CATEGORIES:Fiere e Mercatini,Lucca
ATTACH;FMTTYPE=image/jpeg:https://www.eventiintoscana.it/wp-content/uploads/2020/02/antiche-camelie-della-lucchesia-2020.jpg
END:VEVENT
BEGIN:VEVENT
DTSTART;TZID=Europe/Rome:20200202T143000
DTEND;TZID=Europe/Rome:20200301T200000
DTSTAMP:20260423T213957
CREATED:20200130T171917Z
LAST-MODIFIED:20200130T171917Z
UID:285208-1580653800-1583092800@www.eventiintoscana.it
SUMMARY:CarnevalMarlia - Marlia (Capannori\, Lucca)
DESCRIPTION:Cinque sono le domeniche in cui il CarnevalMarlia 2020 riempirà di colori\, allegria e musica piazza del Mercato e una parte di via Paolinelli:.\nAppuntamento 2\, 9\, 16\, 23 febbraio e 1 marzo a partire dalle ore 14.30 ad ingresso libero.
URL:https://www.eventiintoscana.it/evento/carnevalmarlia-marlia-capannori-lucca-2
CATEGORIES:Feste e Folklore,Lucca
ATTACH;FMTTYPE=image/jpeg:https://www.eventiintoscana.it/wp-content/uploads/2020/01/CarnevalMarlia.jpg
END:VEVENT
BEGIN:VEVENT
DTSTART;TZID=Europe/Rome:20191226T133000
DTEND;TZID=Europe/Rome:20191226T190000
DTSTAMP:20260423T213957
CREATED:20191213T152210Z
LAST-MODIFIED:20191213T152210Z
UID:282682-1577367000-1577386800@www.eventiintoscana.it
SUMMARY:Presepe vivente - Ruota (Capannori\, Lucca)
DESCRIPTION:Il 26 dicembre si tiene a Ruota\, frazione di Capannori\, la 30° edizione del Presepe vivente.\nAlle 13.30 aprono le botteghe\, alle 15.30 si tiene il concerto di Natale. \nAlle 16.30 vedremo Maria e Giuseppe\, alle 17.30 la Natività\, alle 18 l’arrivo dei pastori\, alle 18.30 l’adorazione dei Magi. La rappresentazione chiude alle 19.
URL:https://www.eventiintoscana.it/evento/presepe-vivente-ruota-capannori-lucca
CATEGORIES:Feste e Folklore,Lucca
ATTACH;FMTTYPE=image/jpeg:https://www.eventiintoscana.it/wp-content/uploads/2019/12/presepe-vivente-ruota.jpg
END:VEVENT
BEGIN:VEVENT
DTSTART;TZID=Europe/Rome:20191215T143000
DTEND;TZID=Europe/Rome:20191215T170000
DTSTAMP:20260423T213957
CREATED:20191213T142001Z
LAST-MODIFIED:20191213T142001Z
UID:282670-1576420200-1576429200@www.eventiintoscana.it
SUMMARY:Presepe vivente - Anchiano (Borgo a Mozzano\, Lucca)
DESCRIPTION:Domenica 15 dicembre ad Anchiano\, frazione di Borgo a Mozzano\, si tiene la rappresentazione del Presepe Vivente.\nIl presepe verrà rappresentato nelle antiche cantine e nell’orto della Canonica dalle ore 14.30; la Natività è alle ore 18.30 nei pressi della Chiesa Parrocchiale. \nLa manifestazione si svolgerà anche in caso di pioggia. \n 
URL:https://www.eventiintoscana.it/evento/presepe-vivente-anchiano-borgo-a-mozzano-lucca
CATEGORIES:Feste e Folklore,Lucca
ATTACH;FMTTYPE=image/jpeg:https://www.eventiintoscana.it/wp-content/uploads/2019/12/presepe-vivente-anchiano-borgo-a-mozzano.jpg
END:VEVENT
BEGIN:VEVENT
DTSTART;TZID=Europe/Rome:20191006T120000
DTEND;TZID=Europe/Rome:20191006T190000
DTSTAMP:20260423T213957
CREATED:20191004T131819Z
LAST-MODIFIED:20191004T131819Z
UID:279639-1570363200-1570388400@www.eventiintoscana.it
SUMMARY:Sagra della castagna - Pomezzana (Stazzema\, Lucca)
DESCRIPTION:Domenica 6 ottobre dalle ore 12 a Pomezzana si tiene la Sagra della castagna.\nSarà possibile assaggiare ciacci\, castagnaccio\, pane di ciaccio\, torte con la crema di castagne\, mondine e le loffette. \nIl ciaccio è un piatto della tradizione realizzato solo con farina di castagne\, acqua e un pizzico di sale\, e cotto come da tradizione nei ‘testi’. \nIl menù prevede anche tordelli\, tagliarini\, penne al ragù\, grigliate di carne\, polenta con rosticciana… \nFarà servizio un bus navetta gratuito dal bivio località “Le Calde”.
URL:https://www.eventiintoscana.it/evento/sagra-della-castagna-pomezzana-stazzema-lucca
LOCATION:Luogo Senza Nome\, Pomezzana (Stazzema\, Lucca)
CATEGORIES:Lucca,Rassegne e Sagre
ATTACH;FMTTYPE=image/jpeg:https://www.eventiintoscana.it/wp-content/uploads/2019/10/sagra-della-castagna-pomezzana.jpg
END:VEVENT
BEGIN:VEVENT
DTSTART;TZID=Europe/Rome:20191006T120000
DTEND;TZID=Europe/Rome:20191006T190000
DTSTAMP:20260423T213957
CREATED:20191004T130802Z
LAST-MODIFIED:20191004T130802Z
UID:279641-1570363200-1570388400@www.eventiintoscana.it
SUMMARY:Castagnata in piazza - Cascio (Molazzana\, Lucca)
DESCRIPTION:Domenica 6 ottobre si tiene a Cascio la 35° Castagnata in piazza.\nA partire dalle 12 comincia il percorso degustativo\, nel pomeriggio necci\, mondine\, castagnaccio\, vin novo e bombonecci. \nSi tiene inoltre un mercatino di prodotti tipici e artigianato locale.
URL:https://www.eventiintoscana.it/evento/castagnata-piazza-cascio-molazzana-lucca-2
LOCATION:Luogo Senza Nome\,  Cascio (Molazzana\, Lucca)
CATEGORIES:Lucca,Rassegne e Sagre
ATTACH;FMTTYPE=image/jpeg:https://www.eventiintoscana.it/wp-content/uploads/2019/09/castagne1_pixabay-e1573545305802.jpg
ORGANIZER;CN="ASR Cascio":MAILTO:asr.cascio@libero.it
END:VEVENT
BEGIN:VEVENT
DTSTART;TZID=Europe/Rome:20191005T190000
DTEND;TZID=Europe/Rome:20191020T230000
DTSTAMP:20260423T213957
CREATED:20191002T153011Z
LAST-MODIFIED:20191002T153011Z
UID:279596-1570302000-1571612400@www.eventiintoscana.it
SUMMARY:Sagra della mondina e del quartuccio fritto - Bargecchia (Massarosa\, Lucca)
DESCRIPTION:Nei tre fine settimana del 5-6\, 12-13 e 19-20 ottobre\, si tiene a Bargecchia la Sagra della mondina e del quartuccio fritto.\nAl centro della manifestazione due prodotti declinati secondo tipiche preparazioni del territorio: le mondine\, ovvero le caldarroste nel dialetto locale\, e il quartuccio\, ovvero delizio pasta fritta poi servita al naturale o ripiena. \nAppuntamento tutte le sere a cena dalle 19.30 (domenica dalle 15.30); dalle 21 balli in piazza. \nNel menù della sagra spiccano anche tortelli al ragù\, stinco di maiale al forno\, prosciutto\, biroldo… e ovviamente buon vino! \nLa sagra è organizzata dall’associazione di Pubblica Assistenza Croce Verde Collinare di Bargecchia. \n 
URL:https://www.eventiintoscana.it/evento/sagra-della-mondina-del-quartuccio-fritto-bargecchia-massarosa-lucca-2-2
LOCATION:Luogo Senza Nome\, Bargecchia (Massarosa\, Lucca)
CATEGORIES:Lucca,Rassegne e Sagre
ATTACH;FMTTYPE=image/jpeg:https://www.eventiintoscana.it/wp-content/uploads/2016/09/mondina-Bargecchia.jpg
END:VEVENT
BEGIN:VEVENT
DTSTART;TZID=Europe/Rome:20190809T190000
DTEND;TZID=Europe/Rome:20190826T235500
DTSTAMP:20260423T213957
CREATED:20190719T152430Z
LAST-MODIFIED:20190719T152430Z
UID:277744-1565377200-1566863700@www.eventiintoscana.it
SUMMARY:Sagra del cencio + Marginone live fest - Marginone (Altopascio\, Lucca)
DESCRIPTION:Da venerdì 9 a domenica 11 e da mercoledì 14 a lunedì 26 agosto appuntamento a Marginone con la sagra del cencio.\nIlcencio è una specialità locale; è un tipico dolce di pasta fritta servito con zucchero a velo\, buonissimo da gustare a fine serata dopo un buon pasto o semplicemente ai tavoli lato pista mentre si gode di uno spettacolo unico. \nMusica tutte le sere. \n 
URL:https://www.eventiintoscana.it/evento/sagra-del-cencio-marginone-live-fest-marginone-altopascio-lucca
LOCATION:Luogo Senza Nome\, Marginone (Altopascio\, Lucca)
CATEGORIES:Lucca,Rassegne e Sagre
ATTACH;FMTTYPE=image/jpeg:https://www.eventiintoscana.it/wp-content/uploads/2019/07/sagra-del-cencio-marginone.jpg
END:VEVENT
END:VCALENDAR