BEGIN:VCALENDAR
VERSION:2.0
PRODID:-//Eventi in Toscana By Toscana Tascabile - ECPv6.15.12.2//NONSGML v1.0//EN
CALSCALE:GREGORIAN
METHOD:PUBLISH
X-WR-CALNAME:Eventi in Toscana By Toscana Tascabile
X-ORIGINAL-URL:https://www.eventiintoscana.it
X-WR-CALDESC:Eventi per Eventi in Toscana By Toscana Tascabile
REFRESH-INTERVAL;VALUE=DURATION:PT1H
X-Robots-Tag:noindex
X-PUBLISHED-TTL:PT1H
BEGIN:VTIMEZONE
TZID:Europe/Rome
BEGIN:DAYLIGHT
TZOFFSETFROM:+0100
TZOFFSETTO:+0200
TZNAME:CEST
DTSTART:20200329T010000
END:DAYLIGHT
BEGIN:STANDARD
TZOFFSETFROM:+0200
TZOFFSETTO:+0100
TZNAME:CET
DTSTART:20201025T010000
END:STANDARD
BEGIN:DAYLIGHT
TZOFFSETFROM:+0100
TZOFFSETTO:+0200
TZNAME:CEST
DTSTART:20210328T010000
END:DAYLIGHT
BEGIN:STANDARD
TZOFFSETFROM:+0200
TZOFFSETTO:+0100
TZNAME:CET
DTSTART:20211031T010000
END:STANDARD
BEGIN:DAYLIGHT
TZOFFSETFROM:+0100
TZOFFSETTO:+0200
TZNAME:CEST
DTSTART:20220327T010000
END:DAYLIGHT
BEGIN:STANDARD
TZOFFSETFROM:+0200
TZOFFSETTO:+0100
TZNAME:CET
DTSTART:20221030T010000
END:STANDARD
END:VTIMEZONE
BEGIN:VEVENT
DTSTART;TZID=Europe/Rome:20210227T090000
DTEND;TZID=Europe/Rome:20210228T190000
DTSTAMP:20260422T092552
CREATED:20200226T084456Z
LAST-MODIFIED:20200902T084054Z
UID:285634-1614416400-1614538800@www.eventiintoscana.it
SUMMARY:Lucca Collezionando - Polo Fiere\, Lucca
DESCRIPTION:Inizialmente previsto per sabato 28 e domenica 29 marzo 2020\, e rinviato a causa dell’emergenza Covid19\, Lucca Collezionando torna al Polo Fiere di Lucca il 27-28 febbraio 2021.\nQuinto appuntamento con il fumetto da collezione e altri mondi collaterali\, con ospiti\, mostre\, incontri ed eventi. \nLucca Collezionando è firmata da Lucca Crea srl\,  (società che organizza il festival Lucca Comics & Games e che gestisce il Polo Fiere) e Anafi (Associazione Nazionale Amici del Fumetto e dell’Illustrazione) in collaborazione con il Comune di Lucca. \nPrezzo dei biglietti in fiera\nPrezzo biglietto intero: 6 euro\nPrezzo biglietto ridotto*: 5 euro\n*con coupon di sconto\nAbbonamento per 2 giorni: 10 euro\nBiglietto omaggio per i bambini fino a 12 anni (nati dopo il 1° gennaio 2008)\nBiglietto omaggio per i soci Anafi 2019 e 2020 \nNavetta e parcheggio gratuiti\nOltre al parcheggio al Polo Fiere\, sarà attiva anche quest’anno la navetta gratuita di collegamento dalla stazione ferroviaria e da Porta San Pietro. \n*** \nInfo: \nTel. +39 0583 401711\ninfo@luccacollezionando.com
URL:https://www.eventiintoscana.it/evento/lucca-collezionando-polo-fiere-lucca-2
CATEGORIES:Fiere e Mercatini,Lucca
ATTACH;FMTTYPE=image/jpeg:https://www.eventiintoscana.it/wp-content/uploads/2020/02/lucca-collezionando.jpg
END:VEVENT
END:VCALENDAR