BEGIN:VCALENDAR
VERSION:2.0
PRODID:-//Eventi in Toscana By Toscana Tascabile - ECPv6.15.12.2//NONSGML v1.0//EN
CALSCALE:GREGORIAN
METHOD:PUBLISH
X-ORIGINAL-URL:https://www.eventiintoscana.it
X-WR-CALDESC:Eventi per Eventi in Toscana By Toscana Tascabile
REFRESH-INTERVAL;VALUE=DURATION:PT1H
X-Robots-Tag:noindex
X-PUBLISHED-TTL:PT1H
BEGIN:VTIMEZONE
TZID:Europe/Rome
BEGIN:DAYLIGHT
TZOFFSETFROM:+0100
TZOFFSETTO:+0200
TZNAME:CEST
DTSTART:20170326T010000
END:DAYLIGHT
BEGIN:STANDARD
TZOFFSETFROM:+0200
TZOFFSETTO:+0100
TZNAME:CET
DTSTART:20171029T010000
END:STANDARD
BEGIN:DAYLIGHT
TZOFFSETFROM:+0100
TZOFFSETTO:+0200
TZNAME:CEST
DTSTART:20180325T010000
END:DAYLIGHT
BEGIN:STANDARD
TZOFFSETFROM:+0200
TZOFFSETTO:+0100
TZNAME:CET
DTSTART:20181028T010000
END:STANDARD
BEGIN:DAYLIGHT
TZOFFSETFROM:+0100
TZOFFSETTO:+0200
TZNAME:CEST
DTSTART:20190331T010000
END:DAYLIGHT
BEGIN:STANDARD
TZOFFSETFROM:+0200
TZOFFSETTO:+0100
TZNAME:CET
DTSTART:20191027T010000
END:STANDARD
END:VTIMEZONE
BEGIN:VEVENT
DTSTART;TZID=Europe/Rome:20180718T080000
DTEND;TZID=Europe/Rome:20180927T230000
DTSTAMP:20260421T073413
CREATED:20180718T131738Z
LAST-MODIFIED:20180718T131738Z
UID:268554-1531900800-1538089200@www.eventiintoscana.it
SUMMARY:Lucca Biennale – Paper | Art | Design - Lucca
DESCRIPTION:Dal 4 agosto al 27 settembre la Biennale dedicata all’arte\, al design e all’architettura in carta e cartone: ‘Cartasia’ cambia nome e diventa ‘Lucca Biennale’\, e il tema di questa nona edizione è Caos e silenzio \nLa prima grande novità di questa nona edizione sta proprio nel nome della manifestazione che da qui in avanti sarà “Lucca Biennale – Paper | Art | Design”. “Lucca” a significare il legame imprescindibile con la città che la ospita e con un territorio dove da secoli si producono carta e cartone. “Biennale” per sottolineare la valenza artistica della kermesse che negli anni si è ritagliata una posizione autorevole a livello internazionale e vuole confermarsi uno spazio di confronto sui grandi temi dell’attualità\, sulle nuove tendenze artistiche e culturali e sull’innovazione\, capace di rivolgersi e coinvolgere addetti del settore\, appassionati\, artisti\, designers\, studenti o semplici curiosi. \nIn questa sua nuova veste\, per ogni edizione la Biennale avrà un paese ospite. Il primo sarà la Cina\, terra in cui la carta è stata inventata nel I secolo d.C. Per il 2018 verrà organizzato intanto un primo focus con talk\, eventi e una particolare vetrina per gli artisti cinesi\, grazie alla realizzazione di un’architettura in cartone. In collaborazione con le università di Tongji (Shanghai) e Tsinghua (Pechino)\, infatti\, verrà creato un vero e proprio padiglione in carta che ospiterà un’esposizione dedicata esclusivamente alla Cina.  \nSempre a partire da quest’anno\, Lucca Biennale conferirà dei premi agli artisti ospiti della kermesse\, riconosciuti tra i più interessanti del panorama internazionale. \nLa menzione d’onore andrà allo scultore britannico James Lake che utilizza il cartone per le sue opere. Verrà invece annunciato in un secondo momento il premio alla carriera. \nSono circa 400 gli artisti che hanno partecipato ai tre concorsi per artisti\, designer e architetti indetti dalla Biennale per selezionare le opere dell’edizione 2018. Le domande sono arrivate letteralmente da tutto il mondo: Stati Uniti\, Germania\, Francia\, Spagna\, Gran Bretagna\, Messico\, Argentina\, Giappone\, Korea\, Egitto\, Cile\, Ungheria\, Portogallo\, Russia\, Indonesia\, Slovacchia\, Polonia\, Olanda\, Belgio\, India\, Africa\, Grecia\, Israele\, Iran e Italia\, ovviamente.  \nLe opere monumentali\, che rendono unica Lucca Biennale rispetto alle altre manifestazioni dedicate alla Paper Art\, saranno allestite un po’ in tutta la città e ancora una volta la trasformeranno in una galleria d’arte a cielo aperto. Gli artisti risiederanno a Lucca per un mese e potranno realizzare le loro installazioni\, come già accaduto nel 2016\, nella bellissima Cavallerizza\, nel centro di Lucca. \nCon oltre 2.000 metri quadri di esposizione\, la sezione Art Indoor della Biennale propone lo stato dell’arte della Paper Art contemporanea. Da quest’anno\, la mostra è aperta anche ad altre espressioni artistiche come la videoarte e il cinema. Sarà ospitata a Palazzo Ducale. \nC’è poi la sezione design e architettura\, che verrà allestita al mercato del Carmine. Nata nel 2016 e subito accolta con entusiasmo dal pubblico e dagli addetti ai lavori\, questa sezione rappresenta un modo per parlare di presente e di innovazione e per il 2018 pone particolare accento sull’architettura.  \nNel programma di Lucca Biennale anche performance\, eventi per bambini e una tre-giorni di conferenze e confronti tra artisti\, curatori\, critici\, direttori di musei e rappresentanti delle università di belle arti di tutto il mondo. \nOrganizzata da Metropolis\, si avvale della collaborazione con il Comune di Lucca\, del supporto di Fondazione Cassa di Risparmio di Lucca e Fondazione Banca del Monte di Lucca e della partnership con Ds Smith \nIl programma completo on line su www.cartasia.it e www.luccabiennale.it
URL:https://www.eventiintoscana.it/evento/268554
LOCATION:Luogo Senza Nome\, Lucca
CATEGORIES:Lucca,Mostra d'Arte
ATTACH;FMTTYPE=image/jpeg:https://www.eventiintoscana.it/wp-content/uploads/2018/07/Cartasia-Outdoor-2009_StefanoGiovacchini_COME-DIAMANTI.jpg
END:VEVENT
END:VCALENDAR