BEGIN:VCALENDAR
VERSION:2.0
PRODID:-//Eventi in Toscana By Toscana Tascabile - ECPv6.15.12.2//NONSGML v1.0//EN
CALSCALE:GREGORIAN
METHOD:PUBLISH
X-WR-CALNAME:Eventi in Toscana By Toscana Tascabile
X-ORIGINAL-URL:https://www.eventiintoscana.it
X-WR-CALDESC:Eventi per Eventi in Toscana By Toscana Tascabile
REFRESH-INTERVAL;VALUE=DURATION:PT1H
X-Robots-Tag:noindex
X-PUBLISHED-TTL:PT1H
BEGIN:VTIMEZONE
TZID:Europe/Rome
BEGIN:DAYLIGHT
TZOFFSETFROM:+0100
TZOFFSETTO:+0200
TZNAME:CEST
DTSTART:20180325T010000
END:DAYLIGHT
BEGIN:STANDARD
TZOFFSETFROM:+0200
TZOFFSETTO:+0100
TZNAME:CET
DTSTART:20181028T010000
END:STANDARD
BEGIN:DAYLIGHT
TZOFFSETFROM:+0100
TZOFFSETTO:+0200
TZNAME:CEST
DTSTART:20190331T010000
END:DAYLIGHT
BEGIN:STANDARD
TZOFFSETFROM:+0200
TZOFFSETTO:+0100
TZNAME:CET
DTSTART:20191027T010000
END:STANDARD
BEGIN:DAYLIGHT
TZOFFSETFROM:+0100
TZOFFSETTO:+0200
TZNAME:CEST
DTSTART:20200329T010000
END:DAYLIGHT
BEGIN:STANDARD
TZOFFSETFROM:+0200
TZOFFSETTO:+0100
TZNAME:CET
DTSTART:20201025T010000
END:STANDARD
END:VTIMEZONE
BEGIN:VEVENT
DTSTART;TZID=Europe/Rome:20190511T130000
DTEND;TZID=Europe/Rome:20190511T230000
DTSTAMP:20260423T095032
CREATED:20190429T133330Z
LAST-MODIFIED:20190429T133330Z
UID:275495-1557579600-1557615600@www.eventiintoscana.it
SUMMARY:Lucca Abbuio. Raduno Vespa - Lucca
DESCRIPTION:Sabato 11 maggio si tiene il raduno organizzato dal Vespa Club Lucca che prevede un giro turistico\, in notturna\, sulle colline lucchesi.\nNel tardo pomeriggio il corteo si muoverà scendendo dalla cinta muraria e\, dopo un passaggio in centro storico\, effettuerà un giro turistico sulle bellissime colline lucchesi\, con soste nelle zone panoramiche per ammirare il tramonto dall’alto.\nAl rientro dal tour\, dopo un giro completo di mura\, ritorno al Baluardo San Salvatore per i saluti finali. \n 
URL:https://www.eventiintoscana.it/evento/lucca-abbuio-raduno-vespa-lucca
LOCATION:Luogo Senza Nome\, Lucca
CATEGORIES:Lucca,Rassegne e Sagre
ATTACH;FMTTYPE=image/jpeg:https://www.eventiintoscana.it/wp-content/uploads/2019/04/vespa2_pixabay.jpg
END:VEVENT
END:VCALENDAR