BEGIN:VCALENDAR
VERSION:2.0
PRODID:-//Eventi in Toscana By Toscana Tascabile - ECPv6.15.12.2//NONSGML v1.0//EN
CALSCALE:GREGORIAN
METHOD:PUBLISH
X-WR-CALNAME:Eventi in Toscana By Toscana Tascabile
X-ORIGINAL-URL:https://www.eventiintoscana.it
X-WR-CALDESC:Eventi per Eventi in Toscana By Toscana Tascabile
REFRESH-INTERVAL;VALUE=DURATION:PT1H
X-Robots-Tag:noindex
X-PUBLISHED-TTL:PT1H
BEGIN:VTIMEZONE
TZID:Europe/Rome
BEGIN:DAYLIGHT
TZOFFSETFROM:+0100
TZOFFSETTO:+0200
TZNAME:CEST
DTSTART:20190331T010000
END:DAYLIGHT
BEGIN:STANDARD
TZOFFSETFROM:+0200
TZOFFSETTO:+0100
TZNAME:CET
DTSTART:20191027T010000
END:STANDARD
BEGIN:DAYLIGHT
TZOFFSETFROM:+0100
TZOFFSETTO:+0200
TZNAME:CEST
DTSTART:20200329T010000
END:DAYLIGHT
BEGIN:STANDARD
TZOFFSETFROM:+0200
TZOFFSETTO:+0100
TZNAME:CET
DTSTART:20201025T010000
END:STANDARD
BEGIN:DAYLIGHT
TZOFFSETFROM:+0100
TZOFFSETTO:+0200
TZNAME:CEST
DTSTART:20210328T010000
END:DAYLIGHT
BEGIN:STANDARD
TZOFFSETFROM:+0200
TZOFFSETTO:+0100
TZNAME:CET
DTSTART:20211031T010000
END:STANDARD
END:VTIMEZONE
BEGIN:VEVENT
DTSTART;TZID=Europe/Rome:20200906T150000
DTEND;TZID=Europe/Rome:20200906T190000
DTSTAMP:20260423T203556
CREATED:20200831T090317Z
LAST-MODIFIED:20200831T090317Z
UID:287148-1599404400-1599418800@www.eventiintoscana.it
SUMMARY:Picnic in Villa - Tenuta di Frassineto\, loc. Frassineto (Arezzo)
DESCRIPTION:Domenica 6 Settembre dalle 15.00 in poi appuntamento con il Picnic in Villa presso la Tenuta di Frassineto\, in loc. Frassineto ad Arezzo.\nLa partecipazione è prevista solo su prenotazione.\n\nIn occasione del Picnic in Villa sarà possibile effettuare una visita guidata nelle vigne\, in cantina ed in barriccaia alla scoperta della storia e della tradizione della Tenuta di Frassineto\, in occasione della vendemmia 2020.\n\nE’ inoltre prevista una degustazione in modalità picnic con prodotti tipici locali\, abbinati ai vini della tenuta e con musica in sottofondo.\n \n\n\nPer info e prenotazioni:\n371 4956539\nshop@tenutadifrassineto.com
URL:https://www.eventiintoscana.it/evento/picnic-in-villa-tenuta-di-frassineto-loc-frassineto-arezzo
CATEGORIES:arezzo,Rassegne e Sagre
ATTACH;FMTTYPE=image/jpeg:https://www.eventiintoscana.it/wp-content/uploads/2020/08/cantine-aperte-in-vendemmia-loc-frassineto.jpg
END:VEVENT
END:VCALENDAR