BEGIN:VCALENDAR
VERSION:2.0
PRODID:-//Eventi in Toscana By Toscana Tascabile - ECPv6.15.12.2//NONSGML v1.0//EN
CALSCALE:GREGORIAN
METHOD:PUBLISH
X-WR-CALNAME:Eventi in Toscana By Toscana Tascabile
X-ORIGINAL-URL:https://www.eventiintoscana.it
X-WR-CALDESC:Eventi per Eventi in Toscana By Toscana Tascabile
REFRESH-INTERVAL;VALUE=DURATION:PT1H
X-Robots-Tag:noindex
X-PUBLISHED-TTL:PT1H
BEGIN:VTIMEZONE
TZID:Europe/Rome
BEGIN:DAYLIGHT
TZOFFSETFROM:+0100
TZOFFSETTO:+0200
TZNAME:CEST
DTSTART:20190331T010000
END:DAYLIGHT
BEGIN:STANDARD
TZOFFSETFROM:+0200
TZOFFSETTO:+0100
TZNAME:CET
DTSTART:20191027T010000
END:STANDARD
BEGIN:DAYLIGHT
TZOFFSETFROM:+0100
TZOFFSETTO:+0200
TZNAME:CEST
DTSTART:20200329T010000
END:DAYLIGHT
BEGIN:STANDARD
TZOFFSETFROM:+0200
TZOFFSETTO:+0100
TZNAME:CET
DTSTART:20201025T010000
END:STANDARD
BEGIN:DAYLIGHT
TZOFFSETFROM:+0100
TZOFFSETTO:+0200
TZNAME:CEST
DTSTART:20210328T010000
END:DAYLIGHT
BEGIN:STANDARD
TZOFFSETFROM:+0200
TZOFFSETTO:+0100
TZNAME:CET
DTSTART:20211031T010000
END:STANDARD
END:VTIMEZONE
BEGIN:VEVENT
DTSTART;TZID=Europe/Rome:20200920T110000
DTEND;TZID=Europe/Rome:20200920T210000
DTSTAMP:20260422T075042
CREATED:20200909T125650Z
LAST-MODIFIED:20200909T125650Z
UID:287356-1600599600-1600635600@www.eventiintoscana.it
SUMMARY:Festa nell'Orto - Podere Castellare\, Loc. Diacceto (Pelago\, Firenze)
DESCRIPTION:Domenica 20 settembre dalle 11 al tramonto presso il Podere Castellare di Diacceto (Pelago) si tiene la Festa nell’Orto.\nUna giornata di street food\, home made market e musica in una location nuova\, affascinante ed immersa in una spettacolare natura\, il Podere Castellare di Pelago (dove nasce il Gin ‘Peter in Florence’). \nDalla mattina fino al calare del sole troverete un prezioso mercatino di artigianato e varie proposte di street food locali. \nIl tutto sarà accompagnato dalla musica dei Dj’s\, da balli swing\, cocktail e da un panorama mozzafiato. \nNon mancheranno laboratori\, degustazioni e tante attività per vivere al meglio la vita del podere e\, ovviamente\, quella dell’orto. \nPer informazioni: 392 085 7675 – redazione@firenzeurbanlifestyle.com \nNormative Covid-19\n– Si raccomanda l’utilizzo della mascherina e si invita a dotarsi di un gel igienizzante personale\n– La musica sarà di accompagnamento\, non per ballare
URL:https://www.eventiintoscana.it/evento/festa-nellorto-podere-castellare-loc-diacceto-pelago-firenze
CATEGORIES:Firenze,Rassegne e Sagre
ATTACH;FMTTYPE=image/jpeg:https://www.eventiintoscana.it/wp-content/uploads/2020/09/festa-nellorto-FUL.jpg
END:VEVENT
END:VCALENDAR