BEGIN:VCALENDAR
VERSION:2.0
PRODID:-//Eventi in Toscana By Toscana Tascabile - ECPv6.15.12.2//NONSGML v1.0//EN
CALSCALE:GREGORIAN
METHOD:PUBLISH
X-WR-CALNAME:Eventi in Toscana By Toscana Tascabile
X-ORIGINAL-URL:https://www.eventiintoscana.it
X-WR-CALDESC:Eventi per Eventi in Toscana By Toscana Tascabile
REFRESH-INTERVAL;VALUE=DURATION:PT1H
X-Robots-Tag:noindex
X-PUBLISHED-TTL:PT1H
BEGIN:VTIMEZONE
TZID:Europe/Rome
BEGIN:DAYLIGHT
TZOFFSETFROM:+0100
TZOFFSETTO:+0200
TZNAME:CEST
DTSTART:20170326T010000
END:DAYLIGHT
BEGIN:STANDARD
TZOFFSETFROM:+0200
TZOFFSETTO:+0100
TZNAME:CET
DTSTART:20171029T010000
END:STANDARD
BEGIN:DAYLIGHT
TZOFFSETFROM:+0100
TZOFFSETTO:+0200
TZNAME:CEST
DTSTART:20180325T010000
END:DAYLIGHT
BEGIN:STANDARD
TZOFFSETFROM:+0200
TZOFFSETTO:+0100
TZNAME:CET
DTSTART:20181028T010000
END:STANDARD
BEGIN:DAYLIGHT
TZOFFSETFROM:+0100
TZOFFSETTO:+0200
TZNAME:CEST
DTSTART:20190331T010000
END:DAYLIGHT
BEGIN:STANDARD
TZOFFSETFROM:+0200
TZOFFSETTO:+0100
TZNAME:CET
DTSTART:20191027T010000
END:STANDARD
END:VTIMEZONE
BEGIN:VEVENT
DTSTART;TZID=Europe/Rome:20180803T000000
DTEND;TZID=Europe/Rome:20180805T000000
DTSTAMP:20260422T105825
CREATED:20180628T103349Z
LAST-MODIFIED:20180805T204325Z
UID:267775-1533254400-1533427200@www.eventiintoscana.it
SUMMARY:Lirica in Piazza - Piazza Garibaldi\, Massa Marittima (Grosseto)
DESCRIPTION:Sul suggestivo palcoscenico della trecentesca Cattedrale di San Cerbone in Piazza Garibaldi\, torna da venerdì 3 a domenica 5 agosto la 33ª edizione di ‘Lirica in Piazza’\, dove le più celebri opere della tradizione operistica si coniugano con l’utilizzo di tecnologie multimediali e nuove scenografie. \nIl 3 agosto si parte con un ritorno nella Spagna del XV secolo grazie a ‘Il Trovatore’ di Giuseppe Verdi\, regia di Gianmaria Romagnoli e orchestra diretta da Maurizio Morgantini. \nIl 4 agosto è la volta di ‘Carmen’ di Georges Bizet\, regia di Romagnoli e orchestra diretta da Stefano Seghedoni. \nInfine\, il 5 agosto chiusura con ‘Suor Angelica’ di Giacomo Puccini e ‘Cavalleria Rusticana’ di Pietro Mascagni. \nInizio spettacoli ore 21:15.
URL:https://www.eventiintoscana.it/evento/lirica-in-piazza-piazza-garibaldi-massa-marittima-grosseto-2
LOCATION:Piazza Garibaldi\, Massa Marittima\, Toscana\, 58024\, Italia
CATEGORIES:Grosseto
ATTACH;FMTTYPE=image/jpeg:https://www.eventiintoscana.it/wp-content/uploads/2018/06/31743__liricainpiazz.jpg
END:VEVENT
END:VCALENDAR