BEGIN:VCALENDAR
VERSION:2.0
PRODID:-//Eventi in Toscana By Toscana Tascabile - ECPv6.15.12.2//NONSGML v1.0//EN
CALSCALE:GREGORIAN
METHOD:PUBLISH
X-WR-CALNAME:Eventi in Toscana By Toscana Tascabile
X-ORIGINAL-URL:https://www.eventiintoscana.it
X-WR-CALDESC:Eventi per Eventi in Toscana By Toscana Tascabile
REFRESH-INTERVAL;VALUE=DURATION:PT1H
X-Robots-Tag:noindex
X-PUBLISHED-TTL:PT1H
BEGIN:VTIMEZONE
TZID:Europe/Rome
BEGIN:DAYLIGHT
TZOFFSETFROM:+0100
TZOFFSETTO:+0200
TZNAME:CEST
DTSTART:20160327T010000
END:DAYLIGHT
BEGIN:STANDARD
TZOFFSETFROM:+0200
TZOFFSETTO:+0100
TZNAME:CET
DTSTART:20161030T010000
END:STANDARD
BEGIN:DAYLIGHT
TZOFFSETFROM:+0100
TZOFFSETTO:+0200
TZNAME:CEST
DTSTART:20170326T010000
END:DAYLIGHT
BEGIN:STANDARD
TZOFFSETFROM:+0200
TZOFFSETTO:+0100
TZNAME:CET
DTSTART:20171029T010000
END:STANDARD
BEGIN:DAYLIGHT
TZOFFSETFROM:+0100
TZOFFSETTO:+0200
TZNAME:CEST
DTSTART:20180325T010000
END:DAYLIGHT
BEGIN:STANDARD
TZOFFSETFROM:+0200
TZOFFSETTO:+0100
TZNAME:CET
DTSTART:20181028T010000
END:STANDARD
END:VTIMEZONE
BEGIN:VEVENT
DTSTART;TZID=Europe/Rome:20170506T080000
DTEND;TZID=Europe/Rome:20170507T230000
DTSTAMP:20260421T190101
CREATED:20170418T133525Z
LAST-MODIFIED:20170418T133525Z
UID:239439-1494057600-1494198000@www.eventiintoscana.it
SUMMARY:Sieci si tinge di rosa - Sieci\, Pontassieve (Firenze)
DESCRIPTION:Sabato 6 e domenica 7 maggio torna la IV edizione della manifestazione ‘Sieci si tinge di rosa’\, organizzata dalle Florence Dragon Lady della LILT (Lega Italiana per la Lotta contro i Tumori).\nMolte le iniziative di questa due giorni tra visite di prevenzione per il melanoma\, incontri su temi quali l’alimentazione e gli stili di vita\, aperitivo salutista\, musica giochi e intrattenimenti vari! \nCLICCA QUI PER IL PROGRAMMA COMPLETO \nChi sono le LILT Florence Dragon Lady\nNel Febbraio 2006\, per volontà della LILT (Lega Italiana per la Lotta Contro i Tumori) e con la collaborazione della Canottieri Comunali Firenze\, si è formato il primo equipaggio fiorentino in rosa di Dragon Boat: le LILT Florence Dragon Lady\, un gruppo di donne operate di tumore al seno che praticano il Dragon Boat come strumento di riabilitazione psicofisica riconosciuto a livello mondiale e noto come movimento delle Donne in Rosa. Il CE.RI.ON (Centro di Riabilitazione Oncologica) di Firenze\, che integra il servizio pubblico ISPO (Istituto Per lo Studio e la Prevenzione Oncologica) con i servizi LILT\, segue il gruppo e singolarmente le sue componenti\, accompagnandole in un percorso riabilitativo psico-fisico integrato e personalizzato. \nMolti altri sono i percorsi CERION-LILT: attraverso uno di questi la piscina comunale di Pontassieve mette a disposizione spazi riservati alla riabilitazione. Una sinergia LILT/Croce Azzurra\, una volta alla settimana\, ha aperto alle Sieci un Punto di Ascolto per donne operate di tumore al seno. È un appoggio per i momenti più difficili e delicati e fornisce informazioni precise sulle attività e sui servizi CeRiOn- Lilt. \nMolte delle donne del gruppo FDL fanno parte del Servizio Donna Come Prima della LILT e dedicano la loro disponibilità di tempo al volontariato\, altre sono amiche che sono state coinvolte in questa avventura: con la LILT partecipano alle manifestazioni che coinvolgono la nostra città\, testimoniando come si possa tornare serenamente attive a una vita normale dopo la malattia. Queste donne sono un esempio tangibile del valore della prevenzione e si pongono come testimoni del valore della riabilitazione. \nPunto di ascolto LILT/Croce Azzurra: Martedì 9\,30 -18\,30 \nTelefono: 320.958 0050 \n*** \nLILT – sezione Firenze (Lega italiana per la lotta contro i tumori)\nViale Donato Giannotti\, 23 50126 – Firenze \ninfo@legatumorifirenze.it www.legatumorifirenze.it
URL:https://www.eventiintoscana.it/evento/239439
LOCATION:Sieci\, Pontassieve\, Firenze
CATEGORIES:Firenze,Rassegne e Sagre
ATTACH;FMTTYPE=image/jpeg:https://www.eventiintoscana.it/wp-content/uploads/2017/04/LILT-DragonLady.jpg
END:VEVENT
END:VCALENDAR