BEGIN:VCALENDAR
VERSION:2.0
PRODID:-//Eventi in Toscana By Toscana Tascabile - ECPv6.15.12.2//NONSGML v1.0//EN
CALSCALE:GREGORIAN
METHOD:PUBLISH
X-WR-CALNAME:Eventi in Toscana By Toscana Tascabile
X-ORIGINAL-URL:https://www.eventiintoscana.it
X-WR-CALDESC:Eventi per Eventi in Toscana By Toscana Tascabile
REFRESH-INTERVAL;VALUE=DURATION:PT1H
X-Robots-Tag:noindex
X-PUBLISHED-TTL:PT1H
BEGIN:VTIMEZONE
TZID:Europe/Rome
BEGIN:DAYLIGHT
TZOFFSETFROM:+0100
TZOFFSETTO:+0200
TZNAME:CEST
DTSTART:20180325T010000
END:DAYLIGHT
BEGIN:STANDARD
TZOFFSETFROM:+0200
TZOFFSETTO:+0100
TZNAME:CET
DTSTART:20181028T010000
END:STANDARD
BEGIN:DAYLIGHT
TZOFFSETFROM:+0100
TZOFFSETTO:+0200
TZNAME:CEST
DTSTART:20190331T010000
END:DAYLIGHT
BEGIN:STANDARD
TZOFFSETFROM:+0200
TZOFFSETTO:+0100
TZNAME:CET
DTSTART:20191027T010000
END:STANDARD
BEGIN:DAYLIGHT
TZOFFSETFROM:+0100
TZOFFSETTO:+0200
TZNAME:CEST
DTSTART:20200329T010000
END:DAYLIGHT
BEGIN:STANDARD
TZOFFSETFROM:+0200
TZOFFSETTO:+0100
TZNAME:CET
DTSTART:20201025T010000
END:STANDARD
END:VTIMEZONE
BEGIN:VEVENT
DTSTART;TZID=Europe/Rome:20190726T180000
DTEND;TZID=Europe/Rome:20190728T235500
DTSTAMP:20260419T183830
CREATED:20190716T163643Z
LAST-MODIFIED:20190716T163643Z
UID:277644-1564164000-1564358100@www.eventiintoscana.it
SUMMARY:Laterina Medievale - Laterina (Laterina Pergine V.no\, Arezzo)
DESCRIPTION:Da venerdì 26 a domenica 28 luglio  il Castello di Laterina si trasforma\, tornando al suo antico splendore con la Festa Medievale Laterina Medievale: di Ferro e di Fuoco.\nTanti i protagonisti dell’edizione 2019: la Compagnia Teatrale Accademia Creativa ed il loro affascinante teatro di strada fatto di trampolieri\, giochi di fuoco e macchine pirotecniche. Gli IGNES FATUI – La Compagnia dell’Alto Fuoco\, le loro parate e animazioni\, danze acrobatiche\, giocoleria e spettacoli pirotecnici.  \nRisate a volontà con il Convivio dei Giullari\, mentre i ritmi dei Giullari dell’Allegra Brigata e dei Castle’s Drummers accompagneranno i visitatori fino a tarda notte. \nImmancabili i combattimenti mozzafiato degli amici guerrieri della Compagnia della Spada e le esibizioni dei rapaci dei Guelfi Falconieri\, che terranno grandi e piccini con il naso all’insù.  \nMedea La Maga Bianca sarà presente come ogni anno con le sue predizioni\, mentre il Sipario Medievale allestirà il suggestivo mercato con dimostrazione di arti e mestieri. \nTaverne\, botteghe borghigiane e punti ristoro saranno aperti fino a tardi e\, grazie alla collaborazione con AiC Toscana\, anche le persone celiache potranno banchettare in compagnia. \nNei tre giorni della Festa sarà possibile vedere la Guardia del Castello nel campo militare e le macchine da guerra fedelmente ricostruite\, assistere a cortei storici e rievocazioni\, cimentarsi in giochi d’abilità e passeggiare mano nella mano fra le romantiche piazzette e borghi del Castello di Laterina. \nLaterina Medievale fa parte del Calendario delle Manifestazioni Storiche della Provincia di Arezzo e della Regione Toscana. \nIngresso Gratuito\, ore 18-24. \n 
URL:https://www.eventiintoscana.it/evento/laterina-medievale-laterina-laterina-pergine-v-no-arezzo
LOCATION:Centro storico\, Laterina (Laterina Pergine V.no\, Arezzo)
CATEGORIES:arezzo,Rassegne e Sagre
ATTACH;FMTTYPE=image/jpeg:https://www.eventiintoscana.it/wp-content/uploads/2019/07/laterina-medievale.jpg
ORGANIZER;CN="Ass. La Rocca":MAILTO:info@laterinamedievale.it
END:VEVENT
END:VCALENDAR