BEGIN:VCALENDAR
VERSION:2.0
PRODID:-//Eventi in Toscana By Toscana Tascabile - ECPv6.15.12.2//NONSGML v1.0//EN
CALSCALE:GREGORIAN
METHOD:PUBLISH
X-ORIGINAL-URL:https://www.eventiintoscana.it
X-WR-CALDESC:Eventi per Eventi in Toscana By Toscana Tascabile
REFRESH-INTERVAL;VALUE=DURATION:PT1H
X-Robots-Tag:noindex
X-PUBLISHED-TTL:PT1H
BEGIN:VTIMEZONE
TZID:Europe/Rome
BEGIN:DAYLIGHT
TZOFFSETFROM:+0100
TZOFFSETTO:+0200
TZNAME:CEST
DTSTART:20170326T010000
END:DAYLIGHT
BEGIN:STANDARD
TZOFFSETFROM:+0200
TZOFFSETTO:+0100
TZNAME:CET
DTSTART:20171029T010000
END:STANDARD
BEGIN:DAYLIGHT
TZOFFSETFROM:+0100
TZOFFSETTO:+0200
TZNAME:CEST
DTSTART:20180325T010000
END:DAYLIGHT
BEGIN:STANDARD
TZOFFSETFROM:+0200
TZOFFSETTO:+0100
TZNAME:CET
DTSTART:20181028T010000
END:STANDARD
BEGIN:DAYLIGHT
TZOFFSETFROM:+0100
TZOFFSETTO:+0200
TZNAME:CEST
DTSTART:20190331T010000
END:DAYLIGHT
BEGIN:STANDARD
TZOFFSETFROM:+0200
TZOFFSETTO:+0100
TZNAME:CET
DTSTART:20191027T010000
END:STANDARD
END:VTIMEZONE
BEGIN:VEVENT
DTSTART;TZID=Europe/Rome:20180317T100000
DTEND;TZID=Europe/Rome:20180317T170000
DTSTAMP:20260422T010915
CREATED:20180123T104726Z
LAST-MODIFIED:20180313T085939Z
UID:260284-1521280800-1521306000@www.eventiintoscana.it
SUMMARY:L'Armonia del ciclo - Firenze
DESCRIPTION:Gli aspetti fisici\, emotivi e psicologici del ciclo mestruale in relazione alle fasi lunari: questo il tema del gruppo che si terrà il 17 marzo dalle 10 alle 17 presso il Centro di Terapia Integrata di Via Crispi 14 a Firenze\, con la dott.ssa Paola Massari. \nDurante la giornata si lavorerà su miti\, fiabe e simboli per scoprire i significati più profondi della femminilità. \nLa Bioenergetica aiuterà i partecipanti a sbloccare le energie che impediscono di vivere la ricchezza del ciclo; verranno inoltre utilizzati rilassamento e respirazione profonda. \nIl costo è di € 60. Info e prenotazioni: 338.9441271
URL:https://www.eventiintoscana.it/evento/larmonia-del-ciclo-firenze
LOCATION:Centro di Terapia Integrata\, Via Crispi 14\, Firenze
CATEGORIES:Firenze
ATTACH;FMTTYPE=image/jpeg:https://www.eventiintoscana.it/wp-content/uploads/2018/01/larmonia-del-ciclo_Firenze.jpg
END:VEVENT
END:VCALENDAR