BEGIN:VCALENDAR
VERSION:2.0
PRODID:-//Eventi in Toscana By Toscana Tascabile - ECPv6.15.12.2//NONSGML v1.0//EN
CALSCALE:GREGORIAN
METHOD:PUBLISH
X-ORIGINAL-URL:https://www.eventiintoscana.it
X-WR-CALDESC:Eventi per Eventi in Toscana By Toscana Tascabile
REFRESH-INTERVAL;VALUE=DURATION:PT1H
X-Robots-Tag:noindex
X-PUBLISHED-TTL:PT1H
BEGIN:VTIMEZONE
TZID:Europe/Rome
BEGIN:DAYLIGHT
TZOFFSETFROM:+0100
TZOFFSETTO:+0200
TZNAME:CEST
DTSTART:20200329T010000
END:DAYLIGHT
BEGIN:STANDARD
TZOFFSETFROM:+0200
TZOFFSETTO:+0100
TZNAME:CET
DTSTART:20201025T010000
END:STANDARD
BEGIN:DAYLIGHT
TZOFFSETFROM:+0100
TZOFFSETTO:+0200
TZNAME:CEST
DTSTART:20210328T010000
END:DAYLIGHT
BEGIN:STANDARD
TZOFFSETFROM:+0200
TZOFFSETTO:+0100
TZNAME:CET
DTSTART:20211031T010000
END:STANDARD
BEGIN:DAYLIGHT
TZOFFSETFROM:+0100
TZOFFSETTO:+0200
TZNAME:CEST
DTSTART:20220327T010000
END:DAYLIGHT
BEGIN:STANDARD
TZOFFSETFROM:+0200
TZOFFSETTO:+0100
TZNAME:CET
DTSTART:20221030T010000
END:STANDARD
END:VTIMEZONE
BEGIN:VEVENT
DTSTART;TZID=Europe/Rome:20210522T100000
DTEND;TZID=Europe/Rome:20210522T170000
DTSTAMP:20260420T020501
CREATED:20210506T144918Z
LAST-MODIFIED:20210506T144918Z
UID:289579-1621677600-1621702800@www.eventiintoscana.it
SUMMARY:L'Armonia del ciclo - incontro di gruppo per donne
DESCRIPTION:Sabato 22 maggio\, al Centro di Terapia Integrata di Firenze\, la psicologa Paola Massari conduce un gruppo dal titolo “L’armonia del ciclo”.\nDurante la giornata\, dalle ore 10 alle 17\, il gruppo lavorerà sugli aspetti fisici\, emotivi e psicologici del ciclo mestruale in relazione alle fasi lunari. \nIl gruppo\, guidato dalla dott.ssa Massari\, lavorerà su miti\, fiabe e simboli per scoprire i significati più profondi della femminilità. \nLa bioenergetica aiuterà le partecipanti a sbloccare le energie che impediscono di vivere la ricchezza del ciclo. \nVerranno usate tecniche di rilassamento e respirazione profonda. \nInformazioni:\nil gruppo si svolge sabato 22 maggio dalle ore 10 alle 17 presso il Centro di Terapia Integrata di Via Crispi 14 a Firenze. \nIl costo del corso è di € 60. \nInformazioni e prenotazioni: 338.9441271 \n 
URL:https://www.eventiintoscana.it/evento/larmonia-del-ciclo-incontro-di-gruppo-per-donne
CATEGORIES:Firenze,Natura e Sport
ATTACH;FMTTYPE=image/jpeg:https://www.eventiintoscana.it/wp-content/uploads/2021/05/larmonia-del-ciclo.jpg
END:VEVENT
END:VCALENDAR