BEGIN:VCALENDAR
VERSION:2.0
PRODID:-//Eventi in Toscana By Toscana Tascabile - ECPv6.15.12.2//NONSGML v1.0//EN
CALSCALE:GREGORIAN
METHOD:PUBLISH
X-ORIGINAL-URL:https://www.eventiintoscana.it
X-WR-CALDESC:Eventi per Eventi in Toscana By Toscana Tascabile
REFRESH-INTERVAL;VALUE=DURATION:PT1H
X-Robots-Tag:noindex
X-PUBLISHED-TTL:PT1H
BEGIN:VTIMEZONE
TZID:Europe/Rome
BEGIN:DAYLIGHT
TZOFFSETFROM:+0100
TZOFFSETTO:+0200
TZNAME:CEST
DTSTART:20180325T010000
END:DAYLIGHT
BEGIN:STANDARD
TZOFFSETFROM:+0200
TZOFFSETTO:+0100
TZNAME:CET
DTSTART:20181028T010000
END:STANDARD
BEGIN:DAYLIGHT
TZOFFSETFROM:+0100
TZOFFSETTO:+0200
TZNAME:CEST
DTSTART:20190331T010000
END:DAYLIGHT
BEGIN:STANDARD
TZOFFSETFROM:+0200
TZOFFSETTO:+0100
TZNAME:CET
DTSTART:20191027T010000
END:STANDARD
BEGIN:DAYLIGHT
TZOFFSETFROM:+0100
TZOFFSETTO:+0200
TZNAME:CEST
DTSTART:20200329T010000
END:DAYLIGHT
BEGIN:STANDARD
TZOFFSETFROM:+0200
TZOFFSETTO:+0100
TZNAME:CET
DTSTART:20201025T010000
END:STANDARD
END:VTIMEZONE
BEGIN:VEVENT
DTSTART;TZID=Europe/Rome:20191018T100000
DTEND;TZID=Europe/Rome:20191027T230000
DTSTAMP:20260419T220623
CREATED:20191007T153935Z
LAST-MODIFIED:20191023T135408Z
UID:279718-1571392800-1572217200@www.eventiintoscana.it
SUMMARY:La Castagna in festa - Arcidosso (Grosseto)
DESCRIPTION:Da venerdì 18 a domenica 20 e da venerdì 25 a domenica 27 ottobre si tiene ad Arcidosso la Castagna in Fest\, tradizionale festa che promuove la castagna\, il frutto tipico di questi posti.\nL’evento è\, innanzitutto\, un momento di celebrazione della Castagna del Monte Amiata\, frutto che ha ottenuto il marchio di tutela IGP. Nei giorni della festa il borgo medievale di Arcidosso apre al pubblico le proprie cantine\, all’interno delle quali si susseguono degustazioni\, pranzi e cene con i piatti tipici della zona\, alcuni dei quali a base di castagne. \nLo stesso accade anche all’interno dello stand gastronomico della sagra che resta aperto sabato e domenica a pranzo e a cena. La festa propone inoltre altri momenti di aggregazione tra i quali spettacoli musicali e di ballo\, rievocazioni storiche e mercatini.
URL:https://www.eventiintoscana.it/evento/la-castagna-festa-arcidosso-grosseto-2
LOCATION:Luogo Senza Nome\, Arcidosso (Grosseto)
CATEGORIES:Grosseto,Rassegne e Sagre
ATTACH;FMTTYPE=image/jpeg:https://www.eventiintoscana.it/wp-content/uploads/2019/09/castagne1_pixabay-e1573545305802.jpg
END:VEVENT
END:VCALENDAR