BEGIN:VCALENDAR
VERSION:2.0
PRODID:-//Eventi in Toscana By Toscana Tascabile - ECPv6.15.12.2//NONSGML v1.0//EN
CALSCALE:GREGORIAN
METHOD:PUBLISH
X-WR-CALNAME:Eventi in Toscana By Toscana Tascabile
X-ORIGINAL-URL:https://www.eventiintoscana.it
X-WR-CALDESC:Eventi per Eventi in Toscana By Toscana Tascabile
REFRESH-INTERVAL;VALUE=DURATION:PT1H
X-Robots-Tag:noindex
X-PUBLISHED-TTL:PT1H
BEGIN:VTIMEZONE
TZID:Europe/Rome
BEGIN:DAYLIGHT
TZOFFSETFROM:+0100
TZOFFSETTO:+0200
TZNAME:CEST
DTSTART:20190331T010000
END:DAYLIGHT
BEGIN:STANDARD
TZOFFSETFROM:+0200
TZOFFSETTO:+0100
TZNAME:CET
DTSTART:20191027T010000
END:STANDARD
BEGIN:DAYLIGHT
TZOFFSETFROM:+0100
TZOFFSETTO:+0200
TZNAME:CEST
DTSTART:20200329T010000
END:DAYLIGHT
BEGIN:STANDARD
TZOFFSETFROM:+0200
TZOFFSETTO:+0100
TZNAME:CET
DTSTART:20201025T010000
END:STANDARD
BEGIN:DAYLIGHT
TZOFFSETFROM:+0100
TZOFFSETTO:+0200
TZNAME:CEST
DTSTART:20210328T010000
END:DAYLIGHT
BEGIN:STANDARD
TZOFFSETFROM:+0200
TZOFFSETTO:+0100
TZNAME:CET
DTSTART:20211031T010000
END:STANDARD
END:VTIMEZONE
BEGIN:VEVENT
DTSTART;TZID=Europe/Rome:20200216T153000
DTEND;TZID=Europe/Rome:20200216T190000
DTSTAMP:20260424T204045
CREATED:20200214T074843Z
LAST-MODIFIED:20200214T074843Z
UID:285514-1581867000-1581879600@www.eventiintoscana.it
SUMMARY:Jurassic Carnival - Gabbro (Rosignano M.mo\, Livorno)
DESCRIPTION:Domenica 16 ore 15.30 al Gabbro festa di Carnevale a tema Jurassic Park.\nA partire dalle 15.30 si terranno sfilata in maschera\, pentolaccia\, gimkana\, possibilità di farsi la foto con i dinosauri\, cavalli mascherati. \n\nSarò anche presente un banchetto di cibo con frati\, frittelle\, cenci\, scagliozzi di polenta\, Vin brulé e cioccolato calda.
URL:https://www.eventiintoscana.it/evento/jurassic-carnival-gabbro-rosignano-m-mo-livorno
CATEGORIES:Feste e Folklore,Livorno
ATTACH;FMTTYPE=image/jpeg:https://www.eventiintoscana.it/wp-content/uploads/2020/02/jurassic-carnival-gabbro.jpg
END:VEVENT
END:VCALENDAR