BEGIN:VCALENDAR
VERSION:2.0
PRODID:-//Eventi in Toscana By Toscana Tascabile - ECPv6.15.12.2//NONSGML v1.0//EN
CALSCALE:GREGORIAN
METHOD:PUBLISH
X-WR-CALNAME:Eventi in Toscana By Toscana Tascabile
X-ORIGINAL-URL:https://www.eventiintoscana.it
X-WR-CALDESC:Eventi per Eventi in Toscana By Toscana Tascabile
REFRESH-INTERVAL;VALUE=DURATION:PT1H
X-Robots-Tag:noindex
X-PUBLISHED-TTL:PT1H
BEGIN:VTIMEZONE
TZID:Europe/Rome
BEGIN:DAYLIGHT
TZOFFSETFROM:+0100
TZOFFSETTO:+0200
TZNAME:CEST
DTSTART:20190331T010000
END:DAYLIGHT
BEGIN:STANDARD
TZOFFSETFROM:+0200
TZOFFSETTO:+0100
TZNAME:CET
DTSTART:20191027T010000
END:STANDARD
BEGIN:DAYLIGHT
TZOFFSETFROM:+0100
TZOFFSETTO:+0200
TZNAME:CEST
DTSTART:20200329T010000
END:DAYLIGHT
BEGIN:STANDARD
TZOFFSETFROM:+0200
TZOFFSETTO:+0100
TZNAME:CET
DTSTART:20201025T010000
END:STANDARD
BEGIN:DAYLIGHT
TZOFFSETFROM:+0100
TZOFFSETTO:+0200
TZNAME:CEST
DTSTART:20210328T010000
END:DAYLIGHT
BEGIN:STANDARD
TZOFFSETFROM:+0200
TZOFFSETTO:+0100
TZNAME:CET
DTSTART:20211031T010000
END:STANDARD
END:VTIMEZONE
BEGIN:VEVENT
DTSTART;VALUE=DATE:20201112
DTEND;VALUE=DATE:20201204
DTSTAMP:20260423T154459
CREATED:20201112T152552Z
LAST-MODIFIED:20201112T152552Z
UID:288245-1605139200-1607039999@www.eventiintoscana.it
SUMMARY:#Io resto in Sala: come al cinema\, ma a casa. I film online del Cinema Stensen di Firenze
DESCRIPTION:#IorestoinSala è il circuito nazionale di cinema online che tenta di mantenere viva la sala in attesa della riapertura.\nAderendo all’iniziativa\, anche il Cinema Stensen di Firenze ha trasferito parte dell’offerta online. \nIl biglietto acquistato è valido per 30 giorni e il numero dei biglietti è limitato\, perchè la sala mantiene la capienza reale e idealmente la sua comunità territoriale. \nQUI la lista dei film online. \nQUI tutte le prevendite sul portale Liveticket.
URL:https://www.eventiintoscana.it/evento/io-resto-in-sala-come-al-cinema-ma-a-casa-i-film-online-del-cinema-stensen-di-firenze
CATEGORIES:arezzo,Firenze,Grosseto,Livorno,Lucca,Massa e Carrara,Mostra d'Arte,Pisa,Pistoia,Prato,Siena
ATTACH;FMTTYPE=image/jpeg:https://www.eventiintoscana.it/wp-content/uploads/2020/10/cinema_film_pixabay.jpg
END:VEVENT
END:VCALENDAR