BEGIN:VCALENDAR
VERSION:2.0
PRODID:-//Eventi in Toscana By Toscana Tascabile - ECPv6.15.12.2//NONSGML v1.0//EN
CALSCALE:GREGORIAN
METHOD:PUBLISH
X-ORIGINAL-URL:https://www.eventiintoscana.it
X-WR-CALDESC:Eventi per Eventi in Toscana By Toscana Tascabile
REFRESH-INTERVAL;VALUE=DURATION:PT1H
X-Robots-Tag:noindex
X-PUBLISHED-TTL:PT1H
BEGIN:VTIMEZONE
TZID:Europe/Rome
BEGIN:DAYLIGHT
TZOFFSETFROM:+0100
TZOFFSETTO:+0200
TZNAME:CEST
DTSTART:20170326T010000
END:DAYLIGHT
BEGIN:STANDARD
TZOFFSETFROM:+0200
TZOFFSETTO:+0100
TZNAME:CET
DTSTART:20171029T010000
END:STANDARD
BEGIN:DAYLIGHT
TZOFFSETFROM:+0100
TZOFFSETTO:+0200
TZNAME:CEST
DTSTART:20180325T010000
END:DAYLIGHT
BEGIN:STANDARD
TZOFFSETFROM:+0200
TZOFFSETTO:+0100
TZNAME:CET
DTSTART:20181028T010000
END:STANDARD
BEGIN:DAYLIGHT
TZOFFSETFROM:+0100
TZOFFSETTO:+0200
TZNAME:CEST
DTSTART:20190331T010000
END:DAYLIGHT
BEGIN:STANDARD
TZOFFSETFROM:+0200
TZOFFSETTO:+0100
TZNAME:CET
DTSTART:20191027T010000
END:STANDARD
END:VTIMEZONE
BEGIN:VEVENT
DTSTART;TZID=Europe/Rome:20181031T080000
DTEND;TZID=Europe/Rome:20181102T230000
DTSTAMP:20260422T013330
CREATED:20180920T214422Z
LAST-MODIFIED:20180920T215156Z
UID:271030-1540972800-1541199600@www.eventiintoscana.it
SUMMARY:Invito alla Villa Stregata - Artimino\, Carmignano (Prato)
DESCRIPTION:V edizione per ‘Invito alla Villa Stregata’\, manifestazione che dà appuntamento il 31 ottobre e l’ 1 e 2 novembre presso la Villa dei Cento Camini di Artimino.\n\n\n\n\n\n\n\nUn fantasmagorico percorso interattivo per famiglie in cui i partecipanti saranno protagonisti di una coinvolgente avventura itinerante\, nella meravigliosa villa medicea di Artimino\, accompagnati da esperti fantasmi e guide spettrali\, in un percorso a sorpresa tra cupi saloni e misteriosi corridoi\, prove di coraggio e abilità. \nUn susseguirsi di sussulti\, brividi e risate per un indimenticabile e felice trapasso di gruppo! \n— scarica la brochure— \nIngresso: euro17 a persona (adulti e bambini)\n\nAvventure itineranti di 1h30′ circa\, a rotazione a partire dal pomeriggio. \n \nPrenotazione obbligatoria online dal sito www.viaggiatorideltempo.it  \nGenitori solo se accompagnati.  Evento per bambini oltre i 6 anni. \n\n\n\n\n\n\n\n\nIn caso di maltempo l’evento non subirà variazioni.\nAmpio parcheggio nella villa. 
URL:https://www.eventiintoscana.it/evento/271030
LOCATION:Villa dei Cento Camini\, Artimino\, Carmignano (Prato)
CATEGORIES:Prato,Rassegne e Sagre
ATTACH;FMTTYPE=image/jpeg:https://www.eventiintoscana.it/wp-content/uploads/2018/09/Invito-alla-villa-stregata.jpg
END:VEVENT
END:VCALENDAR