BEGIN:VCALENDAR
VERSION:2.0
PRODID:-//Eventi in Toscana By Toscana Tascabile - ECPv6.15.12.2//NONSGML v1.0//EN
CALSCALE:GREGORIAN
METHOD:PUBLISH
X-ORIGINAL-URL:https://www.eventiintoscana.it
X-WR-CALDESC:Eventi per Eventi in Toscana By Toscana Tascabile
REFRESH-INTERVAL;VALUE=DURATION:PT1H
X-Robots-Tag:noindex
X-PUBLISHED-TTL:PT1H
BEGIN:VTIMEZONE
TZID:Europe/Rome
BEGIN:DAYLIGHT
TZOFFSETFROM:+0100
TZOFFSETTO:+0200
TZNAME:CEST
DTSTART:20190331T010000
END:DAYLIGHT
BEGIN:STANDARD
TZOFFSETFROM:+0200
TZOFFSETTO:+0100
TZNAME:CET
DTSTART:20191027T010000
END:STANDARD
BEGIN:DAYLIGHT
TZOFFSETFROM:+0100
TZOFFSETTO:+0200
TZNAME:CEST
DTSTART:20200329T010000
END:DAYLIGHT
BEGIN:STANDARD
TZOFFSETFROM:+0200
TZOFFSETTO:+0100
TZNAME:CET
DTSTART:20201025T010000
END:STANDARD
BEGIN:DAYLIGHT
TZOFFSETFROM:+0100
TZOFFSETTO:+0200
TZNAME:CEST
DTSTART:20210328T010000
END:DAYLIGHT
BEGIN:STANDARD
TZOFFSETFROM:+0200
TZOFFSETTO:+0100
TZNAME:CET
DTSTART:20211031T010000
END:STANDARD
END:VTIMEZONE
BEGIN:VEVENT
DTSTART;TZID=Europe/Rome:20200313T120000
DTEND;TZID=Europe/Rome:20200315T233000
DTSTAMP:20260420T020416
CREATED:20200302T081527Z
LAST-MODIFIED:20200310T114829Z
UID:285856-1584100800-1584315000@www.eventiintoscana.it
SUMMARY:---ANNULLATO--- International Street Food - Campo di Marte\, Arezzo
DESCRIPTION:Da venerdì 13 a domenica 15 marzo si tiene ad Arezzo l’International Street Food.\nStreet Food con cibi del mondo\, Birra Artigianale di microbirrifici d’Italia e dal mondo\, Eventi tutte le sere. \nOrari;:\nVenerdi 13 Marzo dalle 18:00 alle 24:00\nSabato 14 e Domenica 15 Marzo dalle 12:00 alle 24:00 \n*** \n347.5792556
URL:https://www.eventiintoscana.it/evento/international-street-food-campo-di-marte-arezzo
CATEGORIES:arezzo,Rassegne e Sagre
ATTACH;FMTTYPE=image/jpeg:https://www.eventiintoscana.it/wp-content/uploads/2020/03/international-street-food-arezzo.jpg
END:VEVENT
END:VCALENDAR