BEGIN:VCALENDAR
VERSION:2.0
PRODID:-//Eventi in Toscana By Toscana Tascabile - ECPv6.15.12.2//NONSGML v1.0//EN
CALSCALE:GREGORIAN
METHOD:PUBLISH
X-ORIGINAL-URL:https://www.eventiintoscana.it
X-WR-CALDESC:Eventi per Eventi in Toscana By Toscana Tascabile
REFRESH-INTERVAL;VALUE=DURATION:PT1H
X-Robots-Tag:noindex
X-PUBLISHED-TTL:PT1H
BEGIN:VTIMEZONE
TZID:Europe/Rome
BEGIN:DAYLIGHT
TZOFFSETFROM:+0100
TZOFFSETTO:+0200
TZNAME:CEST
DTSTART:20150329T010000
END:DAYLIGHT
BEGIN:STANDARD
TZOFFSETFROM:+0200
TZOFFSETTO:+0100
TZNAME:CET
DTSTART:20151025T010000
END:STANDARD
BEGIN:DAYLIGHT
TZOFFSETFROM:+0100
TZOFFSETTO:+0200
TZNAME:CEST
DTSTART:20160327T010000
END:DAYLIGHT
BEGIN:STANDARD
TZOFFSETFROM:+0200
TZOFFSETTO:+0100
TZNAME:CET
DTSTART:20161030T010000
END:STANDARD
BEGIN:DAYLIGHT
TZOFFSETFROM:+0100
TZOFFSETTO:+0200
TZNAME:CEST
DTSTART:20170326T010000
END:DAYLIGHT
BEGIN:STANDARD
TZOFFSETFROM:+0200
TZOFFSETTO:+0100
TZNAME:CET
DTSTART:20171029T010000
END:STANDARD
END:VTIMEZONE
BEGIN:VEVENT
DTSTART;TZID=Europe/Rome:20161022T110000
DTEND;TZID=Europe/Rome:20161022T170000
DTSTAMP:20260423T005013
CREATED:20161017T083029Z
LAST-MODIFIED:20161023T220212Z
UID:221128-1477134000-1477155600@www.eventiintoscana.it
SUMMARY:Inferno Run - Firenze
DESCRIPTION:Inferno Run è una corsa di circa 8 km con ostacoli naturali e artificiali. Appuntamento sabato 22 ottobre 2016 al Parco delle Cascine a Firenze. La partenza è prevista alle ore 11 circa; la corsa è aperta a donne e uomini maggiorenni vestiti come si vuole\, anche se ci saranno premi per i costumi. \nPrevisti poi\, per tutta la giornata\, intrattenimenti\, musica e animazione: la giornata infatti è adatta anche alle famiglie. Il percorso sarà in buona parte accessibile al pubblico ma per chi corre è necessario il certificato medico.\nCharity: Una parte del ricavato sarà donato alla FONDAZIONE TOMMASINO. \n\n\n 
URL:https://www.eventiintoscana.it/evento/inferno-run
CATEGORIES:Natura e Sport
ATTACH;FMTTYPE=image/jpeg:https://www.eventiintoscana.it/wp-content/uploads/2016/10/Inferno-Run.jpg
END:VEVENT
END:VCALENDAR