BEGIN:VCALENDAR
VERSION:2.0
PRODID:-//Eventi in Toscana By Toscana Tascabile - ECPv6.15.12.2//NONSGML v1.0//EN
CALSCALE:GREGORIAN
METHOD:PUBLISH
X-WR-CALNAME:Eventi in Toscana By Toscana Tascabile
X-ORIGINAL-URL:https://www.eventiintoscana.it
X-WR-CALDESC:Eventi per Eventi in Toscana By Toscana Tascabile
REFRESH-INTERVAL;VALUE=DURATION:PT1H
X-Robots-Tag:noindex
X-PUBLISHED-TTL:PT1H
BEGIN:VTIMEZONE
TZID:Europe/Rome
BEGIN:DAYLIGHT
TZOFFSETFROM:+0100
TZOFFSETTO:+0200
TZNAME:CEST
DTSTART:20150329T010000
END:DAYLIGHT
BEGIN:STANDARD
TZOFFSETFROM:+0200
TZOFFSETTO:+0100
TZNAME:CET
DTSTART:20151025T010000
END:STANDARD
BEGIN:DAYLIGHT
TZOFFSETFROM:+0100
TZOFFSETTO:+0200
TZNAME:CEST
DTSTART:20160327T010000
END:DAYLIGHT
BEGIN:STANDARD
TZOFFSETFROM:+0200
TZOFFSETTO:+0100
TZNAME:CET
DTSTART:20161030T010000
END:STANDARD
BEGIN:DAYLIGHT
TZOFFSETFROM:+0100
TZOFFSETTO:+0200
TZNAME:CEST
DTSTART:20170326T010000
END:DAYLIGHT
BEGIN:STANDARD
TZOFFSETFROM:+0200
TZOFFSETTO:+0100
TZNAME:CET
DTSTART:20171029T010000
END:STANDARD
END:VTIMEZONE
BEGIN:VEVENT
DTSTART;TZID=Europe/Rome:20161126T160000
DTEND;TZID=Europe/Rome:20161126T200000
DTSTAMP:20260420T043001
CREATED:20161118T094326Z
LAST-MODIFIED:20161118T094326Z
UID:225390-1480176000-1480190400@www.eventiintoscana.it
SUMMARY:ConsapevolMente. Narrazioni\, interviste e riflessioni in occasione della Giornata Mondiale contro la violenza sulle donne - Firenze
DESCRIPTION:Sabato 26 novembre alle ore 16.00 presso le Librerie Universitarie (via delle Pandette 14 – Firenze\, all’interno del Polo Universitario di Novoli) una giornata di narrazioni\, interviste e riflessioni in occasione della Giornata Mondiale contro la violenza sulle donne. \nIl programma: \n– Saluto istituzionale: Alessandra Manenti\, Vice Presidente del Quartiere 5 \n– “Il Volo spezzato” – Letture sul tema della violenza sulle donne: Serena Carresi\, Letizia D’Angelo\, Felicia Sorbo \n– “Odi et amo… Quare id faciam\, fortasse requiris” – Il coraggio di denunciare: Alessandra Rocca\, Coordinatrice donne Silp Cgil della Polizia di Stato \n-”Il lavoro dell’Associazione Artemisia nel contrasto alla violenza sulle donne\, i bambini e le bambine”: Interviene la Dottoressa Simona Gagliardi\, Associazione Artemisia  \n– Presentazione del romanzo “La corda sensibile” (Transeuropa Edizioni): Interviene Paola Boggi\, autrice \n– “Oltre il recinto” – Brano tratto dallo spettacolo teatrale “Donna in 3D” di Anna Crisci\, ispirato al libro “Meat Market\, Carne femminile sul banco del capitalismo” di Laurie Penny.\nCompagnia Teatrale I Fiori d’Acciaio \n– Presentazione dell’antologia “Il mestiere più antico del mondo” (Elliot Edizioni): Racconti di dacia Maraini\, Maurizio De Giovanni\, Marilù Oliva\, Romano De Marco\, Camilla Ghedini\, Alessandro Berselli\, Sara Bilotti\, Ilaria Palomba. Interviene Camilla Ghedini \n– “Il dono della paura” – Grazie all’ascolto dei propri istinti primordiali\, impariamo a trasformare le nostre paure in un efficace strumento di prevenzione e protezione personale. Fabio Bonciani\, Istruttore Senior – Associazione Difesa Donna (Milano) \n– “La violenza sulle donne: perché?” – Interviste per capire cosa cambiare\, dentro e fuori di noi. Francesca Desidera\, WhatPeopleThink – Blog Facebook  \nPer motivi organizzativi\, è gradito l’invio di una email di prenotazione a: info@librerieuniversitarie.com \n  \nModera l’incontro il gioralista Omero Cambi
URL:https://www.eventiintoscana.it/evento/consapevolmente-narrazioni-interviste-riflessioni-occasione-della-giornata-mondiale-la-violenza-sulle-donne-firenze
LOCATION:Librerie Universitarie\, Via delle Pandette 14\, Firenze\, Italia
ATTACH;FMTTYPE=image/png:https://www.eventiintoscana.it/wp-content/uploads/2016/11/Schermata-2016-11-18-a-10.42.32.png
ORGANIZER;CN="ConsapevolMente":MAILTO:consapevol.mente.fi@gmail.com
END:VEVENT
END:VCALENDAR